BEGIN:VCALENDAR
VERSION:2.0
PRODID:-//Klinkby Alt i Et Huset - ECPv5.16.3.1//NONSGML v1.0//EN
CALSCALE:GREGORIAN
METHOD:PUBLISH
X-ORIGINAL-URL:https://xn--klinkbyfllesside-1ob.dk
X-WR-CALDESC:Begivenheder for Klinkby Alt i Et Huset
REFRESH-INTERVAL;VALUE=DURATION:PT1H
X-Robots-Tag:noindex
X-PUBLISHED-TTL:PT1H
BEGIN:VTIMEZONE
TZID:Europe/Copenhagen
BEGIN:DAYLIGHT
TZOFFSETFROM:+0100
TZOFFSETTO:+0200
TZNAME:CEST
DTSTART:20220327T010000
END:DAYLIGHT
BEGIN:STANDARD
TZOFFSETFROM:+0200
TZOFFSETTO:+0100
TZNAME:CET
DTSTART:20221030T010000
END:STANDARD
BEGIN:DAYLIGHT
TZOFFSETFROM:+0100
TZOFFSETTO:+0200
TZNAME:CEST
DTSTART:20230326T010000
END:DAYLIGHT
BEGIN:STANDARD
TZOFFSETFROM:+0200
TZOFFSETTO:+0100
TZNAME:CET
DTSTART:20231029T010000
END:STANDARD
END:VTIMEZONE
BEGIN:VEVENT
DTSTART;TZID=Europe/Copenhagen:20220907T180000
DTEND;TZID=Europe/Copenhagen:20220907T193000
DTSTAMP:20260422T110515
CREATED:20220812T081548Z
LAST-MODIFIED:20220812T081548Z
UID:1490-1662573600-1662579000@xn--klinkbyfllesside-1ob.dk
SUMMARY:Fodboldkamp Kvinde C2 (+15) 7M Kortbane -	RLK	Vemb FS
DESCRIPTION:
URL:https://xn--klinkbyfllesside-1ob.dk/event/fodboldkamp-kvinde-c2-15-7m-kortbane-rlkvemb-fs/
LOCATION:Stadion\, Nejrupvej 2\, 7620 Lemvig\, Lemvig\, 7620\, Danmark
END:VEVENT
BEGIN:VEVENT
DTSTART;TZID=Europe/Copenhagen:20220911T133000
DTEND;TZID=Europe/Copenhagen:20220911T153000
DTSTAMP:20260422T110515
CREATED:20220812T081648Z
LAST-MODIFIED:20220812T081648Z
UID:1492-1662903000-1662910200@xn--klinkbyfllesside-1ob.dk
SUMMARY:Fodboldkamp Herrer Serie 4 -	RLK	Hjerm FIF (2)
DESCRIPTION:
URL:https://xn--klinkbyfllesside-1ob.dk/event/fodboldkamp-herrer-serie-4-rlkhjerm-fif-2/
LOCATION:Stadion\, Nejrupvej 2\, 7620 Lemvig\, Lemvig\, 7620\, Danmark
END:VEVENT
BEGIN:VEVENT
DTSTART;TZID=Europe/Copenhagen:20220914T180000
DTEND;TZID=Europe/Copenhagen:20220914T190000
DTSTAMP:20260422T110515
CREATED:20220812T081752Z
LAST-MODIFIED:20220812T081752Z
UID:1494-1663178400-1663182000@xn--klinkbyfllesside-1ob.dk
SUMMARY:Fodboldkamp	U11 Piger (12) 5M  RLK	Hover/Ølstrup
DESCRIPTION:
URL:https://xn--klinkbyfllesside-1ob.dk/event/fodboldkampu11-piger-12-5m-rlkhover-oelstrup/
LOCATION:Stadion\, Nejrupvej 2\, 7620 Lemvig\, Lemvig\, 7620\, Danmark
END:VEVENT
BEGIN:VEVENT
DTSTART;TZID=Europe/Copenhagen:20220916T190000
DTEND;TZID=Europe/Copenhagen:20220916T210000
DTSTAMP:20260422T110515
CREATED:20220812T081856Z
LAST-MODIFIED:20220812T081856Z
UID:1496-1663354800-1663362000@xn--klinkbyfllesside-1ob.dk
SUMMARY:Fodboldkamp Herrer Serie 4 - RLK	Team Tangen
DESCRIPTION:
URL:https://xn--klinkbyfllesside-1ob.dk/event/fodboldkamp-herrer-serie-4-rlkteam-tangen/
LOCATION:Stadion\, Nejrupvej 2\, 7620 Lemvig\, Lemvig\, 7620\, Danmark
END:VEVENT
BEGIN:VEVENT
DTSTART;TZID=Europe/Copenhagen:20220929T173000
DTEND;TZID=Europe/Copenhagen:20220929T190000
DTSTAMP:20260422T110515
CREATED:20220812T081958Z
LAST-MODIFIED:20220812T081958Z
UID:1498-1664472600-1664478000@xn--klinkbyfllesside-1ob.dk
SUMMARY:Fodboldkamp Kvinde C2 (+15) 7M Kortbane RLK	Lemvig GF
DESCRIPTION:
URL:https://xn--klinkbyfllesside-1ob.dk/event/fodboldkamp-kvinde-c2-15-7m-kortbane-rlklemvig-gf/
LOCATION:Stadion\, Nejrupvej 2\, 7620 Lemvig\, Lemvig\, 7620\, Danmark
END:VEVENT
BEGIN:VEVENT
DTSTART;TZID=Europe/Copenhagen:20230302T190000
DTEND;TZID=Europe/Copenhagen:20230302T203000
DTSTAMP:20260422T110515
CREATED:20230321T071555Z
LAST-MODIFIED:20230321T071555Z
UID:3228-1677783600-1677789000@xn--klinkbyfllesside-1ob.dk
SUMMARY:Senior Herre
DESCRIPTION:
URL:https://xn--klinkbyfllesside-1ob.dk/event/senior-herre/2023-03-02/
LOCATION:Stadion\, Nejrupvej 2\, 7620 Lemvig\, Lemvig\, 7620\, Danmark
END:VEVENT
BEGIN:VEVENT
DTSTART;TZID=Europe/Copenhagen:20230302T190000
DTEND;TZID=Europe/Copenhagen:20230302T203000
DTSTAMP:20260422T110515
CREATED:20230321T071450Z
LAST-MODIFIED:20230321T071450Z
UID:3208-1677783600-1677789000@xn--klinkbyfllesside-1ob.dk
SUMMARY:Fodbold senior damer
DESCRIPTION:
URL:https://xn--klinkbyfllesside-1ob.dk/event/fodbold-senior-damer/2023-03-02/
LOCATION:Stadion\, Nejrupvej 2\, 7620 Lemvig\, Lemvig\, 7620\, Danmark
END:VEVENT
BEGIN:VEVENT
DTSTART;TZID=Europe/Copenhagen:20230309T170000
DTEND;TZID=Europe/Copenhagen:20230309T183000
DTSTAMP:20260422T110515
CREATED:20230321T071326Z
LAST-MODIFIED:20230321T071326Z
UID:3190-1678381200-1678386600@xn--klinkbyfllesside-1ob.dk
SUMMARY:Fodbold U.13/14/15 Drenge
DESCRIPTION:
URL:https://xn--klinkbyfllesside-1ob.dk/event/fodbold-u-13-14-15-drenge/2023-03-09/
LOCATION:Stadion\, Nejrupvej 2\, 7620 Lemvig\, Lemvig\, 7620\, Danmark
END:VEVENT
BEGIN:VEVENT
DTSTART;TZID=Europe/Copenhagen:20230314T164500
DTEND;TZID=Europe/Copenhagen:20230314T180000
DTSTAMP:20260422T110515
CREATED:20230321T070937Z
LAST-MODIFIED:20230321T070937Z
UID:3173-1678812300-1678816800@xn--klinkbyfllesside-1ob.dk
SUMMARY:Fodbold U.9 Drenge
DESCRIPTION:
URL:https://xn--klinkbyfllesside-1ob.dk/event/fodbold-u-9-drenge/2023-03-14/
LOCATION:Stadion\, Nejrupvej 2\, 7620 Lemvig\, Lemvig\, 7620\, Danmark
END:VEVENT
BEGIN:VEVENT
DTSTART;TZID=Europe/Copenhagen:20230413T170000
DTEND;TZID=Europe/Copenhagen:20230413T180000
DTSTAMP:20260422T110515
CREATED:20230321T070509Z
LAST-MODIFIED:20230321T070515Z
UID:3148-1681405200-1681408800@xn--klinkbyfllesside-1ob.dk
SUMMARY:Fodbold U.9 Piger
DESCRIPTION:
URL:https://xn--klinkbyfllesside-1ob.dk/event/fodbold-u-9-piger/2023-04-13/
LOCATION:Stadion\, Nejrupvej 2\, 7620 Lemvig\, Lemvig\, 7620\, Danmark
END:VEVENT
BEGIN:VEVENT
DTSTART;TZID=Europe/Copenhagen:20230413T183000
DTEND;TZID=Europe/Copenhagen:20230413T193000
DTSTAMP:20260422T110515
CREATED:20230321T065332Z
LAST-MODIFIED:20230321T065332Z
UID:3104-1681410600-1681414200@xn--klinkbyfllesside-1ob.dk
SUMMARY:FodboldFitness
DESCRIPTION:
URL:https://xn--klinkbyfllesside-1ob.dk/event/fodboldfitness-2/2023-04-13/
LOCATION:Stadion\, Nejrupvej 2\, 7620 Lemvig\, Lemvig\, 7620\, Danmark
END:VEVENT
BEGIN:VEVENT
DTSTART;TZID=Europe/Copenhagen:20230427T170000
DTEND;TZID=Europe/Copenhagen:20230427T174500
DTSTAMP:20260422T110515
CREATED:20230321T070340Z
LAST-MODIFIED:20230321T070340Z
UID:3137-1682614800-1682617500@xn--klinkbyfllesside-1ob.dk
SUMMARY:Fodbold U.7/8 Mix
DESCRIPTION:
URL:https://xn--klinkbyfllesside-1ob.dk/event/fodbold-u-7-8-mix/2023-04-27/
LOCATION:Stadion\, Nejrupvej 2\, 7620 Lemvig\, Lemvig\, 7620\, Danmark
END:VEVENT
BEGIN:VEVENT
DTSTART;TZID=Europe/Copenhagen:20230502T161500
DTEND;TZID=Europe/Copenhagen:20230502T170000
DTSTAMP:20260422T110515
CREATED:20230321T070156Z
LAST-MODIFIED:20230321T070156Z
UID:3127-1683044100-1683046800@xn--klinkbyfllesside-1ob.dk
SUMMARY:Sjov\, bold og leg
DESCRIPTION:
URL:https://xn--klinkbyfllesside-1ob.dk/event/sjov-bold-og-leg-2/2023-05-02/
LOCATION:Stadion\, Nejrupvej 2\, 7620 Lemvig\, Lemvig\, 7620\, Danmark
END:VEVENT
BEGIN:VEVENT
DTSTART;TZID=Europe/Copenhagen:20230616T150000
DTEND;TZID=Europe/Copenhagen:20230616T180000
DTSTAMP:20260422T110515
CREATED:20230530T071417Z
LAST-MODIFIED:20230530T071520Z
UID:3278-1686927600-1686938400@xn--klinkbyfllesside-1ob.dk
SUMMARY:Fredagssjov
DESCRIPTION:
URL:https://xn--klinkbyfllesside-1ob.dk/event/fredagssjov-10/
LOCATION:Stadion\, Nejrupvej 2\, 7620 Lemvig\, Lemvig\, 7620\, Danmark
END:VEVENT
BEGIN:VEVENT
DTSTART;TZID=Europe/Copenhagen:20230801T183000
DTEND;TZID=Europe/Copenhagen:20230801T200000
DTSTAMP:20260422T110515
CREATED:20230810T052811Z
LAST-MODIFIED:20230810T052811Z
UID:3482-1690914600-1690920000@xn--klinkbyfllesside-1ob.dk
SUMMARY:Fodbold senior damer
DESCRIPTION:
URL:https://xn--klinkbyfllesside-1ob.dk/event/fodbold-senior-damer-2/2023-08-01/
LOCATION:Stadion\, Nejrupvej 2\, 7620 Lemvig\, Lemvig\, 7620\, Danmark
END:VEVENT
BEGIN:VEVENT
DTSTART;TZID=Europe/Copenhagen:20230803T183000
DTEND;TZID=Europe/Copenhagen:20230803T193000
DTSTAMP:20260422T110515
CREATED:20230809T112333Z
LAST-MODIFIED:20230809T112333Z
UID:3363-1691087400-1691091000@xn--klinkbyfllesside-1ob.dk
SUMMARY:Fodboldfitness
DESCRIPTION:Fodboldfitness v/ Susan Lyng\nKom til fitness\, hockey\, fodbold\, sjov og fællesskab. Alle kan være med uanset alder\, og om man har spillet bold før (kun for kvinder).
URL:https://xn--klinkbyfllesside-1ob.dk/event/fodboldfitness-3/2023-08-03/
LOCATION:Stadion\, Nejrupvej 2\, 7620 Lemvig\, Lemvig\, 7620\, Danmark
END:VEVENT
BEGIN:VEVENT
DTSTART;TZID=Europe/Copenhagen:20230803T190000
DTEND;TZID=Europe/Copenhagen:20230803T203000
DTSTAMP:20260422T110515
CREATED:20230810T053015Z
LAST-MODIFIED:20230810T053015Z
UID:3516-1691089200-1691094600@xn--klinkbyfllesside-1ob.dk
SUMMARY:Oldboys fodbold
DESCRIPTION:
URL:https://xn--klinkbyfllesside-1ob.dk/event/oldboys-fodbold/2023-08-03/
LOCATION:Stadion\, Nejrupvej 2\, 7620 Lemvig\, Lemvig\, 7620\, Danmark
END:VEVENT
BEGIN:VEVENT
DTSTART;TZID=Europe/Copenhagen:20230803T190000
DTEND;TZID=Europe/Copenhagen:20230803T203000
DTSTAMP:20260422T110515
CREATED:20230810T052913Z
LAST-MODIFIED:20230810T052913Z
UID:3499-1691089200-1691094600@xn--klinkbyfllesside-1ob.dk
SUMMARY:Fodbold senior herre
DESCRIPTION:
URL:https://xn--klinkbyfllesside-1ob.dk/event/fodbold-senior-herre/2023-08-03/
LOCATION:Stadion\, Nejrupvej 2\, 7620 Lemvig\, Lemvig\, 7620\, Danmark
END:VEVENT
BEGIN:VEVENT
DTSTART;TZID=Europe/Copenhagen:20230813T150000
DTEND;TZID=Europe/Copenhagen:20230813T170000
DTSTAMP:20260422T110515
CREATED:20230809T110014Z
LAST-MODIFIED:20230809T110014Z
UID:3312-1691938800-1691946000@xn--klinkbyfllesside-1ob.dk
SUMMARY:Fodboldkamp Herrer Serie 5 11M/9M - Efterår 2023 Pulje 125	RLK	Lemvig GF
DESCRIPTION:
URL:https://xn--klinkbyfllesside-1ob.dk/event/fodboldkamp-herrer-serie-5-11m-9m-efteraar-2023-pulje-125rlklemvig-gf/
LOCATION:Stadion\, Nejrupvej 2\, 7620 Lemvig\, Lemvig\, 7620\, Danmark
END:VEVENT
BEGIN:VEVENT
DTSTART;TZID=Europe/Copenhagen:20230814T190000
DTEND;TZID=Europe/Copenhagen:20230814T210000
DTSTAMP:20260422T110515
CREATED:20230809T110124Z
LAST-MODIFIED:20230809T110124Z
UID:3314-1692039600-1692046800@xn--klinkbyfllesside-1ob.dk
SUMMARY:Fodboldkamp Kvinder Serie 2 11M/9M - Efterår 2023 Pulje 270	RLK	Mejdal-Halgård Fodbold
DESCRIPTION:
URL:https://xn--klinkbyfllesside-1ob.dk/event/fodboldkamp-kvinder-serie-2-11m-9m-efteraar-2023-pulje-270rlkmejdal-halgaard-fodbold/
LOCATION:Stadion\, Nejrupvej 2\, 7620 Lemvig\, Lemvig\, 7620\, Danmark
END:VEVENT
BEGIN:VEVENT
DTSTART;TZID=Europe/Copenhagen:20230815T161500
DTEND;TZID=Europe/Copenhagen:20230815T170000
DTSTAMP:20260422T110515
CREATED:20230810T052339Z
LAST-MODIFIED:20230810T052339Z
UID:3449-1692116100-1692118800@xn--klinkbyfllesside-1ob.dk
SUMMARY:Sjov bold og leg
DESCRIPTION:
URL:https://xn--klinkbyfllesside-1ob.dk/event/sjov-bold-og-leg-3/2023-08-15/
LOCATION:Stadion\, Nejrupvej 2\, 7620 Lemvig\, Lemvig\, 7620\, Danmark
END:VEVENT
BEGIN:VEVENT
DTSTART;TZID=Europe/Copenhagen:20230815T173000
DTEND;TZID=Europe/Copenhagen:20230815T184500
DTSTAMP:20260422T110515
CREATED:20230810T052654Z
LAST-MODIFIED:20230810T052654Z
UID:3469-1692120600-1692125100@xn--klinkbyfllesside-1ob.dk
SUMMARY:Fodbold U.13-14-15 drenge
DESCRIPTION:
URL:https://xn--klinkbyfllesside-1ob.dk/event/fodbold-u-13-14-15-drenge-2/2023-08-15/
LOCATION:Stadion\, Nejrupvej 2\, 7620 Lemvig\, Lemvig\, 7620\, Danmark
END:VEVENT
BEGIN:VEVENT
DTSTART;TZID=Europe/Copenhagen:20230817T170000
DTEND;TZID=Europe/Copenhagen:20230817T180000
DTSTAMP:20260422T110515
CREATED:20230810T052504Z
LAST-MODIFIED:20230810T052504Z
UID:3459-1692291600-1692295200@xn--klinkbyfllesside-1ob.dk
SUMMARY:Fodbold U.7 Mix
DESCRIPTION:
URL:https://xn--klinkbyfllesside-1ob.dk/event/fodbold-u-7-mix/2023-08-17/
LOCATION:Stadion\, Nejrupvej 2\, 7620 Lemvig\, Lemvig\, 7620\, Danmark
END:VEVENT
BEGIN:VEVENT
DTSTART;TZID=Europe/Copenhagen:20230820T143000
DTEND;TZID=Europe/Copenhagen:20230820T163000
DTSTAMP:20260422T110515
CREATED:20230809T110225Z
LAST-MODIFIED:20230809T110225Z
UID:3316-1692541800-1692549000@xn--klinkbyfllesside-1ob.dk
SUMMARY:Fodboldkamp Herrer Serie 3 - Efterår 2023 Pulje 32	RLK	Holstebro B
DESCRIPTION:
URL:https://xn--klinkbyfllesside-1ob.dk/event/fodboldkamp-herrer-serie-3-efteraar-2023-pulje-32rlkholstebro-b/
LOCATION:Stadion\, Nejrupvej 2\, 7620 Lemvig\, Lemvig\, 7620\, Danmark
END:VEVENT
BEGIN:VEVENT
DTSTART;TZID=Europe/Copenhagen:20230821T190000
DTEND;TZID=Europe/Copenhagen:20230821T210000
DTSTAMP:20260422T110515
CREATED:20230809T110345Z
LAST-MODIFIED:20230809T110345Z
UID:3318-1692644400-1692651600@xn--klinkbyfllesside-1ob.dk
SUMMARY:Fodboldkamp Kvinder Serie 2 11M/9M - Efterår 2023 Pulje 270	RLK	Nr. Nissum Efterskole
DESCRIPTION:
URL:https://xn--klinkbyfllesside-1ob.dk/event/fodboldkamp-kvinder-serie-2-11m-9m-efteraar-2023-pulje-270rlknr-nissum-efterskole/
LOCATION:Stadion\, Nejrupvej 2\, 7620 Lemvig\, Lemvig\, 7620\, Danmark
END:VEVENT
BEGIN:VEVENT
DTSTART;TZID=Europe/Copenhagen:20230822T180000
DTEND;TZID=Europe/Copenhagen:20230822T193000
DTSTAMP:20260422T110515
CREATED:20230809T110444Z
LAST-MODIFIED:20230809T110444Z
UID:3320-1692727200-1692732600@xn--klinkbyfllesside-1ob.dk
SUMMARY:Fodboldkamp U14 Drenge Liga 3 (2010) 11M - efterår 2023 Pulje 623	RLK	Mejdal-Halgård Fodbold
DESCRIPTION:
URL:https://xn--klinkbyfllesside-1ob.dk/event/fodboldkamp-u14-drenge-liga-3-2010-11m-efteraar-2023-pulje-623rlkmejdal-halgaard-fodbold/
LOCATION:Stadion\, Nejrupvej 2\, 7620 Lemvig\, Lemvig\, 7620\, Danmark
END:VEVENT
BEGIN:VEVENT
DTSTART;TZID=Europe/Copenhagen:20230824T190000
DTEND;TZID=Europe/Copenhagen:20230824T210000
DTSTAMP:20260422T110515
CREATED:20230809T110608Z
LAST-MODIFIED:20230809T110608Z
UID:3322-1692903600-1692910800@xn--klinkbyfllesside-1ob.dk
SUMMARY:Fodboldkamp U16 Drenge C (08) 8M Kortbane - efterår 2023 Pulje 11	RLK	Brande IF
DESCRIPTION:
URL:https://xn--klinkbyfllesside-1ob.dk/event/fodboldkamp-u16-drenge-c-08-8m-kortbane-efteraar-2023-pulje-11rlkbrande-if/2023-08-24/
LOCATION:Stadion\, Nejrupvej 2\, 7620 Lemvig\, Lemvig\, 7620\, Danmark
END:VEVENT
BEGIN:VEVENT
DTSTART;TZID=Europe/Copenhagen:20230829T183000
DTEND;TZID=Europe/Copenhagen:20230829T203000
DTSTAMP:20260422T110515
CREATED:20230809T110707Z
LAST-MODIFIED:20230809T110707Z
UID:3324-1693333800-1693341000@xn--klinkbyfllesside-1ob.dk
SUMMARY:Fodboldkamp Herrer Serie 5 11M/9M - Efterår 2023 Pulje 125	RLK	Lidenlund B
DESCRIPTION:
URL:https://xn--klinkbyfllesside-1ob.dk/event/fodboldkamp-herrer-serie-5-11m-9m-efteraar-2023-pulje-125rlklidenlund-b/
LOCATION:Stadion\, Nejrupvej 2\, 7620 Lemvig\, Lemvig\, 7620\, Danmark
END:VEVENT
BEGIN:VEVENT
DTSTART;TZID=Europe/Copenhagen:20230830T173000
DTEND;TZID=Europe/Copenhagen:20230830T183000
DTSTAMP:20260422T110515
CREATED:20230823T112545Z
LAST-MODIFIED:20230823T112549Z
UID:4015-1693416600-1693420200@xn--klinkbyfllesside-1ob.dk
SUMMARY:Fodboldkampe
DESCRIPTION:Kl. 17.30 : u.8 piger 3 M RLK – Team Tangen\nKl. 17.50 : u.8 piger Team Tangen – Vinderup IK\nKl. 18.10 : u.8 piger RLK – Vinderup IK
URL:https://xn--klinkbyfllesside-1ob.dk/event/fodboldkampe-2/
LOCATION:Stadion\, Nejrupvej 2\, 7620 Lemvig\, Lemvig\, 7620\, Danmark
END:VEVENT
BEGIN:VEVENT
DTSTART;TZID=Europe/Copenhagen:20230909T100000
DTEND;TZID=Europe/Copenhagen:20230909T170000
DTSTAMP:20260422T110515
CREATED:20230809T111049Z
LAST-MODIFIED:20230809T111049Z
UID:3326-1694253600-1694278800@xn--klinkbyfllesside-1ob.dk
SUMMARY:Fodboldkampe
DESCRIPTION:Kl. 10:00	U10 Piger C (14) 5M – efterår 2023 Pulje 56	RLK (1)	RLK (2)\nKl. 10:00	U8 Drenge C1 (16) 5M – efterår 2023 Pulje 111	RLK (1)	Holstebro B (1)\nKl. 10:30	U14 Drenge Liga 3 (2010) 11M – efterår 2023 Pulje 623	RLK	Viborg FF\nKl. 10:40	U8 Drenge C1 (16) 5M – efterår 2023 Pulje 111	RLK (2)	Mejdal-Halgård Fodbold (1)\nKl. 11:30	U13 Piger C (11) 8M – efterår 2023 Pulje 152	RLK	Mejrup GU\nKl. 11:50	U16 Drenge C (08) 8M Kortbane – efterår 2023 Pulje 11	RLK	Tjørring IF\nKl. 13:00	Kvinder Serie 2 11M/9M – Efterår 2023 Pulje 270	RLK	Lemvig GF\nKl. 15:00	Herrer Serie 3 – Efterår 2023 Pulje 32	RLK	Hodsager UF
URL:https://xn--klinkbyfllesside-1ob.dk/event/fodboldkampe/
LOCATION:Stadion\, Nejrupvej 2\, 7620 Lemvig\, Lemvig\, 7620\, Danmark
END:VEVENT
END:VCALENDAR