BEGIN:VCALENDAR
VERSION:2.0
PRODID:-//Klinkby Alt i Et Huset - ECPv5.16.3.1//NONSGML v1.0//EN
CALSCALE:GREGORIAN
METHOD:PUBLISH
X-ORIGINAL-URL:https://xn--klinkbyfllesside-1ob.dk
X-WR-CALDESC:Begivenheder for Klinkby Alt i Et Huset
REFRESH-INTERVAL;VALUE=DURATION:PT1H
X-Robots-Tag:noindex
X-PUBLISHED-TTL:PT1H
BEGIN:VTIMEZONE
TZID:Europe/Copenhagen
BEGIN:DAYLIGHT
TZOFFSETFROM:+0100
TZOFFSETTO:+0200
TZNAME:CEST
DTSTART:20240331T010000
END:DAYLIGHT
BEGIN:STANDARD
TZOFFSETFROM:+0200
TZOFFSETTO:+0100
TZNAME:CET
DTSTART:20241027T010000
END:STANDARD
END:VTIMEZONE
BEGIN:VEVENT
DTSTART;TZID=Europe/Copenhagen:20240930T170000
DTEND;TZID=Europe/Copenhagen:20240930T174500
DTSTAMP:20260419T155454
CREATED:20240828T091550Z
LAST-MODIFIED:20240828T091550Z
UID:5879-1727715600-1727718300@xn--klinkbyfllesside-1ob.dk
SUMMARY:Forældre-Barn gymnastik
DESCRIPTION:
URL:https://xn--klinkbyfllesside-1ob.dk/event/foraeldre-barn-gymnastik-3/2024-09-30/
LOCATION:Multisalen\, Nejrupvej 2\, 7620 Lemvig\, Lemvig\, 7620\, Danmark
END:VEVENT
BEGIN:VEVENT
DTSTART;TZID=Europe/Copenhagen:20241001T161500
DTEND;TZID=Europe/Copenhagen:20241001T171500
DTSTAMP:20260419T155454
CREATED:20240828T091706Z
LAST-MODIFIED:20240828T091706Z
UID:5909-1727799300-1727802900@xn--klinkbyfllesside-1ob.dk
SUMMARY:Pusling Gymnastik
DESCRIPTION:
URL:https://xn--klinkbyfllesside-1ob.dk/event/pusling-gymnastik-2/2024-10-01/
LOCATION:Multisalen\, Nejrupvej 2\, 7620 Lemvig\, Lemvig\, 7620\, Danmark
END:VEVENT
BEGIN:VEVENT
DTSTART;TZID=Europe/Copenhagen:20241001T180000
DTEND;TZID=Europe/Copenhagen:20241001T185000
DTSTAMP:20260419T155454
CREATED:20240808T091036Z
LAST-MODIFIED:20240808T091036Z
UID:5508-1727805600-1727808600@xn--klinkbyfllesside-1ob.dk
SUMMARY:Hold med bold
DESCRIPTION:
URL:https://xn--klinkbyfllesside-1ob.dk/event/hold-med-bold/2024-10-01/
LOCATION:Multisalen\, Nejrupvej 2\, 7620 Lemvig\, Lemvig\, 7620\, Danmark
END:VEVENT
BEGIN:VEVENT
DTSTART;TZID=Europe/Copenhagen:20241002T161500
DTEND;TZID=Europe/Copenhagen:20241002T171500
DTSTAMP:20260419T155454
CREATED:20240828T091827Z
LAST-MODIFIED:20240828T091827Z
UID:5938-1727885700-1727889300@xn--klinkbyfllesside-1ob.dk
SUMMARY:Minimix Gymnastik
DESCRIPTION:
URL:https://xn--klinkbyfllesside-1ob.dk/event/minimix-gymnastik-2/2024-10-02/
LOCATION:Multisalen\, Nejrupvej 2\, 7620 Lemvig\, Lemvig\, 7620\, Danmark
END:VEVENT
BEGIN:VEVENT
DTSTART;TZID=Europe/Copenhagen:20241002T173000
DTEND;TZID=Europe/Copenhagen:20241002T183000
DTSTAMP:20260419T155454
CREATED:20240828T091955Z
LAST-MODIFIED:20240828T091955Z
UID:5967-1727890200-1727893800@xn--klinkbyfllesside-1ob.dk
SUMMARY:Juniormix Rytme Gymnastik
DESCRIPTION:
URL:https://xn--klinkbyfllesside-1ob.dk/event/juniormix-rytme-gymnastik-3/2024-10-02/
LOCATION:Multisalen\, Nejrupvej 2\, 7620 Lemvig\, Lemvig\, 7620\, Danmark
END:VEVENT
BEGIN:VEVENT
DTSTART;TZID=Europe/Copenhagen:20241002T183000
DTEND;TZID=Europe/Copenhagen:20241002T193000
DTSTAMP:20260419T155454
CREATED:20240828T092146Z
LAST-MODIFIED:20240828T092146Z
UID:5996-1727893800-1727897400@xn--klinkbyfllesside-1ob.dk
SUMMARY:Juniormix Spring Gymnastik
DESCRIPTION:
URL:https://xn--klinkbyfllesside-1ob.dk/event/juniormix-spring-gymnastik-2/2024-10-02/
LOCATION:Multisalen\, Nejrupvej 2\, 7620 Lemvig\, Lemvig\, 7620\, Danmark
END:VEVENT
BEGIN:VEVENT
DTSTART;TZID=Europe/Copenhagen:20241003T100000
DTEND;TZID=Europe/Copenhagen:20241003T110000
DTSTAMP:20260419T155454
CREATED:20240828T092529Z
LAST-MODIFIED:20240828T092606Z
UID:6050-1727949600-1727953200@xn--klinkbyfllesside-1ob.dk
SUMMARY:Aktiv torsdag
DESCRIPTION:
URL:https://xn--klinkbyfllesside-1ob.dk/event/aktiv-torsdag-3/2024-10-03/
LOCATION:Multisalen\, Nejrupvej 2\, 7620 Lemvig\, Lemvig\, 7620\, Danmark
END:VEVENT
BEGIN:VEVENT
DTSTART;TZID=Europe/Copenhagen:20241003T180000
DTEND;TZID=Europe/Copenhagen:20241003T185000
DTSTAMP:20260419T155454
CREATED:20240808T091151Z
LAST-MODIFIED:20240808T091151Z
UID:5517-1727978400-1727981400@xn--klinkbyfllesside-1ob.dk
SUMMARY:Mix Fitness
DESCRIPTION:
URL:https://xn--klinkbyfllesside-1ob.dk/event/mix-fitness-6/2024-10-03/
LOCATION:Multisalen\, Nejrupvej 2\, 7620 Lemvig\, Lemvig\, 7620\, Danmark
END:VEVENT
BEGIN:VEVENT
DTSTART;TZID=Europe/Copenhagen:20241007T170000
DTEND;TZID=Europe/Copenhagen:20241007T174500
DTSTAMP:20260419T155454
CREATED:20240828T091550Z
LAST-MODIFIED:20240828T091550Z
UID:5880-1728320400-1728323100@xn--klinkbyfllesside-1ob.dk
SUMMARY:Forældre-Barn gymnastik
DESCRIPTION:
URL:https://xn--klinkbyfllesside-1ob.dk/event/foraeldre-barn-gymnastik-3/2024-10-07/
LOCATION:Multisalen\, Nejrupvej 2\, 7620 Lemvig\, Lemvig\, 7620\, Danmark
END:VEVENT
BEGIN:VEVENT
DTSTART;TZID=Europe/Copenhagen:20241008T161500
DTEND;TZID=Europe/Copenhagen:20241008T171500
DTSTAMP:20260419T155454
CREATED:20240828T091706Z
LAST-MODIFIED:20240828T091706Z
UID:5910-1728404100-1728407700@xn--klinkbyfllesside-1ob.dk
SUMMARY:Pusling Gymnastik
DESCRIPTION:
URL:https://xn--klinkbyfllesside-1ob.dk/event/pusling-gymnastik-2/2024-10-08/
LOCATION:Multisalen\, Nejrupvej 2\, 7620 Lemvig\, Lemvig\, 7620\, Danmark
END:VEVENT
BEGIN:VEVENT
DTSTART;TZID=Europe/Copenhagen:20241008T180000
DTEND;TZID=Europe/Copenhagen:20241008T185000
DTSTAMP:20260419T155454
CREATED:20240808T091036Z
LAST-MODIFIED:20240808T091036Z
UID:5509-1728410400-1728413400@xn--klinkbyfllesside-1ob.dk
SUMMARY:Hold med bold
DESCRIPTION:
URL:https://xn--klinkbyfllesside-1ob.dk/event/hold-med-bold/2024-10-08/
LOCATION:Multisalen\, Nejrupvej 2\, 7620 Lemvig\, Lemvig\, 7620\, Danmark
END:VEVENT
BEGIN:VEVENT
DTSTART;TZID=Europe/Copenhagen:20241009T161500
DTEND;TZID=Europe/Copenhagen:20241009T171500
DTSTAMP:20260419T155454
CREATED:20240828T091827Z
LAST-MODIFIED:20240828T091827Z
UID:5939-1728490500-1728494100@xn--klinkbyfllesside-1ob.dk
SUMMARY:Minimix Gymnastik
DESCRIPTION:
URL:https://xn--klinkbyfllesside-1ob.dk/event/minimix-gymnastik-2/2024-10-09/
LOCATION:Multisalen\, Nejrupvej 2\, 7620 Lemvig\, Lemvig\, 7620\, Danmark
END:VEVENT
BEGIN:VEVENT
DTSTART;TZID=Europe/Copenhagen:20241009T173000
DTEND;TZID=Europe/Copenhagen:20241009T183000
DTSTAMP:20260419T155454
CREATED:20240828T091955Z
LAST-MODIFIED:20240828T091955Z
UID:5968-1728495000-1728498600@xn--klinkbyfllesside-1ob.dk
SUMMARY:Juniormix Rytme Gymnastik
DESCRIPTION:
URL:https://xn--klinkbyfllesside-1ob.dk/event/juniormix-rytme-gymnastik-3/2024-10-09/
LOCATION:Multisalen\, Nejrupvej 2\, 7620 Lemvig\, Lemvig\, 7620\, Danmark
END:VEVENT
BEGIN:VEVENT
DTSTART;TZID=Europe/Copenhagen:20241009T183000
DTEND;TZID=Europe/Copenhagen:20241009T193000
DTSTAMP:20260419T155454
CREATED:20240828T092146Z
LAST-MODIFIED:20240828T092146Z
UID:5997-1728498600-1728502200@xn--klinkbyfllesside-1ob.dk
SUMMARY:Juniormix Spring Gymnastik
DESCRIPTION:
URL:https://xn--klinkbyfllesside-1ob.dk/event/juniormix-spring-gymnastik-2/2024-10-09/
LOCATION:Multisalen\, Nejrupvej 2\, 7620 Lemvig\, Lemvig\, 7620\, Danmark
END:VEVENT
BEGIN:VEVENT
DTSTART;TZID=Europe/Copenhagen:20241010T100000
DTEND;TZID=Europe/Copenhagen:20241010T110000
DTSTAMP:20260419T155454
CREATED:20240828T092529Z
LAST-MODIFIED:20240828T092606Z
UID:6051-1728554400-1728558000@xn--klinkbyfllesside-1ob.dk
SUMMARY:Aktiv torsdag
DESCRIPTION:
URL:https://xn--klinkbyfllesside-1ob.dk/event/aktiv-torsdag-3/2024-10-10/
LOCATION:Multisalen\, Nejrupvej 2\, 7620 Lemvig\, Lemvig\, 7620\, Danmark
END:VEVENT
BEGIN:VEVENT
DTSTART;TZID=Europe/Copenhagen:20241010T180000
DTEND;TZID=Europe/Copenhagen:20241010T185000
DTSTAMP:20260419T155454
CREATED:20240808T091151Z
LAST-MODIFIED:20240808T091151Z
UID:5518-1728583200-1728586200@xn--klinkbyfllesside-1ob.dk
SUMMARY:Mix Fitness
DESCRIPTION:
URL:https://xn--klinkbyfllesside-1ob.dk/event/mix-fitness-6/2024-10-10/
LOCATION:Multisalen\, Nejrupvej 2\, 7620 Lemvig\, Lemvig\, 7620\, Danmark
END:VEVENT
BEGIN:VEVENT
DTSTART;TZID=Europe/Copenhagen:20241011T180000
DTEND;TZID=Europe/Copenhagen:20241011T220000
DTSTAMP:20260419T155454
CREATED:20240930T111733Z
LAST-MODIFIED:20240930T115931Z
UID:6244-1728669600-1728684000@xn--klinkbyfllesside-1ob.dk
SUMMARY:Fællesspisning
DESCRIPTION:
URL:https://xn--klinkbyfllesside-1ob.dk/event/faellesspisning-10/
LOCATION:Multisalen\, Nejrupvej 2\, 7620 Lemvig\, Lemvig\, 7620\, Danmark
END:VEVENT
BEGIN:VEVENT
DTSTART;TZID=Europe/Copenhagen:20241014T170000
DTEND;TZID=Europe/Copenhagen:20241014T174500
DTSTAMP:20260419T155454
CREATED:20240828T091550Z
LAST-MODIFIED:20240828T091550Z
UID:5881-1728925200-1728927900@xn--klinkbyfllesside-1ob.dk
SUMMARY:Forældre-Barn gymnastik
DESCRIPTION:
URL:https://xn--klinkbyfllesside-1ob.dk/event/foraeldre-barn-gymnastik-3/2024-10-14/
LOCATION:Multisalen\, Nejrupvej 2\, 7620 Lemvig\, Lemvig\, 7620\, Danmark
END:VEVENT
BEGIN:VEVENT
DTSTART;TZID=Europe/Copenhagen:20241015T161500
DTEND;TZID=Europe/Copenhagen:20241015T171500
DTSTAMP:20260419T155454
CREATED:20240828T091706Z
LAST-MODIFIED:20240828T091706Z
UID:5911-1729008900-1729012500@xn--klinkbyfllesside-1ob.dk
SUMMARY:Pusling Gymnastik
DESCRIPTION:
URL:https://xn--klinkbyfllesside-1ob.dk/event/pusling-gymnastik-2/2024-10-15/
LOCATION:Multisalen\, Nejrupvej 2\, 7620 Lemvig\, Lemvig\, 7620\, Danmark
END:VEVENT
BEGIN:VEVENT
DTSTART;TZID=Europe/Copenhagen:20241016T161500
DTEND;TZID=Europe/Copenhagen:20241016T171500
DTSTAMP:20260419T155454
CREATED:20240828T091827Z
LAST-MODIFIED:20240828T091827Z
UID:5940-1729095300-1729098900@xn--klinkbyfllesside-1ob.dk
SUMMARY:Minimix Gymnastik
DESCRIPTION:
URL:https://xn--klinkbyfllesside-1ob.dk/event/minimix-gymnastik-2/2024-10-16/
LOCATION:Multisalen\, Nejrupvej 2\, 7620 Lemvig\, Lemvig\, 7620\, Danmark
END:VEVENT
BEGIN:VEVENT
DTSTART;TZID=Europe/Copenhagen:20241016T173000
DTEND;TZID=Europe/Copenhagen:20241016T183000
DTSTAMP:20260419T155454
CREATED:20240828T091955Z
LAST-MODIFIED:20240828T091955Z
UID:5969-1729099800-1729103400@xn--klinkbyfllesside-1ob.dk
SUMMARY:Juniormix Rytme Gymnastik
DESCRIPTION:
URL:https://xn--klinkbyfllesside-1ob.dk/event/juniormix-rytme-gymnastik-3/2024-10-16/
LOCATION:Multisalen\, Nejrupvej 2\, 7620 Lemvig\, Lemvig\, 7620\, Danmark
END:VEVENT
BEGIN:VEVENT
DTSTART;TZID=Europe/Copenhagen:20241016T183000
DTEND;TZID=Europe/Copenhagen:20241016T193000
DTSTAMP:20260419T155454
CREATED:20240828T092146Z
LAST-MODIFIED:20240828T092146Z
UID:5998-1729103400-1729107000@xn--klinkbyfllesside-1ob.dk
SUMMARY:Juniormix Spring Gymnastik
DESCRIPTION:
URL:https://xn--klinkbyfllesside-1ob.dk/event/juniormix-spring-gymnastik-2/2024-10-16/
LOCATION:Multisalen\, Nejrupvej 2\, 7620 Lemvig\, Lemvig\, 7620\, Danmark
END:VEVENT
BEGIN:VEVENT
DTSTART;TZID=Europe/Copenhagen:20241017T100000
DTEND;TZID=Europe/Copenhagen:20241017T110000
DTSTAMP:20260419T155454
CREATED:20240828T092529Z
LAST-MODIFIED:20240828T092606Z
UID:6052-1729159200-1729162800@xn--klinkbyfllesside-1ob.dk
SUMMARY:Aktiv torsdag
DESCRIPTION:
URL:https://xn--klinkbyfllesside-1ob.dk/event/aktiv-torsdag-3/2024-10-17/
LOCATION:Multisalen\, Nejrupvej 2\, 7620 Lemvig\, Lemvig\, 7620\, Danmark
END:VEVENT
BEGIN:VEVENT
DTSTART;TZID=Europe/Copenhagen:20241021T170000
DTEND;TZID=Europe/Copenhagen:20241021T174500
DTSTAMP:20260419T155454
CREATED:20240828T091550Z
LAST-MODIFIED:20240828T091550Z
UID:5882-1729530000-1729532700@xn--klinkbyfllesside-1ob.dk
SUMMARY:Forældre-Barn gymnastik
DESCRIPTION:
URL:https://xn--klinkbyfllesside-1ob.dk/event/foraeldre-barn-gymnastik-3/2024-10-21/
LOCATION:Multisalen\, Nejrupvej 2\, 7620 Lemvig\, Lemvig\, 7620\, Danmark
END:VEVENT
BEGIN:VEVENT
DTSTART;TZID=Europe/Copenhagen:20241021T180000
DTEND;TZID=Europe/Copenhagen:20241021T185000
DTSTAMP:20260419T155454
CREATED:20240808T092143Z
LAST-MODIFIED:20240808T092143Z
UID:5565-1729533600-1729536600@xn--klinkbyfllesside-1ob.dk
SUMMARY:Puls og Power
DESCRIPTION:
URL:https://xn--klinkbyfllesside-1ob.dk/event/puls-og-power-7/2024-10-21/
LOCATION:Multisalen\, Nejrupvej 2\, 7620 Lemvig\, Lemvig\, 7620\, Danmark
END:VEVENT
BEGIN:VEVENT
DTSTART;TZID=Europe/Copenhagen:20241021T190000
DTEND;TZID=Europe/Copenhagen:20241021T200000
DTSTAMP:20260419T155454
CREATED:20240828T092323Z
LAST-MODIFIED:20240828T092323Z
UID:6022-1729537200-1729540800@xn--klinkbyfllesside-1ob.dk
SUMMARY:Herre Gymnastik
DESCRIPTION:
URL:https://xn--klinkbyfllesside-1ob.dk/event/herre-gymnastik-4/2024-10-21/
LOCATION:Multisalen\, Nejrupvej 2\, 7620 Lemvig\, Lemvig\, 7620\, Danmark
END:VEVENT
BEGIN:VEVENT
DTSTART;TZID=Europe/Copenhagen:20241022T161500
DTEND;TZID=Europe/Copenhagen:20241022T171500
DTSTAMP:20260419T155454
CREATED:20240828T091706Z
LAST-MODIFIED:20240828T091706Z
UID:5912-1729613700-1729617300@xn--klinkbyfllesside-1ob.dk
SUMMARY:Pusling Gymnastik
DESCRIPTION:
URL:https://xn--klinkbyfllesside-1ob.dk/event/pusling-gymnastik-2/2024-10-22/
LOCATION:Multisalen\, Nejrupvej 2\, 7620 Lemvig\, Lemvig\, 7620\, Danmark
END:VEVENT
BEGIN:VEVENT
DTSTART;TZID=Europe/Copenhagen:20241022T180000
DTEND;TZID=Europe/Copenhagen:20241022T185000
DTSTAMP:20260419T155454
CREATED:20240808T091424Z
LAST-MODIFIED:20240808T091959Z
UID:5538-1729620000-1729623000@xn--klinkbyfllesside-1ob.dk
SUMMARY:Hold med bold
DESCRIPTION:
URL:https://xn--klinkbyfllesside-1ob.dk/event/puls-og-power-6/2024-10-22/
LOCATION:Multisalen\, Nejrupvej 2\, 7620 Lemvig\, Lemvig\, 7620\, Danmark
END:VEVENT
BEGIN:VEVENT
DTSTART;TZID=Europe/Copenhagen:20241023T161500
DTEND;TZID=Europe/Copenhagen:20241023T171500
DTSTAMP:20260419T155454
CREATED:20240828T091827Z
LAST-MODIFIED:20240828T091827Z
UID:5941-1729700100-1729703700@xn--klinkbyfllesside-1ob.dk
SUMMARY:Minimix Gymnastik
DESCRIPTION:
URL:https://xn--klinkbyfllesside-1ob.dk/event/minimix-gymnastik-2/2024-10-23/
LOCATION:Multisalen\, Nejrupvej 2\, 7620 Lemvig\, Lemvig\, 7620\, Danmark
END:VEVENT
BEGIN:VEVENT
DTSTART;TZID=Europe/Copenhagen:20241023T173000
DTEND;TZID=Europe/Copenhagen:20241023T183000
DTSTAMP:20260419T155454
CREATED:20240828T091955Z
LAST-MODIFIED:20240828T091955Z
UID:5970-1729704600-1729708200@xn--klinkbyfllesside-1ob.dk
SUMMARY:Juniormix Rytme Gymnastik
DESCRIPTION:
URL:https://xn--klinkbyfllesside-1ob.dk/event/juniormix-rytme-gymnastik-3/2024-10-23/
LOCATION:Multisalen\, Nejrupvej 2\, 7620 Lemvig\, Lemvig\, 7620\, Danmark
END:VEVENT
END:VCALENDAR