BEGIN:VCALENDAR
VERSION:2.0
PRODID:-//Klinkby Alt i Et Huset - ECPv5.16.3.1//NONSGML v1.0//EN
CALSCALE:GREGORIAN
METHOD:PUBLISH
X-WR-CALNAME:Klinkby Alt i Et Huset
X-ORIGINAL-URL:https://xn--klinkbyfllesside-1ob.dk
X-WR-CALDESC:Begivenheder for Klinkby Alt i Et Huset
REFRESH-INTERVAL;VALUE=DURATION:PT1H
X-Robots-Tag:noindex
X-PUBLISHED-TTL:PT1H
BEGIN:VTIMEZONE
TZID:Europe/Copenhagen
BEGIN:DAYLIGHT
TZOFFSETFROM:+0100
TZOFFSETTO:+0200
TZNAME:CEST
DTSTART:20240331T010000
END:DAYLIGHT
BEGIN:STANDARD
TZOFFSETFROM:+0200
TZOFFSETTO:+0100
TZNAME:CET
DTSTART:20241027T010000
END:STANDARD
END:VTIMEZONE
BEGIN:VEVENT
DTSTART;TZID=Europe/Copenhagen:20241125T190000
DTEND;TZID=Europe/Copenhagen:20241125T200000
DTSTAMP:20260420T055155
CREATED:20240828T092323Z
LAST-MODIFIED:20240828T092323Z
UID:6028-1732561200-1732564800@xn--klinkbyfllesside-1ob.dk
SUMMARY:Herre Gymnastik
DESCRIPTION:
URL:https://xn--klinkbyfllesside-1ob.dk/event/herre-gymnastik-4/2024-11-25/
LOCATION:Multisalen\, Nejrupvej 2\, 7620 Lemvig\, Lemvig\, 7620\, Danmark
END:VEVENT
BEGIN:VEVENT
DTSTART;TZID=Europe/Copenhagen:20241126T161500
DTEND;TZID=Europe/Copenhagen:20241126T171500
DTSTAMP:20260420T055155
CREATED:20240828T091706Z
LAST-MODIFIED:20240828T091706Z
UID:5917-1732637700-1732641300@xn--klinkbyfllesside-1ob.dk
SUMMARY:Pusling Gymnastik
DESCRIPTION:
URL:https://xn--klinkbyfllesside-1ob.dk/event/pusling-gymnastik-2/2024-11-26/
LOCATION:Multisalen\, Nejrupvej 2\, 7620 Lemvig\, Lemvig\, 7620\, Danmark
END:VEVENT
BEGIN:VEVENT
DTSTART;TZID=Europe/Copenhagen:20241126T180000
DTEND;TZID=Europe/Copenhagen:20241126T185000
DTSTAMP:20260420T055155
CREATED:20240808T091424Z
LAST-MODIFIED:20240808T091424Z
UID:5561-1732644000-1732647000@xn--klinkbyfllesside-1ob.dk
SUMMARY:Hold med bold
DESCRIPTION:
URL:https://xn--klinkbyfllesside-1ob.dk/event/puls-og-power-6/2024-11-26/
LOCATION:Multisalen\, Nejrupvej 2\, 7620 Lemvig\, Lemvig\, 7620\, Danmark
END:VEVENT
BEGIN:VEVENT
DTSTART;TZID=Europe/Copenhagen:20241127T161500
DTEND;TZID=Europe/Copenhagen:20241127T171500
DTSTAMP:20260420T055155
CREATED:20240828T091827Z
LAST-MODIFIED:20240828T091827Z
UID:5946-1732724100-1732727700@xn--klinkbyfllesside-1ob.dk
SUMMARY:Minimix Gymnastik
DESCRIPTION:
URL:https://xn--klinkbyfllesside-1ob.dk/event/minimix-gymnastik-2/2024-11-27/
LOCATION:Multisalen\, Nejrupvej 2\, 7620 Lemvig\, Lemvig\, 7620\, Danmark
END:VEVENT
BEGIN:VEVENT
DTSTART;TZID=Europe/Copenhagen:20241127T173000
DTEND;TZID=Europe/Copenhagen:20241127T183000
DTSTAMP:20260420T055155
CREATED:20240828T091955Z
LAST-MODIFIED:20240828T091955Z
UID:5975-1732728600-1732732200@xn--klinkbyfllesside-1ob.dk
SUMMARY:Juniormix Rytme Gymnastik
DESCRIPTION:
URL:https://xn--klinkbyfllesside-1ob.dk/event/juniormix-rytme-gymnastik-3/2024-11-27/
LOCATION:Multisalen\, Nejrupvej 2\, 7620 Lemvig\, Lemvig\, 7620\, Danmark
END:VEVENT
BEGIN:VEVENT
DTSTART;TZID=Europe/Copenhagen:20241127T183000
DTEND;TZID=Europe/Copenhagen:20241127T193000
DTSTAMP:20260420T055155
CREATED:20240828T092146Z
LAST-MODIFIED:20240828T092146Z
UID:6004-1732732200-1732735800@xn--klinkbyfllesside-1ob.dk
SUMMARY:Juniormix Spring Gymnastik
DESCRIPTION:
URL:https://xn--klinkbyfllesside-1ob.dk/event/juniormix-spring-gymnastik-2/2024-11-27/
LOCATION:Multisalen\, Nejrupvej 2\, 7620 Lemvig\, Lemvig\, 7620\, Danmark
END:VEVENT
BEGIN:VEVENT
DTSTART;TZID=Europe/Copenhagen:20241128T100000
DTEND;TZID=Europe/Copenhagen:20241128T110000
DTSTAMP:20260420T055155
CREATED:20240828T092529Z
LAST-MODIFIED:20240828T092608Z
UID:6058-1732788000-1732791600@xn--klinkbyfllesside-1ob.dk
SUMMARY:Aktiv torsdag
DESCRIPTION:
URL:https://xn--klinkbyfllesside-1ob.dk/event/aktiv-torsdag-3/2024-11-28/
LOCATION:Multisalen\, Nejrupvej 2\, 7620 Lemvig\, Lemvig\, 7620\, Danmark
END:VEVENT
BEGIN:VEVENT
DTSTART;TZID=Europe/Copenhagen:20241128T180000
DTEND;TZID=Europe/Copenhagen:20241128T185000
DTSTAMP:20260420T055155
CREATED:20240808T092317Z
LAST-MODIFIED:20240808T092317Z
UID:6339-1732816800-1732819800@xn--klinkbyfllesside-1ob.dk
SUMMARY:Mix fitness
DESCRIPTION:
URL:https://xn--klinkbyfllesside-1ob.dk/event/bodyburn/2024-11-28/
LOCATION:Multisalen\, Nejrupvej 2\, 7620 Lemvig\, Lemvig\, 7620\, Danmark
END:VEVENT
BEGIN:VEVENT
DTSTART;TZID=Europe/Copenhagen:20241128T193000
DTEND;TZID=Europe/Copenhagen:20241128T193000
DTSTAMP:20260420T055155
CREATED:20240808T092406Z
LAST-MODIFIED:20240808T092406Z
UID:5591-1732822200-1732822200@xn--klinkbyfllesside-1ob.dk
SUMMARY:Herrefit
DESCRIPTION:
URL:https://xn--klinkbyfllesside-1ob.dk/event/herrefit-3/2024-11-28/
LOCATION:Multisalen\, Nejrupvej 2\, 7620 Lemvig\, Lemvig\, 7620\, Danmark
END:VEVENT
BEGIN:VEVENT
DTSTART;TZID=Europe/Copenhagen:20241202T170000
DTEND;TZID=Europe/Copenhagen:20241202T174500
DTSTAMP:20260420T055155
CREATED:20240828T091550Z
LAST-MODIFIED:20240828T091550Z
UID:5888-1733158800-1733161500@xn--klinkbyfllesside-1ob.dk
SUMMARY:Forældre-Barn gymnastik
DESCRIPTION:
URL:https://xn--klinkbyfllesside-1ob.dk/event/foraeldre-barn-gymnastik-3/2024-12-02/
LOCATION:Multisalen\, Nejrupvej 2\, 7620 Lemvig\, Lemvig\, 7620\, Danmark
END:VEVENT
BEGIN:VEVENT
DTSTART;TZID=Europe/Copenhagen:20241202T180000
DTEND;TZID=Europe/Copenhagen:20241202T185000
DTSTAMP:20260420T055155
CREATED:20240808T092143Z
LAST-MODIFIED:20240808T092143Z
UID:5572-1733162400-1733165400@xn--klinkbyfllesside-1ob.dk
SUMMARY:Puls og Power
DESCRIPTION:
URL:https://xn--klinkbyfllesside-1ob.dk/event/puls-og-power-7/2024-12-02/
LOCATION:Multisalen\, Nejrupvej 2\, 7620 Lemvig\, Lemvig\, 7620\, Danmark
END:VEVENT
BEGIN:VEVENT
DTSTART;TZID=Europe/Copenhagen:20241202T190000
DTEND;TZID=Europe/Copenhagen:20241202T200000
DTSTAMP:20260420T055155
CREATED:20240828T092323Z
LAST-MODIFIED:20240828T092323Z
UID:6029-1733166000-1733169600@xn--klinkbyfllesside-1ob.dk
SUMMARY:Herre Gymnastik
DESCRIPTION:
URL:https://xn--klinkbyfllesside-1ob.dk/event/herre-gymnastik-4/2024-12-02/
LOCATION:Multisalen\, Nejrupvej 2\, 7620 Lemvig\, Lemvig\, 7620\, Danmark
END:VEVENT
BEGIN:VEVENT
DTSTART;TZID=Europe/Copenhagen:20241203T161500
DTEND;TZID=Europe/Copenhagen:20241203T171500
DTSTAMP:20260420T055155
CREATED:20240828T091706Z
LAST-MODIFIED:20240828T091706Z
UID:5918-1733242500-1733246100@xn--klinkbyfllesside-1ob.dk
SUMMARY:Pusling Gymnastik
DESCRIPTION:
URL:https://xn--klinkbyfllesside-1ob.dk/event/pusling-gymnastik-2/2024-12-03/
LOCATION:Multisalen\, Nejrupvej 2\, 7620 Lemvig\, Lemvig\, 7620\, Danmark
END:VEVENT
BEGIN:VEVENT
DTSTART;TZID=Europe/Copenhagen:20241203T180000
DTEND;TZID=Europe/Copenhagen:20241203T185000
DTSTAMP:20260420T055155
CREATED:20240808T091424Z
LAST-MODIFIED:20240808T091424Z
UID:5562-1733248800-1733251800@xn--klinkbyfllesside-1ob.dk
SUMMARY:Hold med bold
DESCRIPTION:
URL:https://xn--klinkbyfllesside-1ob.dk/event/puls-og-power-6/2024-12-03/
LOCATION:Multisalen\, Nejrupvej 2\, 7620 Lemvig\, Lemvig\, 7620\, Danmark
END:VEVENT
BEGIN:VEVENT
DTSTART;TZID=Europe/Copenhagen:20241204T161500
DTEND;TZID=Europe/Copenhagen:20241204T171500
DTSTAMP:20260420T055155
CREATED:20240828T091827Z
LAST-MODIFIED:20240828T091827Z
UID:5947-1733328900-1733332500@xn--klinkbyfllesside-1ob.dk
SUMMARY:Minimix Gymnastik
DESCRIPTION:
URL:https://xn--klinkbyfllesside-1ob.dk/event/minimix-gymnastik-2/2024-12-04/
LOCATION:Multisalen\, Nejrupvej 2\, 7620 Lemvig\, Lemvig\, 7620\, Danmark
END:VEVENT
BEGIN:VEVENT
DTSTART;TZID=Europe/Copenhagen:20241204T173000
DTEND;TZID=Europe/Copenhagen:20241204T183000
DTSTAMP:20260420T055155
CREATED:20240828T091955Z
LAST-MODIFIED:20240828T091955Z
UID:5976-1733333400-1733337000@xn--klinkbyfllesside-1ob.dk
SUMMARY:Juniormix Rytme Gymnastik
DESCRIPTION:
URL:https://xn--klinkbyfllesside-1ob.dk/event/juniormix-rytme-gymnastik-3/2024-12-04/
LOCATION:Multisalen\, Nejrupvej 2\, 7620 Lemvig\, Lemvig\, 7620\, Danmark
END:VEVENT
BEGIN:VEVENT
DTSTART;TZID=Europe/Copenhagen:20241204T183000
DTEND;TZID=Europe/Copenhagen:20241204T193000
DTSTAMP:20260420T055155
CREATED:20240828T092146Z
LAST-MODIFIED:20240828T092146Z
UID:6005-1733337000-1733340600@xn--klinkbyfllesside-1ob.dk
SUMMARY:Juniormix Spring Gymnastik
DESCRIPTION:
URL:https://xn--klinkbyfllesside-1ob.dk/event/juniormix-spring-gymnastik-2/2024-12-04/
LOCATION:Multisalen\, Nejrupvej 2\, 7620 Lemvig\, Lemvig\, 7620\, Danmark
END:VEVENT
BEGIN:VEVENT
DTSTART;TZID=Europe/Copenhagen:20241205T100000
DTEND;TZID=Europe/Copenhagen:20241205T110000
DTSTAMP:20260420T055155
CREATED:20240828T092529Z
LAST-MODIFIED:20240828T092609Z
UID:6059-1733392800-1733396400@xn--klinkbyfllesside-1ob.dk
SUMMARY:Aktiv torsdag
DESCRIPTION:
URL:https://xn--klinkbyfllesside-1ob.dk/event/aktiv-torsdag-3/2024-12-05/
LOCATION:Multisalen\, Nejrupvej 2\, 7620 Lemvig\, Lemvig\, 7620\, Danmark
END:VEVENT
BEGIN:VEVENT
DTSTART;TZID=Europe/Copenhagen:20241205T180000
DTEND;TZID=Europe/Copenhagen:20241205T185000
DTSTAMP:20260420T055155
CREATED:20240808T092317Z
LAST-MODIFIED:20240808T092317Z
UID:6340-1733421600-1733424600@xn--klinkbyfllesside-1ob.dk
SUMMARY:Mix fitness
DESCRIPTION:
URL:https://xn--klinkbyfllesside-1ob.dk/event/bodyburn/2024-12-05/
LOCATION:Multisalen\, Nejrupvej 2\, 7620 Lemvig\, Lemvig\, 7620\, Danmark
END:VEVENT
BEGIN:VEVENT
DTSTART;TZID=Europe/Copenhagen:20241205T193000
DTEND;TZID=Europe/Copenhagen:20241205T193000
DTSTAMP:20260420T055155
CREATED:20240808T092406Z
LAST-MODIFIED:20240808T092406Z
UID:5592-1733427000-1733427000@xn--klinkbyfllesside-1ob.dk
SUMMARY:Herrefit
DESCRIPTION:
URL:https://xn--klinkbyfllesside-1ob.dk/event/herrefit-3/2024-12-05/
LOCATION:Multisalen\, Nejrupvej 2\, 7620 Lemvig\, Lemvig\, 7620\, Danmark
END:VEVENT
BEGIN:VEVENT
DTSTART;TZID=Europe/Copenhagen:20241209T170000
DTEND;TZID=Europe/Copenhagen:20241209T174500
DTSTAMP:20260420T055155
CREATED:20240828T091550Z
LAST-MODIFIED:20240828T091550Z
UID:5889-1733763600-1733766300@xn--klinkbyfllesside-1ob.dk
SUMMARY:Forældre-Barn gymnastik
DESCRIPTION:
URL:https://xn--klinkbyfllesside-1ob.dk/event/foraeldre-barn-gymnastik-3/2024-12-09/
LOCATION:Multisalen\, Nejrupvej 2\, 7620 Lemvig\, Lemvig\, 7620\, Danmark
END:VEVENT
BEGIN:VEVENT
DTSTART;TZID=Europe/Copenhagen:20241209T180000
DTEND;TZID=Europe/Copenhagen:20241209T185000
DTSTAMP:20260420T055155
CREATED:20240808T092143Z
LAST-MODIFIED:20240808T092143Z
UID:5573-1733767200-1733770200@xn--klinkbyfllesside-1ob.dk
SUMMARY:Puls og Power
DESCRIPTION:
URL:https://xn--klinkbyfllesside-1ob.dk/event/puls-og-power-7/2024-12-09/
LOCATION:Multisalen\, Nejrupvej 2\, 7620 Lemvig\, Lemvig\, 7620\, Danmark
END:VEVENT
BEGIN:VEVENT
DTSTART;TZID=Europe/Copenhagen:20241209T190000
DTEND;TZID=Europe/Copenhagen:20241209T200000
DTSTAMP:20260420T055155
CREATED:20240828T092323Z
LAST-MODIFIED:20240828T092323Z
UID:6030-1733770800-1733774400@xn--klinkbyfllesside-1ob.dk
SUMMARY:Herre Gymnastik
DESCRIPTION:
URL:https://xn--klinkbyfllesside-1ob.dk/event/herre-gymnastik-4/2024-12-09/
LOCATION:Multisalen\, Nejrupvej 2\, 7620 Lemvig\, Lemvig\, 7620\, Danmark
END:VEVENT
BEGIN:VEVENT
DTSTART;TZID=Europe/Copenhagen:20241210T161500
DTEND;TZID=Europe/Copenhagen:20241210T171500
DTSTAMP:20260420T055155
CREATED:20240828T091706Z
LAST-MODIFIED:20240828T091706Z
UID:5919-1733847300-1733850900@xn--klinkbyfllesside-1ob.dk
SUMMARY:Pusling Gymnastik
DESCRIPTION:
URL:https://xn--klinkbyfllesside-1ob.dk/event/pusling-gymnastik-2/2024-12-10/
LOCATION:Multisalen\, Nejrupvej 2\, 7620 Lemvig\, Lemvig\, 7620\, Danmark
END:VEVENT
BEGIN:VEVENT
DTSTART;TZID=Europe/Copenhagen:20241210T180000
DTEND;TZID=Europe/Copenhagen:20241210T185000
DTSTAMP:20260420T055155
CREATED:20240808T091424Z
LAST-MODIFIED:20240808T091424Z
UID:5563-1733853600-1733856600@xn--klinkbyfllesside-1ob.dk
SUMMARY:Hold med bold
DESCRIPTION:
URL:https://xn--klinkbyfllesside-1ob.dk/event/puls-og-power-6/2024-12-10/
LOCATION:Multisalen\, Nejrupvej 2\, 7620 Lemvig\, Lemvig\, 7620\, Danmark
END:VEVENT
BEGIN:VEVENT
DTSTART;TZID=Europe/Copenhagen:20241211T161500
DTEND;TZID=Europe/Copenhagen:20241211T171500
DTSTAMP:20260420T055155
CREATED:20240828T091827Z
LAST-MODIFIED:20240828T091827Z
UID:5948-1733933700-1733937300@xn--klinkbyfllesside-1ob.dk
SUMMARY:Minimix Gymnastik
DESCRIPTION:
URL:https://xn--klinkbyfllesside-1ob.dk/event/minimix-gymnastik-2/2024-12-11/
LOCATION:Multisalen\, Nejrupvej 2\, 7620 Lemvig\, Lemvig\, 7620\, Danmark
END:VEVENT
BEGIN:VEVENT
DTSTART;TZID=Europe/Copenhagen:20241211T173000
DTEND;TZID=Europe/Copenhagen:20241211T183000
DTSTAMP:20260420T055155
CREATED:20240828T091955Z
LAST-MODIFIED:20240828T091955Z
UID:5977-1733938200-1733941800@xn--klinkbyfllesside-1ob.dk
SUMMARY:Juniormix Rytme Gymnastik
DESCRIPTION:
URL:https://xn--klinkbyfllesside-1ob.dk/event/juniormix-rytme-gymnastik-3/2024-12-11/
LOCATION:Multisalen\, Nejrupvej 2\, 7620 Lemvig\, Lemvig\, 7620\, Danmark
END:VEVENT
BEGIN:VEVENT
DTSTART;TZID=Europe/Copenhagen:20241211T183000
DTEND;TZID=Europe/Copenhagen:20241211T193000
DTSTAMP:20260420T055155
CREATED:20240828T092146Z
LAST-MODIFIED:20240828T092146Z
UID:6006-1733941800-1733945400@xn--klinkbyfllesside-1ob.dk
SUMMARY:Juniormix Spring Gymnastik
DESCRIPTION:
URL:https://xn--klinkbyfllesside-1ob.dk/event/juniormix-spring-gymnastik-2/2024-12-11/
LOCATION:Multisalen\, Nejrupvej 2\, 7620 Lemvig\, Lemvig\, 7620\, Danmark
END:VEVENT
BEGIN:VEVENT
DTSTART;TZID=Europe/Copenhagen:20241212T100000
DTEND;TZID=Europe/Copenhagen:20241212T110000
DTSTAMP:20260420T055155
CREATED:20240828T092529Z
LAST-MODIFIED:20240828T092610Z
UID:6060-1733997600-1734001200@xn--klinkbyfllesside-1ob.dk
SUMMARY:Aktiv torsdag
DESCRIPTION:
URL:https://xn--klinkbyfllesside-1ob.dk/event/aktiv-torsdag-3/2024-12-12/
LOCATION:Multisalen\, Nejrupvej 2\, 7620 Lemvig\, Lemvig\, 7620\, Danmark
END:VEVENT
BEGIN:VEVENT
DTSTART;TZID=Europe/Copenhagen:20241212T180000
DTEND;TZID=Europe/Copenhagen:20241212T185000
DTSTAMP:20260420T055155
CREATED:20240808T092317Z
LAST-MODIFIED:20240808T092317Z
UID:6341-1734026400-1734029400@xn--klinkbyfllesside-1ob.dk
SUMMARY:Mix fitness
DESCRIPTION:
URL:https://xn--klinkbyfllesside-1ob.dk/event/bodyburn/2024-12-12/
LOCATION:Multisalen\, Nejrupvej 2\, 7620 Lemvig\, Lemvig\, 7620\, Danmark
END:VEVENT
END:VCALENDAR