BEGIN:VCALENDAR
VERSION:2.0
PRODID:-//Klinkby Alt i Et Huset - ECPv5.16.3.1//NONSGML v1.0//EN
CALSCALE:GREGORIAN
METHOD:PUBLISH
X-WR-CALNAME:Klinkby Alt i Et Huset
X-ORIGINAL-URL:https://xn--klinkbyfllesside-1ob.dk
X-WR-CALDESC:Begivenheder for Klinkby Alt i Et Huset
REFRESH-INTERVAL;VALUE=DURATION:PT1H
X-Robots-Tag:noindex
X-PUBLISHED-TTL:PT1H
BEGIN:VTIMEZONE
TZID:Europe/Copenhagen
BEGIN:DAYLIGHT
TZOFFSETFROM:+0100
TZOFFSETTO:+0200
TZNAME:CEST
DTSTART:20240331T010000
END:DAYLIGHT
BEGIN:STANDARD
TZOFFSETFROM:+0200
TZOFFSETTO:+0100
TZNAME:CET
DTSTART:20241027T010000
END:STANDARD
END:VTIMEZONE
BEGIN:VEVENT
DTSTART;TZID=Europe/Copenhagen:20241106T161500
DTEND;TZID=Europe/Copenhagen:20241106T171500
DTSTAMP:20260420T004956
CREATED:20240828T091827Z
LAST-MODIFIED:20240828T091827Z
UID:5943-1730909700-1730913300@xn--klinkbyfllesside-1ob.dk
SUMMARY:Minimix Gymnastik
DESCRIPTION:
URL:https://xn--klinkbyfllesside-1ob.dk/event/minimix-gymnastik-2/2024-11-06/
LOCATION:Multisalen\, Nejrupvej 2\, 7620 Lemvig\, Lemvig\, 7620\, Danmark
END:VEVENT
BEGIN:VEVENT
DTSTART;TZID=Europe/Copenhagen:20241106T173000
DTEND;TZID=Europe/Copenhagen:20241106T183000
DTSTAMP:20260420T004956
CREATED:20240828T091955Z
LAST-MODIFIED:20240828T091955Z
UID:5972-1730914200-1730917800@xn--klinkbyfllesside-1ob.dk
SUMMARY:Juniormix Rytme Gymnastik
DESCRIPTION:
URL:https://xn--klinkbyfllesside-1ob.dk/event/juniormix-rytme-gymnastik-3/2024-11-06/
LOCATION:Multisalen\, Nejrupvej 2\, 7620 Lemvig\, Lemvig\, 7620\, Danmark
END:VEVENT
BEGIN:VEVENT
DTSTART;TZID=Europe/Copenhagen:20241106T183000
DTEND;TZID=Europe/Copenhagen:20241106T193000
DTSTAMP:20260420T004956
CREATED:20240828T092146Z
LAST-MODIFIED:20240828T092146Z
UID:6001-1730917800-1730921400@xn--klinkbyfllesside-1ob.dk
SUMMARY:Juniormix Spring Gymnastik
DESCRIPTION:
URL:https://xn--klinkbyfllesside-1ob.dk/event/juniormix-spring-gymnastik-2/2024-11-06/
LOCATION:Multisalen\, Nejrupvej 2\, 7620 Lemvig\, Lemvig\, 7620\, Danmark
END:VEVENT
BEGIN:VEVENT
DTSTART;TZID=Europe/Copenhagen:20241107T100000
DTEND;TZID=Europe/Copenhagen:20241107T110000
DTSTAMP:20260420T004956
CREATED:20240828T092529Z
LAST-MODIFIED:20240828T092607Z
UID:6055-1730973600-1730977200@xn--klinkbyfllesside-1ob.dk
SUMMARY:Aktiv torsdag
DESCRIPTION:
URL:https://xn--klinkbyfllesside-1ob.dk/event/aktiv-torsdag-3/2024-11-07/
LOCATION:Multisalen\, Nejrupvej 2\, 7620 Lemvig\, Lemvig\, 7620\, Danmark
END:VEVENT
BEGIN:VEVENT
DTSTART;TZID=Europe/Copenhagen:20241107T180000
DTEND;TZID=Europe/Copenhagen:20241107T185000
DTSTAMP:20260420T004956
CREATED:20240808T092317Z
LAST-MODIFIED:20240808T092317Z
UID:6336-1731002400-1731005400@xn--klinkbyfllesside-1ob.dk
SUMMARY:Mix fitness
DESCRIPTION:
URL:https://xn--klinkbyfllesside-1ob.dk/event/bodyburn/2024-11-07/
LOCATION:Multisalen\, Nejrupvej 2\, 7620 Lemvig\, Lemvig\, 7620\, Danmark
END:VEVENT
BEGIN:VEVENT
DTSTART;TZID=Europe/Copenhagen:20241107T193000
DTEND;TZID=Europe/Copenhagen:20241107T193000
DTSTAMP:20260420T004956
CREATED:20240808T092406Z
LAST-MODIFIED:20240808T092406Z
UID:5588-1731007800-1731007800@xn--klinkbyfllesside-1ob.dk
SUMMARY:Herrefit
DESCRIPTION:
URL:https://xn--klinkbyfllesside-1ob.dk/event/herrefit-3/2024-11-07/
LOCATION:Multisalen\, Nejrupvej 2\, 7620 Lemvig\, Lemvig\, 7620\, Danmark
END:VEVENT
BEGIN:VEVENT
DTSTART;TZID=Europe/Copenhagen:20241111T170000
DTEND;TZID=Europe/Copenhagen:20241111T174500
DTSTAMP:20260420T004956
CREATED:20240828T091550Z
LAST-MODIFIED:20240828T091550Z
UID:5885-1731344400-1731347100@xn--klinkbyfllesside-1ob.dk
SUMMARY:Forældre-Barn gymnastik
DESCRIPTION:
URL:https://xn--klinkbyfllesside-1ob.dk/event/foraeldre-barn-gymnastik-3/2024-11-11/
LOCATION:Multisalen\, Nejrupvej 2\, 7620 Lemvig\, Lemvig\, 7620\, Danmark
END:VEVENT
BEGIN:VEVENT
DTSTART;TZID=Europe/Copenhagen:20241111T180000
DTEND;TZID=Europe/Copenhagen:20241111T185000
DTSTAMP:20260420T004956
CREATED:20240808T092143Z
LAST-MODIFIED:20240808T092143Z
UID:5569-1731348000-1731351000@xn--klinkbyfllesside-1ob.dk
SUMMARY:Puls og Power
DESCRIPTION:
URL:https://xn--klinkbyfllesside-1ob.dk/event/puls-og-power-7/2024-11-11/
LOCATION:Multisalen\, Nejrupvej 2\, 7620 Lemvig\, Lemvig\, 7620\, Danmark
END:VEVENT
BEGIN:VEVENT
DTSTART;TZID=Europe/Copenhagen:20241111T190000
DTEND;TZID=Europe/Copenhagen:20241111T200000
DTSTAMP:20260420T004956
CREATED:20240828T092323Z
LAST-MODIFIED:20240828T092323Z
UID:6026-1731351600-1731355200@xn--klinkbyfllesside-1ob.dk
SUMMARY:Herre Gymnastik
DESCRIPTION:
URL:https://xn--klinkbyfllesside-1ob.dk/event/herre-gymnastik-4/2024-11-11/
LOCATION:Multisalen\, Nejrupvej 2\, 7620 Lemvig\, Lemvig\, 7620\, Danmark
END:VEVENT
BEGIN:VEVENT
DTSTART;TZID=Europe/Copenhagen:20241112T161500
DTEND;TZID=Europe/Copenhagen:20241112T171500
DTSTAMP:20260420T004956
CREATED:20240828T091706Z
LAST-MODIFIED:20240828T091706Z
UID:5915-1731428100-1731431700@xn--klinkbyfllesside-1ob.dk
SUMMARY:Pusling Gymnastik
DESCRIPTION:
URL:https://xn--klinkbyfllesside-1ob.dk/event/pusling-gymnastik-2/2024-11-12/
LOCATION:Multisalen\, Nejrupvej 2\, 7620 Lemvig\, Lemvig\, 7620\, Danmark
END:VEVENT
BEGIN:VEVENT
DTSTART;TZID=Europe/Copenhagen:20241112T180000
DTEND;TZID=Europe/Copenhagen:20241112T185000
DTSTAMP:20260420T004956
CREATED:20240808T091424Z
LAST-MODIFIED:20240808T091424Z
UID:5559-1731434400-1731437400@xn--klinkbyfllesside-1ob.dk
SUMMARY:Hold med bold
DESCRIPTION:
URL:https://xn--klinkbyfllesside-1ob.dk/event/puls-og-power-6/2024-11-12/
LOCATION:Multisalen\, Nejrupvej 2\, 7620 Lemvig\, Lemvig\, 7620\, Danmark
END:VEVENT
BEGIN:VEVENT
DTSTART;TZID=Europe/Copenhagen:20241113T161500
DTEND;TZID=Europe/Copenhagen:20241113T171500
DTSTAMP:20260420T004956
CREATED:20240828T091827Z
LAST-MODIFIED:20240828T091827Z
UID:5944-1731514500-1731518100@xn--klinkbyfllesside-1ob.dk
SUMMARY:Minimix Gymnastik
DESCRIPTION:
URL:https://xn--klinkbyfllesside-1ob.dk/event/minimix-gymnastik-2/2024-11-13/
LOCATION:Multisalen\, Nejrupvej 2\, 7620 Lemvig\, Lemvig\, 7620\, Danmark
END:VEVENT
BEGIN:VEVENT
DTSTART;TZID=Europe/Copenhagen:20241113T173000
DTEND;TZID=Europe/Copenhagen:20241113T183000
DTSTAMP:20260420T004956
CREATED:20240828T091955Z
LAST-MODIFIED:20240828T091955Z
UID:5973-1731519000-1731522600@xn--klinkbyfllesside-1ob.dk
SUMMARY:Juniormix Rytme Gymnastik
DESCRIPTION:
URL:https://xn--klinkbyfllesside-1ob.dk/event/juniormix-rytme-gymnastik-3/2024-11-13/
LOCATION:Multisalen\, Nejrupvej 2\, 7620 Lemvig\, Lemvig\, 7620\, Danmark
END:VEVENT
BEGIN:VEVENT
DTSTART;TZID=Europe/Copenhagen:20241113T183000
DTEND;TZID=Europe/Copenhagen:20241113T193000
DTSTAMP:20260420T004956
CREATED:20240828T092146Z
LAST-MODIFIED:20240828T092146Z
UID:6002-1731522600-1731526200@xn--klinkbyfllesside-1ob.dk
SUMMARY:Juniormix Spring Gymnastik
DESCRIPTION:
URL:https://xn--klinkbyfllesside-1ob.dk/event/juniormix-spring-gymnastik-2/2024-11-13/
LOCATION:Multisalen\, Nejrupvej 2\, 7620 Lemvig\, Lemvig\, 7620\, Danmark
END:VEVENT
BEGIN:VEVENT
DTSTART;TZID=Europe/Copenhagen:20241114T100000
DTEND;TZID=Europe/Copenhagen:20241114T110000
DTSTAMP:20260420T004956
CREATED:20240828T092529Z
LAST-MODIFIED:20240828T092607Z
UID:6056-1731578400-1731582000@xn--klinkbyfllesside-1ob.dk
SUMMARY:Aktiv torsdag
DESCRIPTION:
URL:https://xn--klinkbyfllesside-1ob.dk/event/aktiv-torsdag-3/2024-11-14/
LOCATION:Multisalen\, Nejrupvej 2\, 7620 Lemvig\, Lemvig\, 7620\, Danmark
END:VEVENT
BEGIN:VEVENT
DTSTART;TZID=Europe/Copenhagen:20241114T180000
DTEND;TZID=Europe/Copenhagen:20241114T185000
DTSTAMP:20260420T004956
CREATED:20240808T092317Z
LAST-MODIFIED:20240808T092317Z
UID:6337-1731607200-1731610200@xn--klinkbyfllesside-1ob.dk
SUMMARY:Mix fitness
DESCRIPTION:
URL:https://xn--klinkbyfllesside-1ob.dk/event/bodyburn/2024-11-14/
LOCATION:Multisalen\, Nejrupvej 2\, 7620 Lemvig\, Lemvig\, 7620\, Danmark
END:VEVENT
BEGIN:VEVENT
DTSTART;TZID=Europe/Copenhagen:20241114T193000
DTEND;TZID=Europe/Copenhagen:20241114T193000
DTSTAMP:20260420T004956
CREATED:20240808T092406Z
LAST-MODIFIED:20240808T092406Z
UID:5589-1731612600-1731612600@xn--klinkbyfllesside-1ob.dk
SUMMARY:Herrefit
DESCRIPTION:
URL:https://xn--klinkbyfllesside-1ob.dk/event/herrefit-3/2024-11-14/
LOCATION:Multisalen\, Nejrupvej 2\, 7620 Lemvig\, Lemvig\, 7620\, Danmark
END:VEVENT
BEGIN:VEVENT
DTSTART;TZID=Europe/Copenhagen:20241118T170000
DTEND;TZID=Europe/Copenhagen:20241118T174500
DTSTAMP:20260420T004956
CREATED:20240828T091550Z
LAST-MODIFIED:20240828T091550Z
UID:5886-1731949200-1731951900@xn--klinkbyfllesside-1ob.dk
SUMMARY:Forældre-Barn gymnastik
DESCRIPTION:
URL:https://xn--klinkbyfllesside-1ob.dk/event/foraeldre-barn-gymnastik-3/2024-11-18/
LOCATION:Multisalen\, Nejrupvej 2\, 7620 Lemvig\, Lemvig\, 7620\, Danmark
END:VEVENT
BEGIN:VEVENT
DTSTART;TZID=Europe/Copenhagen:20241118T180000
DTEND;TZID=Europe/Copenhagen:20241118T185000
DTSTAMP:20260420T004956
CREATED:20240808T092143Z
LAST-MODIFIED:20240808T092143Z
UID:5570-1731952800-1731955800@xn--klinkbyfllesside-1ob.dk
SUMMARY:Puls og Power
DESCRIPTION:
URL:https://xn--klinkbyfllesside-1ob.dk/event/puls-og-power-7/2024-11-18/
LOCATION:Multisalen\, Nejrupvej 2\, 7620 Lemvig\, Lemvig\, 7620\, Danmark
END:VEVENT
BEGIN:VEVENT
DTSTART;TZID=Europe/Copenhagen:20241118T190000
DTEND;TZID=Europe/Copenhagen:20241118T200000
DTSTAMP:20260420T004956
CREATED:20240828T092323Z
LAST-MODIFIED:20240828T092323Z
UID:6027-1731956400-1731960000@xn--klinkbyfllesside-1ob.dk
SUMMARY:Herre Gymnastik
DESCRIPTION:
URL:https://xn--klinkbyfllesside-1ob.dk/event/herre-gymnastik-4/2024-11-18/
LOCATION:Multisalen\, Nejrupvej 2\, 7620 Lemvig\, Lemvig\, 7620\, Danmark
END:VEVENT
BEGIN:VEVENT
DTSTART;TZID=Europe/Copenhagen:20241119T161500
DTEND;TZID=Europe/Copenhagen:20241119T171500
DTSTAMP:20260420T004956
CREATED:20240828T091706Z
LAST-MODIFIED:20240828T091706Z
UID:5916-1732032900-1732036500@xn--klinkbyfllesside-1ob.dk
SUMMARY:Pusling Gymnastik
DESCRIPTION:
URL:https://xn--klinkbyfllesside-1ob.dk/event/pusling-gymnastik-2/2024-11-19/
LOCATION:Multisalen\, Nejrupvej 2\, 7620 Lemvig\, Lemvig\, 7620\, Danmark
END:VEVENT
BEGIN:VEVENT
DTSTART;TZID=Europe/Copenhagen:20241119T180000
DTEND;TZID=Europe/Copenhagen:20241119T185000
DTSTAMP:20260420T004956
CREATED:20240808T091424Z
LAST-MODIFIED:20240808T091424Z
UID:5560-1732039200-1732042200@xn--klinkbyfllesside-1ob.dk
SUMMARY:Hold med bold
DESCRIPTION:
URL:https://xn--klinkbyfllesside-1ob.dk/event/puls-og-power-6/2024-11-19/
LOCATION:Multisalen\, Nejrupvej 2\, 7620 Lemvig\, Lemvig\, 7620\, Danmark
END:VEVENT
BEGIN:VEVENT
DTSTART;TZID=Europe/Copenhagen:20241120T161500
DTEND;TZID=Europe/Copenhagen:20241120T171500
DTSTAMP:20260420T004956
CREATED:20240828T091827Z
LAST-MODIFIED:20240828T091827Z
UID:5945-1732119300-1732122900@xn--klinkbyfllesside-1ob.dk
SUMMARY:Minimix Gymnastik
DESCRIPTION:
URL:https://xn--klinkbyfllesside-1ob.dk/event/minimix-gymnastik-2/2024-11-20/
LOCATION:Multisalen\, Nejrupvej 2\, 7620 Lemvig\, Lemvig\, 7620\, Danmark
END:VEVENT
BEGIN:VEVENT
DTSTART;TZID=Europe/Copenhagen:20241120T173000
DTEND;TZID=Europe/Copenhagen:20241120T183000
DTSTAMP:20260420T004956
CREATED:20240828T091955Z
LAST-MODIFIED:20240828T091955Z
UID:5974-1732123800-1732127400@xn--klinkbyfllesside-1ob.dk
SUMMARY:Juniormix Rytme Gymnastik
DESCRIPTION:
URL:https://xn--klinkbyfllesside-1ob.dk/event/juniormix-rytme-gymnastik-3/2024-11-20/
LOCATION:Multisalen\, Nejrupvej 2\, 7620 Lemvig\, Lemvig\, 7620\, Danmark
END:VEVENT
BEGIN:VEVENT
DTSTART;TZID=Europe/Copenhagen:20241120T183000
DTEND;TZID=Europe/Copenhagen:20241120T193000
DTSTAMP:20260420T004956
CREATED:20240828T092146Z
LAST-MODIFIED:20240828T092146Z
UID:6003-1732127400-1732131000@xn--klinkbyfllesside-1ob.dk
SUMMARY:Juniormix Spring Gymnastik
DESCRIPTION:
URL:https://xn--klinkbyfllesside-1ob.dk/event/juniormix-spring-gymnastik-2/2024-11-20/
LOCATION:Multisalen\, Nejrupvej 2\, 7620 Lemvig\, Lemvig\, 7620\, Danmark
END:VEVENT
BEGIN:VEVENT
DTSTART;TZID=Europe/Copenhagen:20241121T100000
DTEND;TZID=Europe/Copenhagen:20241121T110000
DTSTAMP:20260420T004956
CREATED:20240828T092529Z
LAST-MODIFIED:20240828T092608Z
UID:6057-1732183200-1732186800@xn--klinkbyfllesside-1ob.dk
SUMMARY:Aktiv torsdag
DESCRIPTION:
URL:https://xn--klinkbyfllesside-1ob.dk/event/aktiv-torsdag-3/2024-11-21/
LOCATION:Multisalen\, Nejrupvej 2\, 7620 Lemvig\, Lemvig\, 7620\, Danmark
END:VEVENT
BEGIN:VEVENT
DTSTART;TZID=Europe/Copenhagen:20241121T180000
DTEND;TZID=Europe/Copenhagen:20241121T185000
DTSTAMP:20260420T004956
CREATED:20240808T092317Z
LAST-MODIFIED:20240808T092317Z
UID:6338-1732212000-1732215000@xn--klinkbyfllesside-1ob.dk
SUMMARY:Mix fitness
DESCRIPTION:
URL:https://xn--klinkbyfllesside-1ob.dk/event/bodyburn/2024-11-21/
LOCATION:Multisalen\, Nejrupvej 2\, 7620 Lemvig\, Lemvig\, 7620\, Danmark
END:VEVENT
BEGIN:VEVENT
DTSTART;TZID=Europe/Copenhagen:20241121T193000
DTEND;TZID=Europe/Copenhagen:20241121T193000
DTSTAMP:20260420T004956
CREATED:20240808T092406Z
LAST-MODIFIED:20240808T092406Z
UID:5590-1732217400-1732217400@xn--klinkbyfllesside-1ob.dk
SUMMARY:Herrefit
DESCRIPTION:
URL:https://xn--klinkbyfllesside-1ob.dk/event/herrefit-3/2024-11-21/
LOCATION:Multisalen\, Nejrupvej 2\, 7620 Lemvig\, Lemvig\, 7620\, Danmark
END:VEVENT
BEGIN:VEVENT
DTSTART;TZID=Europe/Copenhagen:20241125T170000
DTEND;TZID=Europe/Copenhagen:20241125T174500
DTSTAMP:20260420T004956
CREATED:20240828T091550Z
LAST-MODIFIED:20240828T091550Z
UID:5887-1732554000-1732556700@xn--klinkbyfllesside-1ob.dk
SUMMARY:Forældre-Barn gymnastik
DESCRIPTION:
URL:https://xn--klinkbyfllesside-1ob.dk/event/foraeldre-barn-gymnastik-3/2024-11-25/
LOCATION:Multisalen\, Nejrupvej 2\, 7620 Lemvig\, Lemvig\, 7620\, Danmark
END:VEVENT
BEGIN:VEVENT
DTSTART;TZID=Europe/Copenhagen:20241125T180000
DTEND;TZID=Europe/Copenhagen:20241125T185000
DTSTAMP:20260420T004956
CREATED:20240808T092143Z
LAST-MODIFIED:20240808T092143Z
UID:5571-1732557600-1732560600@xn--klinkbyfllesside-1ob.dk
SUMMARY:Puls og Power
DESCRIPTION:
URL:https://xn--klinkbyfllesside-1ob.dk/event/puls-og-power-7/2024-11-25/
LOCATION:Multisalen\, Nejrupvej 2\, 7620 Lemvig\, Lemvig\, 7620\, Danmark
END:VEVENT
END:VCALENDAR