BEGIN:VCALENDAR
VERSION:2.0
PRODID:-//Klinkby Alt i Et Huset - ECPv5.16.3.1//NONSGML v1.0//EN
CALSCALE:GREGORIAN
METHOD:PUBLISH
X-WR-CALNAME:Klinkby Alt i Et Huset
X-ORIGINAL-URL:https://xn--klinkbyfllesside-1ob.dk
X-WR-CALDESC:Begivenheder for Klinkby Alt i Et Huset
REFRESH-INTERVAL;VALUE=DURATION:PT1H
X-Robots-Tag:noindex
X-PUBLISHED-TTL:PT1H
BEGIN:VTIMEZONE
TZID:Europe/Copenhagen
BEGIN:DAYLIGHT
TZOFFSETFROM:+0100
TZOFFSETTO:+0200
TZNAME:CEST
DTSTART:20260329T010000
END:DAYLIGHT
BEGIN:STANDARD
TZOFFSETFROM:+0200
TZOFFSETTO:+0100
TZNAME:CET
DTSTART:20261025T010000
END:STANDARD
END:VTIMEZONE
BEGIN:VEVENT
DTSTART;TZID=Europe/Copenhagen:20260216T163000
DTEND;TZID=Europe/Copenhagen:20260216T180000
DTSTAMP:20260421T200244
CREATED:20250908T103653Z
LAST-MODIFIED:20250908T103653Z
UID:7670-1771259400-1771264800@xn--klinkbyfllesside-1ob.dk
SUMMARY:Fodbold U.8 drenge LGF
DESCRIPTION:
URL:https://xn--klinkbyfllesside-1ob.dk/event/fodbold-u-8-drenge-lgf/2026-02-16/
LOCATION:Hallen\, Nejrupvej 2\, 7620 Lemvig\, Lemvig\, 7620\, Danmark
ORGANIZER;CN="LGF":MAILTO:lgf@lemviggf.dk
END:VEVENT
BEGIN:VEVENT
DTSTART;TZID=Europe/Copenhagen:20260216T170000
DTEND;TZID=Europe/Copenhagen:20260216T174500
DTSTAMP:20260421T200244
CREATED:20250825T094911Z
LAST-MODIFIED:20250825T095121Z
UID:7397-1771261200-1771263900@xn--klinkbyfllesside-1ob.dk
SUMMARY:Forældre-Barn gymnastik
DESCRIPTION:
URL:https://xn--klinkbyfllesside-1ob.dk/event/foraeldre-barn-gymnastik-4/2026-02-16/
LOCATION:Multisalen\, Nejrupvej 2\, 7620 Lemvig\, Lemvig\, 7620\, Danmark
END:VEVENT
BEGIN:VEVENT
DTSTART;TZID=Europe/Copenhagen:20260216T180000
DTEND;TZID=Europe/Copenhagen:20260216T185000
DTSTAMP:20260421T200244
CREATED:20251219T103555Z
LAST-MODIFIED:20251219T103555Z
UID:7943-1771264800-1771267800@xn--klinkbyfllesside-1ob.dk
SUMMARY:Puls og Power
DESCRIPTION:
URL:https://xn--klinkbyfllesside-1ob.dk/event/puls-og-power-11/2026-02-16/
LOCATION:Multisalen\, Nejrupvej 2\, 7620 Lemvig\, Lemvig\, 7620\, Danmark
END:VEVENT
BEGIN:VEVENT
DTSTART;TZID=Europe/Copenhagen:20260216T180000
DTEND;TZID=Europe/Copenhagen:20260216T200000
DTSTAMP:20260421T200244
CREATED:20250825T094216Z
LAST-MODIFIED:20250825T094216Z
UID:7294-1771264800-1771272000@xn--klinkbyfllesside-1ob.dk
SUMMARY:Badminton
DESCRIPTION:
URL:https://xn--klinkbyfllesside-1ob.dk/event/badminton-9/2026-02-16/
LOCATION:Hallen\, Nejrupvej 2\, 7620 Lemvig\, Lemvig\, 7620\, Danmark
END:VEVENT
BEGIN:VEVENT
DTSTART;TZID=Europe/Copenhagen:20260216T190000
DTEND;TZID=Europe/Copenhagen:20260216T195000
DTSTAMP:20260421T200244
CREATED:20250825T100052Z
LAST-MODIFIED:20250825T100052Z
UID:7598-1771268400-1771271400@xn--klinkbyfllesside-1ob.dk
SUMMARY:Herre gymnastik
DESCRIPTION:
URL:https://xn--klinkbyfllesside-1ob.dk/event/herre-gymnastik-5/2026-02-16/
LOCATION:Multisalen\, Nejrupvej 2\, 7620 Lemvig\, Lemvig\, 7620\, Danmark
END:VEVENT
BEGIN:VEVENT
DTSTART;TZID=Europe/Copenhagen:20260216T200000
DTEND;TZID=Europe/Copenhagen:20260216T220000
DTSTAMP:20260421T200244
CREATED:20250825T094113Z
LAST-MODIFIED:20250825T094113Z
UID:7262-1771272000-1771279200@xn--klinkbyfllesside-1ob.dk
SUMMARY:Hockey
DESCRIPTION:
URL:https://xn--klinkbyfllesside-1ob.dk/event/hockey-4/2026-02-16/
LOCATION:Hallen\, Nejrupvej 2\, 7620 Lemvig\, Lemvig\, 7620\, Danmark
END:VEVENT
END:VCALENDAR