BEGIN:VCALENDAR
VERSION:2.0
PRODID:-//Klinkby Alt i Et Huset - ECPv5.16.3.1//NONSGML v1.0//EN
CALSCALE:GREGORIAN
METHOD:PUBLISH
X-ORIGINAL-URL:https://xn--klinkbyfllesside-1ob.dk
X-WR-CALDESC:Begivenheder for Klinkby Alt i Et Huset
REFRESH-INTERVAL;VALUE=DURATION:PT1H
X-Robots-Tag:noindex
X-PUBLISHED-TTL:PT1H
BEGIN:VTIMEZONE
TZID:Europe/Copenhagen
BEGIN:DAYLIGHT
TZOFFSETFROM:+0100
TZOFFSETTO:+0200
TZNAME:CEST
DTSTART:20260329T010000
END:DAYLIGHT
BEGIN:STANDARD
TZOFFSETFROM:+0200
TZOFFSETTO:+0100
TZNAME:CET
DTSTART:20261025T010000
END:STANDARD
END:VTIMEZONE
BEGIN:VEVENT
DTSTART;TZID=Europe/Copenhagen:20260211T161500
DTEND;TZID=Europe/Copenhagen:20260211T173000
DTSTAMP:20260422T044042
CREATED:20250908T103757Z
LAST-MODIFIED:20250908T103757Z
UID:7694-1770826500-1770831000@xn--klinkbyfllesside-1ob.dk
SUMMARY:Fodbold u.9 drenge LGF
DESCRIPTION:
URL:https://xn--klinkbyfllesside-1ob.dk/event/fodbold-u-9-drenge-lgf/2026-02-11/
LOCATION:Hallen\, Nejrupvej 2\, 7620 Lemvig\, Lemvig\, 7620\, Danmark
ORGANIZER;CN="LGF":MAILTO:lgf@lemviggf.dk
END:VEVENT
BEGIN:VEVENT
DTSTART;TZID=Europe/Copenhagen:20260211T170000
DTEND;TZID=Europe/Copenhagen:20260211T180000
DTSTAMP:20260422T044042
CREATED:20250825T095302Z
LAST-MODIFIED:20250825T095356Z
UID:7484-1770829200-1770832800@xn--klinkbyfllesside-1ob.dk
SUMMARY:Minimix 0 - 3 klasse
DESCRIPTION:
URL:https://xn--klinkbyfllesside-1ob.dk/event/minimix-0-3-klasse/2026-02-11/
LOCATION:Multisalen\, Nejrupvej 2\, 7620 Lemvig\, Lemvig\, 7620\, Danmark
END:VEVENT
BEGIN:VEVENT
DTSTART;TZID=Europe/Copenhagen:20260211T173500
DTEND;TZID=Europe/Copenhagen:20260211T184000
DTSTAMP:20260422T044042
CREATED:20250825T095819Z
LAST-MODIFIED:20250825T095819Z
UID:7542-1770831300-1770835200@xn--klinkbyfllesside-1ob.dk
SUMMARY:Juniormix 4 - 8 klasse
DESCRIPTION:
URL:https://xn--klinkbyfllesside-1ob.dk/event/juniormix-4-8-klasse/2026-02-11/
LOCATION:Hallen\, Nejrupvej 2\, 7620 Lemvig\, Lemvig\, 7620\, Danmark
END:VEVENT
BEGIN:VEVENT
DTSTART;TZID=Europe/Copenhagen:20260211T184500
DTEND;TZID=Europe/Copenhagen:20260211T193000
DTSTAMP:20260422T044042
CREATED:20250825T095944Z
LAST-MODIFIED:20250825T095944Z
UID:7572-1770835500-1770838200@xn--klinkbyfllesside-1ob.dk
SUMMARY:Juniormis Rytme 4 - 8 klasse
DESCRIPTION:
URL:https://xn--klinkbyfllesside-1ob.dk/event/juniormis-rytme-4-8-klasse/2026-02-11/
LOCATION:Multisalen\, Nejrupvej 2\, 7620 Lemvig\, Lemvig\, 7620\, Danmark
END:VEVENT
BEGIN:VEVENT
DTSTART;TZID=Europe/Copenhagen:20260211T190000
DTEND;TZID=Europe/Copenhagen:20260211T210000
DTSTAMP:20260422T044042
CREATED:20251020T081546Z
LAST-MODIFIED:20251020T081546Z
UID:7870-1770836400-1770843600@xn--klinkbyfllesside-1ob.dk
SUMMARY:Badminton
DESCRIPTION:
URL:https://xn--klinkbyfllesside-1ob.dk/event/badminton-10/2026-02-11/
LOCATION:Hallen\, Nejrupvej 2\, 7620 Lemvig\, Lemvig\, 7620\, Danmark
END:VEVENT
END:VCALENDAR