BEGIN:VCALENDAR
VERSION:2.0
PRODID:-//Klinkby Alt i Et Huset - ECPv5.16.3.1//NONSGML v1.0//EN
CALSCALE:GREGORIAN
METHOD:PUBLISH
X-WR-CALNAME:Klinkby Alt i Et Huset
X-ORIGINAL-URL:https://xn--klinkbyfllesside-1ob.dk
X-WR-CALDESC:Begivenheder for Klinkby Alt i Et Huset
REFRESH-INTERVAL;VALUE=DURATION:PT1H
X-Robots-Tag:noindex
X-PUBLISHED-TTL:PT1H
BEGIN:VTIMEZONE
TZID:Europe/Copenhagen
BEGIN:DAYLIGHT
TZOFFSETFROM:+0100
TZOFFSETTO:+0200
TZNAME:CEST
DTSTART:20250330T010000
END:DAYLIGHT
BEGIN:STANDARD
TZOFFSETFROM:+0200
TZOFFSETTO:+0100
TZNAME:CET
DTSTART:20251026T010000
END:STANDARD
END:VTIMEZONE
BEGIN:VEVENT
DTSTART;TZID=Europe/Copenhagen:20250424T170000
DTEND;TZID=Europe/Copenhagen:20250424T180000
DTSTAMP:20260419T181804
CREATED:20250318T102759Z
LAST-MODIFIED:20250318T102759Z
UID:6828-1745514000-1745517600@xn--klinkbyfllesside-1ob.dk
SUMMARY:U. 7 mix (2018) RLK fodbold
DESCRIPTION:
URL:https://xn--klinkbyfllesside-1ob.dk/event/u-7-mix-2018-rlk-fodbold/2025-04-24/
LOCATION:Stadion\, Nejrupvej 2\, 7620 Lemvig\, Lemvig\, 7620\, Danmark
END:VEVENT
BEGIN:VEVENT
DTSTART;TZID=Europe/Copenhagen:20250424T170000
DTEND;TZID=Europe/Copenhagen:20250424T180000
DTSTAMP:20260419T181804
CREATED:20250318T102928Z
LAST-MODIFIED:20250318T102928Z
UID:6844-1745514000-1745517600@xn--klinkbyfllesside-1ob.dk
SUMMARY:U 8 drenge (2017) RLK fodbold
DESCRIPTION:
URL:https://xn--klinkbyfllesside-1ob.dk/event/u-8-drenge-2017-rlk-fodbold/2025-04-24/
LOCATION:Stadion\, Nejrupvej 2\, 7620 Lemvig\, Lemvig\, 7620\, Danmark
END:VEVENT
BEGIN:VEVENT
DTSTART;TZID=Europe/Copenhagen:20250424T170000
DTEND;TZID=Europe/Copenhagen:20250424T180000
DTSTAMP:20260419T181804
CREATED:20250318T103215Z
LAST-MODIFIED:20250318T103215Z
UID:6865-1745514000-1745517600@xn--klinkbyfllesside-1ob.dk
SUMMARY:U 9 drenge (2016) RLK fodbold
DESCRIPTION:
URL:https://xn--klinkbyfllesside-1ob.dk/event/u-9-drenge-2016-rlk-fodbold/2025-04-24/
LOCATION:Stadion\, Nejrupvej 2\, 7620 Lemvig\, Lemvig\, 7620\, Danmark
END:VEVENT
BEGIN:VEVENT
DTSTART;TZID=Europe/Copenhagen:20250424T170000
DTEND;TZID=Europe/Copenhagen:20250424T180000
DTSTAMP:20260419T181804
CREATED:20250318T103752Z
LAST-MODIFIED:20250318T103752Z
UID:6890-1745514000-1745517600@xn--klinkbyfllesside-1ob.dk
SUMMARY:U 8/U 9 Piger (2016-2017) RLK fodbold
DESCRIPTION:
URL:https://xn--klinkbyfllesside-1ob.dk/event/u-8-u-9-piger-2016-2017-rlk-fodbold/2025-04-24/
LOCATION:Stadion\, Nejrupvej 2\, 7620 Lemvig\, Lemvig\, 7620\, Danmark
END:VEVENT
BEGIN:VEVENT
DTSTART;TZID=Europe/Copenhagen:20250424T170000
DTEND;TZID=Europe/Copenhagen:20250424T180000
DTSTAMP:20260419T181804
CREATED:20250318T103936Z
LAST-MODIFIED:20250318T103936Z
UID:6906-1745514000-1745517600@xn--klinkbyfllesside-1ob.dk
SUMMARY:U 10/U 11 Drenge(2014-2015) RLK Fodbold
DESCRIPTION:
URL:https://xn--klinkbyfllesside-1ob.dk/event/u-10-u-11-drenge2014-2015-rlk-fodbold/2025-04-24/
LOCATION:Stadion\, Nejrupvej 2\, 7620 Lemvig\, Lemvig\, 7620\, Danmark
END:VEVENT
BEGIN:VEVENT
DTSTART;TZID=Europe/Copenhagen:20250424T170000
DTEND;TZID=Europe/Copenhagen:20250424T180000
DTSTAMP:20260419T181804
CREATED:20250318T104111Z
LAST-MODIFIED:20250318T104111Z
UID:6920-1745514000-1745517600@xn--klinkbyfllesside-1ob.dk
SUMMARY:U10/U11/U12 Piger (2013-2014-2015) RLK Fodbold
DESCRIPTION:
URL:https://xn--klinkbyfllesside-1ob.dk/event/u10-u11-u12-piger-2013-2014-2015-rlk-fodbold/2025-04-24/
LOCATION:Stadion\, Nejrupvej 2\, 7620 Lemvig\, Lemvig\, 7620\, Danmark
END:VEVENT
BEGIN:VEVENT
DTSTART;TZID=Europe/Copenhagen:20250424T170000
DTEND;TZID=Europe/Copenhagen:20250424T183000
DTSTAMP:20260419T181804
CREATED:20250318T104330Z
LAST-MODIFIED:20250318T104330Z
UID:6941-1745514000-1745519400@xn--klinkbyfllesside-1ob.dk
SUMMARY:U13/U14/U15 Drenge (2010-2011-2012) RLK Fodbold
DESCRIPTION:
URL:https://xn--klinkbyfllesside-1ob.dk/event/u13-u14-u15-drenge-2010-2011-2012-rlk-fodbold/2025-04-24/
LOCATION:Stadion\, Nejrupvej 2\, 7620 Lemvig\, Lemvig\, 7620\, Danmark
END:VEVENT
END:VCALENDAR