BEGIN:VCALENDAR
VERSION:2.0
PRODID:-//Klinkby Alt i Et Huset - ECPv5.16.3.1//NONSGML v1.0//EN
CALSCALE:GREGORIAN
METHOD:PUBLISH
X-ORIGINAL-URL:https://xn--klinkbyfllesside-1ob.dk
X-WR-CALDESC:Begivenheder for Klinkby Alt i Et Huset
REFRESH-INTERVAL;VALUE=DURATION:PT1H
X-Robots-Tag:noindex
X-PUBLISHED-TTL:PT1H
BEGIN:VTIMEZONE
TZID:Europe/Copenhagen
BEGIN:DAYLIGHT
TZOFFSETFROM:+0100
TZOFFSETTO:+0200
TZNAME:CEST
DTSTART:20250330T010000
END:DAYLIGHT
BEGIN:STANDARD
TZOFFSETFROM:+0200
TZOFFSETTO:+0100
TZNAME:CET
DTSTART:20251026T010000
END:STANDARD
END:VTIMEZONE
BEGIN:VEVENT
DTSTART;TZID=Europe/Copenhagen:20250422T093000
DTEND;TZID=Europe/Copenhagen:20250422T113000
DTSTAMP:20260419T214320
CREATED:20240828T090902Z
LAST-MODIFIED:20240828T090902Z
UID:5809-1745314200-1745321400@xn--klinkbyfllesside-1ob.dk
SUMMARY:Bowls
DESCRIPTION:
URL:https://xn--klinkbyfllesside-1ob.dk/event/bowls-3/2025-04-22/
LOCATION:Hallen\, Nejrupvej 2\, 7620 Lemvig\, Lemvig\, 7620\, Danmark
END:VEVENT
BEGIN:VEVENT
DTSTART;TZID=Europe/Copenhagen:20250422T170000
DTEND;TZID=Europe/Copenhagen:20250422T180000
DTSTAMP:20260419T214320
CREATED:20250318T103215Z
LAST-MODIFIED:20250318T103215Z
UID:6864-1745341200-1745344800@xn--klinkbyfllesside-1ob.dk
SUMMARY:U 9 drenge (2016) RLK fodbold
DESCRIPTION:
URL:https://xn--klinkbyfllesside-1ob.dk/event/u-9-drenge-2016-rlk-fodbold/2025-04-22/
LOCATION:Stadion\, Nejrupvej 2\, 7620 Lemvig\, Lemvig\, 7620\, Danmark
END:VEVENT
END:VCALENDAR