BEGIN:VCALENDAR
VERSION:2.0
PRODID:-//Klinkby Alt i Et Huset - ECPv5.16.3.1//NONSGML v1.0//EN
CALSCALE:GREGORIAN
METHOD:PUBLISH
X-ORIGINAL-URL:https://xn--klinkbyfllesside-1ob.dk
X-WR-CALDESC:Begivenheder for Klinkby Alt i Et Huset
REFRESH-INTERVAL;VALUE=DURATION:PT1H
X-Robots-Tag:noindex
X-PUBLISHED-TTL:PT1H
BEGIN:VTIMEZONE
TZID:Europe/Copenhagen
BEGIN:DAYLIGHT
TZOFFSETFROM:+0100
TZOFFSETTO:+0200
TZNAME:CEST
DTSTART:20250330T010000
END:DAYLIGHT
BEGIN:STANDARD
TZOFFSETFROM:+0200
TZOFFSETTO:+0100
TZNAME:CET
DTSTART:20251026T010000
END:STANDARD
END:VTIMEZONE
BEGIN:VEVENT
DTSTART;TZID=Europe/Copenhagen:20251112T161500
DTEND;TZID=Europe/Copenhagen:20251112T173000
DTSTAMP:20260420T010243
CREATED:20250908T103757Z
LAST-MODIFIED:20250908T103757Z
UID:7681-1762964100-1762968600@xn--klinkbyfllesside-1ob.dk
SUMMARY:Fodbold u.9 drenge LGF
DESCRIPTION:
URL:https://xn--klinkbyfllesside-1ob.dk/event/fodbold-u-9-drenge-lgf/2025-11-12/
LOCATION:Hallen\, Nejrupvej 2\, 7620 Lemvig\, Lemvig\, 7620\, Danmark
ORGANIZER;CN="LGF":MAILTO:lgf@lemviggf.dk
END:VEVENT
BEGIN:VEVENT
DTSTART;TZID=Europe/Copenhagen:20251110T163000
DTEND;TZID=Europe/Copenhagen:20251110T180000
DTSTAMP:20260420T010243
CREATED:20250908T103653Z
LAST-MODIFIED:20250908T103653Z
UID:7656-1762792200-1762797600@xn--klinkbyfllesside-1ob.dk
SUMMARY:Fodbold U.8 drenge LGF
DESCRIPTION:
URL:https://xn--klinkbyfllesside-1ob.dk/event/fodbold-u-8-drenge-lgf/2025-11-10/
LOCATION:Hallen\, Nejrupvej 2\, 7620 Lemvig\, Lemvig\, 7620\, Danmark
ORGANIZER;CN="LGF":MAILTO:lgf@lemviggf.dk
END:VEVENT
BEGIN:VEVENT
DTSTART;TZID=Europe/Copenhagen:20251107T190000
DTEND;TZID=Europe/Copenhagen:20251107T203000
DTSTAMP:20260420T010243
CREATED:20251020T080424Z
LAST-MODIFIED:20251020T080424Z
UID:7808-1762542000-1762547400@xn--klinkbyfllesside-1ob.dk
SUMMARY:LGF Herre Senior Fodbold
DESCRIPTION:
URL:https://xn--klinkbyfllesside-1ob.dk/event/lgf-herre-senior-fodbold/2025-11-07/
LOCATION:Hallen\, Nejrupvej 2\, 7620 Lemvig\, Lemvig\, 7620\, Danmark
ORGANIZER;CN="LGF":MAILTO:lgf@lemviggf.dk
END:VEVENT
BEGIN:VEVENT
DTSTART;TZID=Europe/Copenhagen:20251106T193000
DTEND;TZID=Europe/Copenhagen:20251106T210000
DTSTAMP:20260420T010243
CREATED:20251020T080314Z
LAST-MODIFIED:20251020T080314Z
UID:7784-1762457400-1762462800@xn--klinkbyfllesside-1ob.dk
SUMMARY:LGF Damer Senior fodbold
DESCRIPTION:
URL:https://xn--klinkbyfllesside-1ob.dk/event/lgf-damer-senior-fodbold/2025-11-06/
LOCATION:Hallen\, Nejrupvej 2\, 7620 Lemvig\, Lemvig\, 7620\, Danmark
ORGANIZER;CN="LGF":MAILTO:lgf@lemviggf.dk
END:VEVENT
BEGIN:VEVENT
DTSTART;TZID=Europe/Copenhagen:20251105T161500
DTEND;TZID=Europe/Copenhagen:20251105T173000
DTSTAMP:20260420T010243
CREATED:20250908T103757Z
LAST-MODIFIED:20250908T103757Z
UID:7680-1762359300-1762363800@xn--klinkbyfllesside-1ob.dk
SUMMARY:Fodbold u.9 drenge LGF
DESCRIPTION:
URL:https://xn--klinkbyfllesside-1ob.dk/event/fodbold-u-9-drenge-lgf/2025-11-05/
LOCATION:Hallen\, Nejrupvej 2\, 7620 Lemvig\, Lemvig\, 7620\, Danmark
ORGANIZER;CN="LGF":MAILTO:lgf@lemviggf.dk
END:VEVENT
BEGIN:VEVENT
DTSTART;TZID=Europe/Copenhagen:20251103T163000
DTEND;TZID=Europe/Copenhagen:20251103T180000
DTSTAMP:20260420T010243
CREATED:20250908T103653Z
LAST-MODIFIED:20250908T103653Z
UID:7655-1762187400-1762192800@xn--klinkbyfllesside-1ob.dk
SUMMARY:Fodbold U.8 drenge LGF
DESCRIPTION:
URL:https://xn--klinkbyfllesside-1ob.dk/event/fodbold-u-8-drenge-lgf/2025-11-03/
LOCATION:Hallen\, Nejrupvej 2\, 7620 Lemvig\, Lemvig\, 7620\, Danmark
ORGANIZER;CN="LGF":MAILTO:lgf@lemviggf.dk
END:VEVENT
BEGIN:VEVENT
DTSTART;TZID=Europe/Copenhagen:20251031T190000
DTEND;TZID=Europe/Copenhagen:20251031T203000
DTSTAMP:20260420T010243
CREATED:20251020T080424Z
LAST-MODIFIED:20251020T080424Z
UID:7807-1761937200-1761942600@xn--klinkbyfllesside-1ob.dk
SUMMARY:LGF Herre Senior Fodbold
DESCRIPTION:
URL:https://xn--klinkbyfllesside-1ob.dk/event/lgf-herre-senior-fodbold/2025-10-31/
LOCATION:Hallen\, Nejrupvej 2\, 7620 Lemvig\, Lemvig\, 7620\, Danmark
ORGANIZER;CN="LGF":MAILTO:lgf@lemviggf.dk
END:VEVENT
BEGIN:VEVENT
DTSTART;TZID=Europe/Copenhagen:20251030T193000
DTEND;TZID=Europe/Copenhagen:20251030T210000
DTSTAMP:20260420T010243
CREATED:20251020T080314Z
LAST-MODIFIED:20251020T080314Z
UID:7783-1761852600-1761858000@xn--klinkbyfllesside-1ob.dk
SUMMARY:LGF Damer Senior fodbold
DESCRIPTION:
URL:https://xn--klinkbyfllesside-1ob.dk/event/lgf-damer-senior-fodbold/2025-10-30/
LOCATION:Hallen\, Nejrupvej 2\, 7620 Lemvig\, Lemvig\, 7620\, Danmark
ORGANIZER;CN="LGF":MAILTO:lgf@lemviggf.dk
END:VEVENT
BEGIN:VEVENT
DTSTART;TZID=Europe/Copenhagen:20251029T161500
DTEND;TZID=Europe/Copenhagen:20251029T173000
DTSTAMP:20260420T010243
CREATED:20250908T103757Z
LAST-MODIFIED:20250908T103757Z
UID:7679-1761754500-1761759000@xn--klinkbyfllesside-1ob.dk
SUMMARY:Fodbold u.9 drenge LGF
DESCRIPTION:
URL:https://xn--klinkbyfllesside-1ob.dk/event/fodbold-u-9-drenge-lgf/2025-10-29/
LOCATION:Hallen\, Nejrupvej 2\, 7620 Lemvig\, Lemvig\, 7620\, Danmark
ORGANIZER;CN="LGF":MAILTO:lgf@lemviggf.dk
END:VEVENT
BEGIN:VEVENT
DTSTART;TZID=Europe/Copenhagen:20251027T163000
DTEND;TZID=Europe/Copenhagen:20251027T180000
DTSTAMP:20260420T010243
CREATED:20250908T103653Z
LAST-MODIFIED:20250908T103653Z
UID:7654-1761582600-1761588000@xn--klinkbyfllesside-1ob.dk
SUMMARY:Fodbold U.8 drenge LGF
DESCRIPTION:
URL:https://xn--klinkbyfllesside-1ob.dk/event/fodbold-u-8-drenge-lgf/2025-10-27/
LOCATION:Hallen\, Nejrupvej 2\, 7620 Lemvig\, Lemvig\, 7620\, Danmark
ORGANIZER;CN="LGF":MAILTO:lgf@lemviggf.dk
END:VEVENT
BEGIN:VEVENT
DTSTART;TZID=Europe/Copenhagen:20251024T190000
DTEND;TZID=Europe/Copenhagen:20251024T203000
DTSTAMP:20260420T010243
CREATED:20251020T080424Z
LAST-MODIFIED:20251020T080424Z
UID:7805-1761332400-1761337800@xn--klinkbyfllesside-1ob.dk
SUMMARY:LGF Herre Senior Fodbold
DESCRIPTION:
URL:https://xn--klinkbyfllesside-1ob.dk/event/lgf-herre-senior-fodbold/2025-10-24/
LOCATION:Hallen\, Nejrupvej 2\, 7620 Lemvig\, Lemvig\, 7620\, Danmark
ORGANIZER;CN="LGF":MAILTO:lgf@lemviggf.dk
END:VEVENT
BEGIN:VEVENT
DTSTART;TZID=Europe/Copenhagen:20251023T193000
DTEND;TZID=Europe/Copenhagen:20251023T210000
DTSTAMP:20260420T010243
CREATED:20251020T080314Z
LAST-MODIFIED:20251020T080314Z
UID:7781-1761247800-1761253200@xn--klinkbyfllesside-1ob.dk
SUMMARY:LGF Damer Senior fodbold
DESCRIPTION:
URL:https://xn--klinkbyfllesside-1ob.dk/event/lgf-damer-senior-fodbold/2025-10-23/
LOCATION:Hallen\, Nejrupvej 2\, 7620 Lemvig\, Lemvig\, 7620\, Danmark
ORGANIZER;CN="LGF":MAILTO:lgf@lemviggf.dk
END:VEVENT
BEGIN:VEVENT
DTSTART;TZID=Europe/Copenhagen:20251022T161500
DTEND;TZID=Europe/Copenhagen:20251022T173000
DTSTAMP:20260420T010243
CREATED:20250908T103757Z
LAST-MODIFIED:20250908T103757Z
UID:7677-1761149700-1761154200@xn--klinkbyfllesside-1ob.dk
SUMMARY:Fodbold u.9 drenge LGF
DESCRIPTION:
URL:https://xn--klinkbyfllesside-1ob.dk/event/fodbold-u-9-drenge-lgf/2025-10-22/
LOCATION:Hallen\, Nejrupvej 2\, 7620 Lemvig\, Lemvig\, 7620\, Danmark
ORGANIZER;CN="LGF":MAILTO:lgf@lemviggf.dk
END:VEVENT
BEGIN:VEVENT
DTSTART;TZID=Europe/Copenhagen:20251020T163000
DTEND;TZID=Europe/Copenhagen:20251020T180000
DTSTAMP:20260420T010243
CREATED:20250908T103653Z
LAST-MODIFIED:20250908T103653Z
UID:7652-1760977800-1760983200@xn--klinkbyfllesside-1ob.dk
SUMMARY:Fodbold U.8 drenge LGF
DESCRIPTION:
URL:https://xn--klinkbyfllesside-1ob.dk/event/fodbold-u-8-drenge-lgf/2025-10-20/
LOCATION:Hallen\, Nejrupvej 2\, 7620 Lemvig\, Lemvig\, 7620\, Danmark
ORGANIZER;CN="LGF":MAILTO:lgf@lemviggf.dk
END:VEVENT
BEGIN:VEVENT
DTSTART;TZID=Europe/Copenhagen:20250401T180000
DTEND;TZID=Europe/Copenhagen:20250401T193000
DTSTAMP:20260420T010243
CREATED:20240930T074626Z
LAST-MODIFIED:20240930T074626Z
UID:6412-1743530400-1743535800@xn--klinkbyfllesside-1ob.dk
SUMMARY:LGF Damer senior
DESCRIPTION:
URL:https://xn--klinkbyfllesside-1ob.dk/event/lgf-damer-senior/2025-04-01/
LOCATION:Hallen\, Nejrupvej 2\, 7620 Lemvig\, Lemvig\, 7620\, Danmark
ORGANIZER;CN="LGF":MAILTO:lgf@lemviggf.dk
END:VEVENT
BEGIN:VEVENT
DTSTART;TZID=Europe/Copenhagen:20250331T163000
DTEND;TZID=Europe/Copenhagen:20250331T180000
DTSTAMP:20260420T010243
CREATED:20241001T112538Z
LAST-MODIFIED:20241001T112538Z
UID:6274-1743438600-1743444000@xn--klinkbyfllesside-1ob.dk
SUMMARY:LGF Fodbold U. 9 og 10 piger
DESCRIPTION:
URL:https://xn--klinkbyfllesside-1ob.dk/event/lgf-fodbold-u-9-og-10-piger/2025-03-31/
LOCATION:Hallen\, Nejrupvej 2\, 7620 Lemvig\, Lemvig\, 7620\, Danmark
ORGANIZER;CN="LGF":MAILTO:lgf@lemviggf.dk
END:VEVENT
BEGIN:VEVENT
DTSTART;TZID=Europe/Copenhagen:20250328T183000
DTEND;TZID=Europe/Copenhagen:20250328T200000
DTSTAMP:20260420T010243
CREATED:20240930T074739Z
LAST-MODIFIED:20240930T074739Z
UID:6219-1743186600-1743192000@xn--klinkbyfllesside-1ob.dk
SUMMARY:LGF Herre senior
DESCRIPTION:
URL:https://xn--klinkbyfllesside-1ob.dk/event/lgf-herre-senior-2/2025-03-28/
LOCATION:Hallen\, Nejrupvej 2\, 7620 Lemvig\, Lemvig\, 7620\, Danmark
ORGANIZER;CN="LGF":MAILTO:lgf@lemviggf.dk
END:VEVENT
BEGIN:VEVENT
DTSTART;TZID=Europe/Copenhagen:20250327T163000
DTEND;TZID=Europe/Copenhagen:20250327T180000
DTSTAMP:20260420T010243
CREATED:20241001T112749Z
LAST-MODIFIED:20241001T112749Z
UID:6322-1743093000-1743098400@xn--klinkbyfllesside-1ob.dk
SUMMARY:LGF Fodbold U. 8 drenge
DESCRIPTION:
URL:https://xn--klinkbyfllesside-1ob.dk/event/lgf-fodbold-u-8-drenge-2/2025-03-27/
LOCATION:Hallen\, Nejrupvej 2\, 7620 Lemvig\, Lemvig\, 7620\, Danmark
ORGANIZER;CN="LGF":MAILTO:lgf@lemviggf.dk
END:VEVENT
BEGIN:VEVENT
DTSTART;TZID=Europe/Copenhagen:20250325T180000
DTEND;TZID=Europe/Copenhagen:20250325T193000
DTSTAMP:20260420T010243
CREATED:20240930T074626Z
LAST-MODIFIED:20240930T074626Z
UID:6411-1742925600-1742931000@xn--klinkbyfllesside-1ob.dk
SUMMARY:LGF Damer senior
DESCRIPTION:
URL:https://xn--klinkbyfllesside-1ob.dk/event/lgf-damer-senior/2025-03-25/
LOCATION:Hallen\, Nejrupvej 2\, 7620 Lemvig\, Lemvig\, 7620\, Danmark
ORGANIZER;CN="LGF":MAILTO:lgf@lemviggf.dk
END:VEVENT
BEGIN:VEVENT
DTSTART;TZID=Europe/Copenhagen:20250325T163000
DTEND;TZID=Europe/Copenhagen:20250325T180000
DTSTAMP:20260420T010243
CREATED:20241001T112646Z
LAST-MODIFIED:20241001T112646Z
UID:6298-1742920200-1742925600@xn--klinkbyfllesside-1ob.dk
SUMMARY:LGF fodbold U. 8 drenge
DESCRIPTION:
URL:https://xn--klinkbyfllesside-1ob.dk/event/lgf-fodbold-u-8-drenge/2025-03-25/
LOCATION:Hallen\, Nejrupvej 2\, 7620 Lemvig\, Lemvig\, 7620\, Danmark
ORGANIZER;CN="LGF":MAILTO:lgf@lemviggf.dk
END:VEVENT
BEGIN:VEVENT
DTSTART;TZID=Europe/Copenhagen:20250324T163000
DTEND;TZID=Europe/Copenhagen:20250324T180000
DTSTAMP:20260420T010243
CREATED:20241001T112538Z
LAST-MODIFIED:20241001T112538Z
UID:6273-1742833800-1742839200@xn--klinkbyfllesside-1ob.dk
SUMMARY:LGF Fodbold U. 9 og 10 piger
DESCRIPTION:
URL:https://xn--klinkbyfllesside-1ob.dk/event/lgf-fodbold-u-9-og-10-piger/2025-03-24/
LOCATION:Hallen\, Nejrupvej 2\, 7620 Lemvig\, Lemvig\, 7620\, Danmark
ORGANIZER;CN="LGF":MAILTO:lgf@lemviggf.dk
END:VEVENT
BEGIN:VEVENT
DTSTART;TZID=Europe/Copenhagen:20250321T183000
DTEND;TZID=Europe/Copenhagen:20250321T200000
DTSTAMP:20260420T010243
CREATED:20240930T074739Z
LAST-MODIFIED:20240930T074739Z
UID:6218-1742581800-1742587200@xn--klinkbyfllesside-1ob.dk
SUMMARY:LGF Herre senior
DESCRIPTION:
URL:https://xn--klinkbyfllesside-1ob.dk/event/lgf-herre-senior-2/2025-03-21/
LOCATION:Hallen\, Nejrupvej 2\, 7620 Lemvig\, Lemvig\, 7620\, Danmark
ORGANIZER;CN="LGF":MAILTO:lgf@lemviggf.dk
END:VEVENT
BEGIN:VEVENT
DTSTART;TZID=Europe/Copenhagen:20250320T163000
DTEND;TZID=Europe/Copenhagen:20250320T180000
DTSTAMP:20260420T010243
CREATED:20241001T112749Z
LAST-MODIFIED:20241001T112749Z
UID:6321-1742488200-1742493600@xn--klinkbyfllesside-1ob.dk
SUMMARY:LGF Fodbold U. 8 drenge
DESCRIPTION:
URL:https://xn--klinkbyfllesside-1ob.dk/event/lgf-fodbold-u-8-drenge-2/2025-03-20/
LOCATION:Hallen\, Nejrupvej 2\, 7620 Lemvig\, Lemvig\, 7620\, Danmark
ORGANIZER;CN="LGF":MAILTO:lgf@lemviggf.dk
END:VEVENT
BEGIN:VEVENT
DTSTART;TZID=Europe/Copenhagen:20250318T180000
DTEND;TZID=Europe/Copenhagen:20250318T193000
DTSTAMP:20260420T010243
CREATED:20240930T074626Z
LAST-MODIFIED:20240930T074626Z
UID:6410-1742320800-1742326200@xn--klinkbyfllesside-1ob.dk
SUMMARY:LGF Damer senior
DESCRIPTION:
URL:https://xn--klinkbyfllesside-1ob.dk/event/lgf-damer-senior/2025-03-18/
LOCATION:Hallen\, Nejrupvej 2\, 7620 Lemvig\, Lemvig\, 7620\, Danmark
ORGANIZER;CN="LGF":MAILTO:lgf@lemviggf.dk
END:VEVENT
BEGIN:VEVENT
DTSTART;TZID=Europe/Copenhagen:20250318T163000
DTEND;TZID=Europe/Copenhagen:20250318T180000
DTSTAMP:20260420T010243
CREATED:20241001T112646Z
LAST-MODIFIED:20241001T112646Z
UID:6297-1742315400-1742320800@xn--klinkbyfllesside-1ob.dk
SUMMARY:LGF fodbold U. 8 drenge
DESCRIPTION:
URL:https://xn--klinkbyfllesside-1ob.dk/event/lgf-fodbold-u-8-drenge/2025-03-18/
LOCATION:Hallen\, Nejrupvej 2\, 7620 Lemvig\, Lemvig\, 7620\, Danmark
ORGANIZER;CN="LGF":MAILTO:lgf@lemviggf.dk
END:VEVENT
BEGIN:VEVENT
DTSTART;TZID=Europe/Copenhagen:20250317T163000
DTEND;TZID=Europe/Copenhagen:20250317T180000
DTSTAMP:20260420T010243
CREATED:20241001T112538Z
LAST-MODIFIED:20241001T112538Z
UID:6272-1742229000-1742234400@xn--klinkbyfllesside-1ob.dk
SUMMARY:LGF Fodbold U. 9 og 10 piger
DESCRIPTION:
URL:https://xn--klinkbyfllesside-1ob.dk/event/lgf-fodbold-u-9-og-10-piger/2025-03-17/
LOCATION:Hallen\, Nejrupvej 2\, 7620 Lemvig\, Lemvig\, 7620\, Danmark
ORGANIZER;CN="LGF":MAILTO:lgf@lemviggf.dk
END:VEVENT
BEGIN:VEVENT
DTSTART;TZID=Europe/Copenhagen:20250314T183000
DTEND;TZID=Europe/Copenhagen:20250314T200000
DTSTAMP:20260420T010243
CREATED:20240930T074739Z
LAST-MODIFIED:20240930T074739Z
UID:6217-1741977000-1741982400@xn--klinkbyfllesside-1ob.dk
SUMMARY:LGF Herre senior
DESCRIPTION:
URL:https://xn--klinkbyfllesside-1ob.dk/event/lgf-herre-senior-2/2025-03-14/
LOCATION:Hallen\, Nejrupvej 2\, 7620 Lemvig\, Lemvig\, 7620\, Danmark
ORGANIZER;CN="LGF":MAILTO:lgf@lemviggf.dk
END:VEVENT
BEGIN:VEVENT
DTSTART;TZID=Europe/Copenhagen:20250313T163000
DTEND;TZID=Europe/Copenhagen:20250313T180000
DTSTAMP:20260420T010243
CREATED:20241001T112749Z
LAST-MODIFIED:20241001T112749Z
UID:6320-1741883400-1741888800@xn--klinkbyfllesside-1ob.dk
SUMMARY:LGF Fodbold U. 8 drenge
DESCRIPTION:
URL:https://xn--klinkbyfllesside-1ob.dk/event/lgf-fodbold-u-8-drenge-2/2025-03-13/
LOCATION:Hallen\, Nejrupvej 2\, 7620 Lemvig\, Lemvig\, 7620\, Danmark
ORGANIZER;CN="LGF":MAILTO:lgf@lemviggf.dk
END:VEVENT
BEGIN:VEVENT
DTSTART;TZID=Europe/Copenhagen:20250311T180000
DTEND;TZID=Europe/Copenhagen:20250311T193000
DTSTAMP:20260420T010243
CREATED:20240930T074626Z
LAST-MODIFIED:20240930T074626Z
UID:6409-1741716000-1741721400@xn--klinkbyfllesside-1ob.dk
SUMMARY:LGF Damer senior
DESCRIPTION:
URL:https://xn--klinkbyfllesside-1ob.dk/event/lgf-damer-senior/2025-03-11/
LOCATION:Hallen\, Nejrupvej 2\, 7620 Lemvig\, Lemvig\, 7620\, Danmark
ORGANIZER;CN="LGF":MAILTO:lgf@lemviggf.dk
END:VEVENT
BEGIN:VEVENT
DTSTART;TZID=Europe/Copenhagen:20250311T163000
DTEND;TZID=Europe/Copenhagen:20250311T180000
DTSTAMP:20260420T010243
CREATED:20241001T112646Z
LAST-MODIFIED:20241001T112646Z
UID:6296-1741710600-1741716000@xn--klinkbyfllesside-1ob.dk
SUMMARY:LGF fodbold U. 8 drenge
DESCRIPTION:
URL:https://xn--klinkbyfllesside-1ob.dk/event/lgf-fodbold-u-8-drenge/2025-03-11/
LOCATION:Hallen\, Nejrupvej 2\, 7620 Lemvig\, Lemvig\, 7620\, Danmark
ORGANIZER;CN="LGF":MAILTO:lgf@lemviggf.dk
END:VEVENT
END:VCALENDAR