BEGIN:VCALENDAR
VERSION:2.0
PRODID:-//Klinkby Alt i Et Huset - ECPv5.16.3.1//NONSGML v1.0//EN
CALSCALE:GREGORIAN
METHOD:PUBLISH
X-WR-CALNAME:Klinkby Alt i Et Huset
X-ORIGINAL-URL:https://xn--klinkbyfllesside-1ob.dk
X-WR-CALDESC:Begivenheder for Klinkby Alt i Et Huset
REFRESH-INTERVAL;VALUE=DURATION:PT1H
X-Robots-Tag:noindex
X-PUBLISHED-TTL:PT1H
BEGIN:VTIMEZONE
TZID:Europe/Copenhagen
BEGIN:DAYLIGHT
TZOFFSETFROM:+0100
TZOFFSETTO:+0200
TZNAME:CEST
DTSTART:20250330T010000
END:DAYLIGHT
BEGIN:STANDARD
TZOFFSETFROM:+0200
TZOFFSETTO:+0100
TZNAME:CET
DTSTART:20251026T010000
END:STANDARD
BEGIN:DAYLIGHT
TZOFFSETFROM:+0100
TZOFFSETTO:+0200
TZNAME:CEST
DTSTART:20260329T010000
END:DAYLIGHT
BEGIN:STANDARD
TZOFFSETFROM:+0200
TZOFFSETTO:+0100
TZNAME:CET
DTSTART:20261025T010000
END:STANDARD
END:VTIMEZONE
BEGIN:VEVENT
DTSTART;TZID=Europe/Copenhagen:20260102T190000
DTEND;TZID=Europe/Copenhagen:20260102T203000
DTSTAMP:20260419T193850
CREATED:20251020T080424Z
LAST-MODIFIED:20251020T080424Z
UID:7816-1767380400-1767385800@xn--klinkbyfllesside-1ob.dk
SUMMARY:LGF Herre Senior Fodbold
DESCRIPTION:
URL:https://xn--klinkbyfllesside-1ob.dk/event/lgf-herre-senior-fodbold/2026-01-02/
LOCATION:Hallen\, Nejrupvej 2\, 7620 Lemvig\, Lemvig\, 7620\, Danmark
ORGANIZER;CN="LGF":MAILTO:lgf@lemviggf.dk
END:VEVENT
BEGIN:VEVENT
DTSTART;TZID=Europe/Copenhagen:20260101T193000
DTEND;TZID=Europe/Copenhagen:20260101T210000
DTSTAMP:20260419T193850
CREATED:20251020T080314Z
LAST-MODIFIED:20251020T080314Z
UID:7792-1767295800-1767301200@xn--klinkbyfllesside-1ob.dk
SUMMARY:LGF Damer Senior fodbold
DESCRIPTION:
URL:https://xn--klinkbyfllesside-1ob.dk/event/lgf-damer-senior-fodbold/2026-01-01/
LOCATION:Hallen\, Nejrupvej 2\, 7620 Lemvig\, Lemvig\, 7620\, Danmark
ORGANIZER;CN="LGF":MAILTO:lgf@lemviggf.dk
END:VEVENT
BEGIN:VEVENT
DTSTART;TZID=Europe/Copenhagen:20251231T161500
DTEND;TZID=Europe/Copenhagen:20251231T173000
DTSTAMP:20260419T193850
CREATED:20250908T103757Z
LAST-MODIFIED:20250908T103757Z
UID:7688-1767197700-1767202200@xn--klinkbyfllesside-1ob.dk
SUMMARY:Fodbold u.9 drenge LGF
DESCRIPTION:
URL:https://xn--klinkbyfllesside-1ob.dk/event/fodbold-u-9-drenge-lgf/2025-12-31/
LOCATION:Hallen\, Nejrupvej 2\, 7620 Lemvig\, Lemvig\, 7620\, Danmark
ORGANIZER;CN="LGF":MAILTO:lgf@lemviggf.dk
END:VEVENT
BEGIN:VEVENT
DTSTART;TZID=Europe/Copenhagen:20251229T163000
DTEND;TZID=Europe/Copenhagen:20251229T180000
DTSTAMP:20260419T193850
CREATED:20250908T103653Z
LAST-MODIFIED:20250908T103653Z
UID:7663-1767025800-1767031200@xn--klinkbyfllesside-1ob.dk
SUMMARY:Fodbold U.8 drenge LGF
DESCRIPTION:
URL:https://xn--klinkbyfllesside-1ob.dk/event/fodbold-u-8-drenge-lgf/2025-12-29/
LOCATION:Hallen\, Nejrupvej 2\, 7620 Lemvig\, Lemvig\, 7620\, Danmark
ORGANIZER;CN="LGF":MAILTO:lgf@lemviggf.dk
END:VEVENT
BEGIN:VEVENT
DTSTART;TZID=Europe/Copenhagen:20251226T190000
DTEND;TZID=Europe/Copenhagen:20251226T203000
DTSTAMP:20260419T193850
CREATED:20251020T080424Z
LAST-MODIFIED:20251020T080424Z
UID:7815-1766775600-1766781000@xn--klinkbyfllesside-1ob.dk
SUMMARY:LGF Herre Senior Fodbold
DESCRIPTION:
URL:https://xn--klinkbyfllesside-1ob.dk/event/lgf-herre-senior-fodbold/2025-12-26/
LOCATION:Hallen\, Nejrupvej 2\, 7620 Lemvig\, Lemvig\, 7620\, Danmark
ORGANIZER;CN="LGF":MAILTO:lgf@lemviggf.dk
END:VEVENT
BEGIN:VEVENT
DTSTART;TZID=Europe/Copenhagen:20251225T193000
DTEND;TZID=Europe/Copenhagen:20251225T210000
DTSTAMP:20260419T193850
CREATED:20251020T080314Z
LAST-MODIFIED:20251020T080314Z
UID:7791-1766691000-1766696400@xn--klinkbyfllesside-1ob.dk
SUMMARY:LGF Damer Senior fodbold
DESCRIPTION:
URL:https://xn--klinkbyfllesside-1ob.dk/event/lgf-damer-senior-fodbold/2025-12-25/
LOCATION:Hallen\, Nejrupvej 2\, 7620 Lemvig\, Lemvig\, 7620\, Danmark
ORGANIZER;CN="LGF":MAILTO:lgf@lemviggf.dk
END:VEVENT
BEGIN:VEVENT
DTSTART;TZID=Europe/Copenhagen:20251224T161500
DTEND;TZID=Europe/Copenhagen:20251224T173000
DTSTAMP:20260419T193850
CREATED:20250908T103757Z
LAST-MODIFIED:20250908T103757Z
UID:7687-1766592900-1766597400@xn--klinkbyfllesside-1ob.dk
SUMMARY:Fodbold u.9 drenge LGF
DESCRIPTION:
URL:https://xn--klinkbyfllesside-1ob.dk/event/fodbold-u-9-drenge-lgf/2025-12-24/
LOCATION:Hallen\, Nejrupvej 2\, 7620 Lemvig\, Lemvig\, 7620\, Danmark
ORGANIZER;CN="LGF":MAILTO:lgf@lemviggf.dk
END:VEVENT
BEGIN:VEVENT
DTSTART;TZID=Europe/Copenhagen:20251222T163000
DTEND;TZID=Europe/Copenhagen:20251222T180000
DTSTAMP:20260419T193850
CREATED:20250908T103653Z
LAST-MODIFIED:20250908T103653Z
UID:7662-1766421000-1766426400@xn--klinkbyfllesside-1ob.dk
SUMMARY:Fodbold U.8 drenge LGF
DESCRIPTION:
URL:https://xn--klinkbyfllesside-1ob.dk/event/fodbold-u-8-drenge-lgf/2025-12-22/
LOCATION:Hallen\, Nejrupvej 2\, 7620 Lemvig\, Lemvig\, 7620\, Danmark
ORGANIZER;CN="LGF":MAILTO:lgf@lemviggf.dk
END:VEVENT
BEGIN:VEVENT
DTSTART;TZID=Europe/Copenhagen:20251219T190000
DTEND;TZID=Europe/Copenhagen:20251219T203000
DTSTAMP:20260419T193850
CREATED:20251020T080424Z
LAST-MODIFIED:20251020T080424Z
UID:7814-1766170800-1766176200@xn--klinkbyfllesside-1ob.dk
SUMMARY:LGF Herre Senior Fodbold
DESCRIPTION:
URL:https://xn--klinkbyfllesside-1ob.dk/event/lgf-herre-senior-fodbold/2025-12-19/
LOCATION:Hallen\, Nejrupvej 2\, 7620 Lemvig\, Lemvig\, 7620\, Danmark
ORGANIZER;CN="LGF":MAILTO:lgf@lemviggf.dk
END:VEVENT
BEGIN:VEVENT
DTSTART;TZID=Europe/Copenhagen:20251218T193000
DTEND;TZID=Europe/Copenhagen:20251218T210000
DTSTAMP:20260419T193850
CREATED:20251020T080314Z
LAST-MODIFIED:20251020T080314Z
UID:7790-1766086200-1766091600@xn--klinkbyfllesside-1ob.dk
SUMMARY:LGF Damer Senior fodbold
DESCRIPTION:
URL:https://xn--klinkbyfllesside-1ob.dk/event/lgf-damer-senior-fodbold/2025-12-18/
LOCATION:Hallen\, Nejrupvej 2\, 7620 Lemvig\, Lemvig\, 7620\, Danmark
ORGANIZER;CN="LGF":MAILTO:lgf@lemviggf.dk
END:VEVENT
BEGIN:VEVENT
DTSTART;TZID=Europe/Copenhagen:20251217T161500
DTEND;TZID=Europe/Copenhagen:20251217T173000
DTSTAMP:20260419T193850
CREATED:20250908T103757Z
LAST-MODIFIED:20250908T103757Z
UID:7686-1765988100-1765992600@xn--klinkbyfllesside-1ob.dk
SUMMARY:Fodbold u.9 drenge LGF
DESCRIPTION:
URL:https://xn--klinkbyfllesside-1ob.dk/event/fodbold-u-9-drenge-lgf/2025-12-17/
LOCATION:Hallen\, Nejrupvej 2\, 7620 Lemvig\, Lemvig\, 7620\, Danmark
ORGANIZER;CN="LGF":MAILTO:lgf@lemviggf.dk
END:VEVENT
BEGIN:VEVENT
DTSTART;TZID=Europe/Copenhagen:20251215T163000
DTEND;TZID=Europe/Copenhagen:20251215T180000
DTSTAMP:20260419T193850
CREATED:20250908T103653Z
LAST-MODIFIED:20250908T103653Z
UID:7661-1765816200-1765821600@xn--klinkbyfllesside-1ob.dk
SUMMARY:Fodbold U.8 drenge LGF
DESCRIPTION:
URL:https://xn--klinkbyfllesside-1ob.dk/event/fodbold-u-8-drenge-lgf/2025-12-15/
LOCATION:Hallen\, Nejrupvej 2\, 7620 Lemvig\, Lemvig\, 7620\, Danmark
ORGANIZER;CN="LGF":MAILTO:lgf@lemviggf.dk
END:VEVENT
BEGIN:VEVENT
DTSTART;TZID=Europe/Copenhagen:20251212T190000
DTEND;TZID=Europe/Copenhagen:20251212T203000
DTSTAMP:20260419T193850
CREATED:20251020T080424Z
LAST-MODIFIED:20251020T080424Z
UID:7813-1765566000-1765571400@xn--klinkbyfllesside-1ob.dk
SUMMARY:LGF Herre Senior Fodbold
DESCRIPTION:
URL:https://xn--klinkbyfllesside-1ob.dk/event/lgf-herre-senior-fodbold/2025-12-12/
LOCATION:Hallen\, Nejrupvej 2\, 7620 Lemvig\, Lemvig\, 7620\, Danmark
ORGANIZER;CN="LGF":MAILTO:lgf@lemviggf.dk
END:VEVENT
BEGIN:VEVENT
DTSTART;TZID=Europe/Copenhagen:20251211T193000
DTEND;TZID=Europe/Copenhagen:20251211T210000
DTSTAMP:20260419T193850
CREATED:20251020T080314Z
LAST-MODIFIED:20251020T080314Z
UID:7789-1765481400-1765486800@xn--klinkbyfllesside-1ob.dk
SUMMARY:LGF Damer Senior fodbold
DESCRIPTION:
URL:https://xn--klinkbyfllesside-1ob.dk/event/lgf-damer-senior-fodbold/2025-12-11/
LOCATION:Hallen\, Nejrupvej 2\, 7620 Lemvig\, Lemvig\, 7620\, Danmark
ORGANIZER;CN="LGF":MAILTO:lgf@lemviggf.dk
END:VEVENT
BEGIN:VEVENT
DTSTART;TZID=Europe/Copenhagen:20251210T161500
DTEND;TZID=Europe/Copenhagen:20251210T173000
DTSTAMP:20260419T193850
CREATED:20250908T103757Z
LAST-MODIFIED:20250908T103757Z
UID:7685-1765383300-1765387800@xn--klinkbyfllesside-1ob.dk
SUMMARY:Fodbold u.9 drenge LGF
DESCRIPTION:
URL:https://xn--klinkbyfllesside-1ob.dk/event/fodbold-u-9-drenge-lgf/2025-12-10/
LOCATION:Hallen\, Nejrupvej 2\, 7620 Lemvig\, Lemvig\, 7620\, Danmark
ORGANIZER;CN="LGF":MAILTO:lgf@lemviggf.dk
END:VEVENT
BEGIN:VEVENT
DTSTART;TZID=Europe/Copenhagen:20251208T163000
DTEND;TZID=Europe/Copenhagen:20251208T180000
DTSTAMP:20260419T193850
CREATED:20250908T103653Z
LAST-MODIFIED:20250908T103653Z
UID:7660-1765211400-1765216800@xn--klinkbyfllesside-1ob.dk
SUMMARY:Fodbold U.8 drenge LGF
DESCRIPTION:
URL:https://xn--klinkbyfllesside-1ob.dk/event/fodbold-u-8-drenge-lgf/2025-12-08/
LOCATION:Hallen\, Nejrupvej 2\, 7620 Lemvig\, Lemvig\, 7620\, Danmark
ORGANIZER;CN="LGF":MAILTO:lgf@lemviggf.dk
END:VEVENT
BEGIN:VEVENT
DTSTART;TZID=Europe/Copenhagen:20251205T190000
DTEND;TZID=Europe/Copenhagen:20251205T203000
DTSTAMP:20260419T193850
CREATED:20251020T080424Z
LAST-MODIFIED:20251020T080424Z
UID:7812-1764961200-1764966600@xn--klinkbyfllesside-1ob.dk
SUMMARY:LGF Herre Senior Fodbold
DESCRIPTION:
URL:https://xn--klinkbyfllesside-1ob.dk/event/lgf-herre-senior-fodbold/2025-12-05/
LOCATION:Hallen\, Nejrupvej 2\, 7620 Lemvig\, Lemvig\, 7620\, Danmark
ORGANIZER;CN="LGF":MAILTO:lgf@lemviggf.dk
END:VEVENT
BEGIN:VEVENT
DTSTART;TZID=Europe/Copenhagen:20251204T193000
DTEND;TZID=Europe/Copenhagen:20251204T210000
DTSTAMP:20260419T193850
CREATED:20251020T080314Z
LAST-MODIFIED:20251020T080314Z
UID:7788-1764876600-1764882000@xn--klinkbyfllesside-1ob.dk
SUMMARY:LGF Damer Senior fodbold
DESCRIPTION:
URL:https://xn--klinkbyfllesside-1ob.dk/event/lgf-damer-senior-fodbold/2025-12-04/
LOCATION:Hallen\, Nejrupvej 2\, 7620 Lemvig\, Lemvig\, 7620\, Danmark
ORGANIZER;CN="LGF":MAILTO:lgf@lemviggf.dk
END:VEVENT
BEGIN:VEVENT
DTSTART;TZID=Europe/Copenhagen:20251203T161500
DTEND;TZID=Europe/Copenhagen:20251203T173000
DTSTAMP:20260419T193850
CREATED:20250908T103757Z
LAST-MODIFIED:20250908T103757Z
UID:7684-1764778500-1764783000@xn--klinkbyfllesside-1ob.dk
SUMMARY:Fodbold u.9 drenge LGF
DESCRIPTION:
URL:https://xn--klinkbyfllesside-1ob.dk/event/fodbold-u-9-drenge-lgf/2025-12-03/
LOCATION:Hallen\, Nejrupvej 2\, 7620 Lemvig\, Lemvig\, 7620\, Danmark
ORGANIZER;CN="LGF":MAILTO:lgf@lemviggf.dk
END:VEVENT
BEGIN:VEVENT
DTSTART;TZID=Europe/Copenhagen:20251201T163000
DTEND;TZID=Europe/Copenhagen:20251201T180000
DTSTAMP:20260419T193850
CREATED:20250908T103653Z
LAST-MODIFIED:20250908T103653Z
UID:7659-1764606600-1764612000@xn--klinkbyfllesside-1ob.dk
SUMMARY:Fodbold U.8 drenge LGF
DESCRIPTION:
URL:https://xn--klinkbyfllesside-1ob.dk/event/fodbold-u-8-drenge-lgf/2025-12-01/
LOCATION:Hallen\, Nejrupvej 2\, 7620 Lemvig\, Lemvig\, 7620\, Danmark
ORGANIZER;CN="LGF":MAILTO:lgf@lemviggf.dk
END:VEVENT
BEGIN:VEVENT
DTSTART;TZID=Europe/Copenhagen:20251128T190000
DTEND;TZID=Europe/Copenhagen:20251128T203000
DTSTAMP:20260419T193850
CREATED:20251020T080424Z
LAST-MODIFIED:20251020T080424Z
UID:7811-1764356400-1764361800@xn--klinkbyfllesside-1ob.dk
SUMMARY:LGF Herre Senior Fodbold
DESCRIPTION:
URL:https://xn--klinkbyfllesside-1ob.dk/event/lgf-herre-senior-fodbold/2025-11-28/
LOCATION:Hallen\, Nejrupvej 2\, 7620 Lemvig\, Lemvig\, 7620\, Danmark
ORGANIZER;CN="LGF":MAILTO:lgf@lemviggf.dk
END:VEVENT
BEGIN:VEVENT
DTSTART;TZID=Europe/Copenhagen:20251127T193000
DTEND;TZID=Europe/Copenhagen:20251127T210000
DTSTAMP:20260419T193850
CREATED:20251020T080314Z
LAST-MODIFIED:20251020T080314Z
UID:7787-1764271800-1764277200@xn--klinkbyfllesside-1ob.dk
SUMMARY:LGF Damer Senior fodbold
DESCRIPTION:
URL:https://xn--klinkbyfllesside-1ob.dk/event/lgf-damer-senior-fodbold/2025-11-27/
LOCATION:Hallen\, Nejrupvej 2\, 7620 Lemvig\, Lemvig\, 7620\, Danmark
ORGANIZER;CN="LGF":MAILTO:lgf@lemviggf.dk
END:VEVENT
BEGIN:VEVENT
DTSTART;TZID=Europe/Copenhagen:20251126T161500
DTEND;TZID=Europe/Copenhagen:20251126T173000
DTSTAMP:20260419T193850
CREATED:20250908T103757Z
LAST-MODIFIED:20250908T103757Z
UID:7683-1764173700-1764178200@xn--klinkbyfllesside-1ob.dk
SUMMARY:Fodbold u.9 drenge LGF
DESCRIPTION:
URL:https://xn--klinkbyfllesside-1ob.dk/event/fodbold-u-9-drenge-lgf/2025-11-26/
LOCATION:Hallen\, Nejrupvej 2\, 7620 Lemvig\, Lemvig\, 7620\, Danmark
ORGANIZER;CN="LGF":MAILTO:lgf@lemviggf.dk
END:VEVENT
BEGIN:VEVENT
DTSTART;TZID=Europe/Copenhagen:20251124T163000
DTEND;TZID=Europe/Copenhagen:20251124T180000
DTSTAMP:20260419T193850
CREATED:20250908T103653Z
LAST-MODIFIED:20250908T103653Z
UID:7658-1764001800-1764007200@xn--klinkbyfllesside-1ob.dk
SUMMARY:Fodbold U.8 drenge LGF
DESCRIPTION:
URL:https://xn--klinkbyfllesside-1ob.dk/event/fodbold-u-8-drenge-lgf/2025-11-24/
LOCATION:Hallen\, Nejrupvej 2\, 7620 Lemvig\, Lemvig\, 7620\, Danmark
ORGANIZER;CN="LGF":MAILTO:lgf@lemviggf.dk
END:VEVENT
BEGIN:VEVENT
DTSTART;TZID=Europe/Copenhagen:20251121T190000
DTEND;TZID=Europe/Copenhagen:20251121T203000
DTSTAMP:20260419T193850
CREATED:20251020T080424Z
LAST-MODIFIED:20251020T080424Z
UID:7810-1763751600-1763757000@xn--klinkbyfllesside-1ob.dk
SUMMARY:LGF Herre Senior Fodbold
DESCRIPTION:
URL:https://xn--klinkbyfllesside-1ob.dk/event/lgf-herre-senior-fodbold/2025-11-21/
LOCATION:Hallen\, Nejrupvej 2\, 7620 Lemvig\, Lemvig\, 7620\, Danmark
ORGANIZER;CN="LGF":MAILTO:lgf@lemviggf.dk
END:VEVENT
BEGIN:VEVENT
DTSTART;TZID=Europe/Copenhagen:20251120T193000
DTEND;TZID=Europe/Copenhagen:20251120T210000
DTSTAMP:20260419T193850
CREATED:20251020T080314Z
LAST-MODIFIED:20251020T080314Z
UID:7786-1763667000-1763672400@xn--klinkbyfllesside-1ob.dk
SUMMARY:LGF Damer Senior fodbold
DESCRIPTION:
URL:https://xn--klinkbyfllesside-1ob.dk/event/lgf-damer-senior-fodbold/2025-11-20/
LOCATION:Hallen\, Nejrupvej 2\, 7620 Lemvig\, Lemvig\, 7620\, Danmark
ORGANIZER;CN="LGF":MAILTO:lgf@lemviggf.dk
END:VEVENT
BEGIN:VEVENT
DTSTART;TZID=Europe/Copenhagen:20251119T161500
DTEND;TZID=Europe/Copenhagen:20251119T173000
DTSTAMP:20260419T193850
CREATED:20250908T103757Z
LAST-MODIFIED:20250908T103757Z
UID:7682-1763568900-1763573400@xn--klinkbyfllesside-1ob.dk
SUMMARY:Fodbold u.9 drenge LGF
DESCRIPTION:
URL:https://xn--klinkbyfllesside-1ob.dk/event/fodbold-u-9-drenge-lgf/2025-11-19/
LOCATION:Hallen\, Nejrupvej 2\, 7620 Lemvig\, Lemvig\, 7620\, Danmark
ORGANIZER;CN="LGF":MAILTO:lgf@lemviggf.dk
END:VEVENT
BEGIN:VEVENT
DTSTART;TZID=Europe/Copenhagen:20251117T163000
DTEND;TZID=Europe/Copenhagen:20251117T180000
DTSTAMP:20260419T193850
CREATED:20250908T103653Z
LAST-MODIFIED:20250908T103653Z
UID:7657-1763397000-1763402400@xn--klinkbyfllesside-1ob.dk
SUMMARY:Fodbold U.8 drenge LGF
DESCRIPTION:
URL:https://xn--klinkbyfllesside-1ob.dk/event/fodbold-u-8-drenge-lgf/2025-11-17/
LOCATION:Hallen\, Nejrupvej 2\, 7620 Lemvig\, Lemvig\, 7620\, Danmark
ORGANIZER;CN="LGF":MAILTO:lgf@lemviggf.dk
END:VEVENT
BEGIN:VEVENT
DTSTART;TZID=Europe/Copenhagen:20251114T190000
DTEND;TZID=Europe/Copenhagen:20251114T203000
DTSTAMP:20260419T193850
CREATED:20251020T080424Z
LAST-MODIFIED:20251020T080424Z
UID:7809-1763146800-1763152200@xn--klinkbyfllesside-1ob.dk
SUMMARY:LGF Herre Senior Fodbold
DESCRIPTION:
URL:https://xn--klinkbyfllesside-1ob.dk/event/lgf-herre-senior-fodbold/2025-11-14/
LOCATION:Hallen\, Nejrupvej 2\, 7620 Lemvig\, Lemvig\, 7620\, Danmark
ORGANIZER;CN="LGF":MAILTO:lgf@lemviggf.dk
END:VEVENT
BEGIN:VEVENT
DTSTART;TZID=Europe/Copenhagen:20251113T193000
DTEND;TZID=Europe/Copenhagen:20251113T210000
DTSTAMP:20260419T193850
CREATED:20251020T080314Z
LAST-MODIFIED:20251020T080314Z
UID:7785-1763062200-1763067600@xn--klinkbyfllesside-1ob.dk
SUMMARY:LGF Damer Senior fodbold
DESCRIPTION:
URL:https://xn--klinkbyfllesside-1ob.dk/event/lgf-damer-senior-fodbold/2025-11-13/
LOCATION:Hallen\, Nejrupvej 2\, 7620 Lemvig\, Lemvig\, 7620\, Danmark
ORGANIZER;CN="LGF":MAILTO:lgf@lemviggf.dk
END:VEVENT
END:VCALENDAR