BEGIN:VCALENDAR
VERSION:2.0
PRODID:-//Klinkby Alt i Et Huset - ECPv5.16.3.1//NONSGML v1.0//EN
CALSCALE:GREGORIAN
METHOD:PUBLISH
X-ORIGINAL-URL:https://xn--klinkbyfllesside-1ob.dk
X-WR-CALDESC:Begivenheder for Klinkby Alt i Et Huset
REFRESH-INTERVAL;VALUE=DURATION:PT1H
X-Robots-Tag:noindex
X-PUBLISHED-TTL:PT1H
BEGIN:VTIMEZONE
TZID:Europe/Copenhagen
BEGIN:DAYLIGHT
TZOFFSETFROM:+0100
TZOFFSETTO:+0200
TZNAME:CEST
DTSTART:20230326T010000
END:DAYLIGHT
BEGIN:STANDARD
TZOFFSETFROM:+0200
TZOFFSETTO:+0100
TZNAME:CET
DTSTART:20231029T010000
END:STANDARD
BEGIN:DAYLIGHT
TZOFFSETFROM:+0100
TZOFFSETTO:+0200
TZNAME:CEST
DTSTART:20240331T010000
END:DAYLIGHT
BEGIN:STANDARD
TZOFFSETFROM:+0200
TZOFFSETTO:+0100
TZNAME:CET
DTSTART:20241027T010000
END:STANDARD
END:VTIMEZONE
BEGIN:VEVENT
DTSTART;TZID=Europe/Copenhagen:20241118T163000
DTEND;TZID=Europe/Copenhagen:20241118T180000
DTSTAMP:20260422T203609
CREATED:20241001T112538Z
LAST-MODIFIED:20241001T112538Z
UID:6255-1731947400-1731952800@xn--klinkbyfllesside-1ob.dk
SUMMARY:LGF Fodbold U. 9 og 10 piger
DESCRIPTION:
URL:https://xn--klinkbyfllesside-1ob.dk/event/lgf-fodbold-u-9-og-10-piger/2024-11-18/
LOCATION:Hallen\, Nejrupvej 2\, 7620 Lemvig\, Lemvig\, 7620\, Danmark
ORGANIZER;CN="LGF":MAILTO:lgf@lemviggf.dk
END:VEVENT
BEGIN:VEVENT
DTSTART;TZID=Europe/Copenhagen:20241115T183000
DTEND;TZID=Europe/Copenhagen:20241115T200000
DTSTAMP:20260422T203609
CREATED:20240930T074739Z
LAST-MODIFIED:20240930T074739Z
UID:6200-1731695400-1731700800@xn--klinkbyfllesside-1ob.dk
SUMMARY:LGF Herre senior
DESCRIPTION:
URL:https://xn--klinkbyfllesside-1ob.dk/event/lgf-herre-senior-2/2024-11-15/
LOCATION:Hallen\, Nejrupvej 2\, 7620 Lemvig\, Lemvig\, 7620\, Danmark
ORGANIZER;CN="LGF":MAILTO:lgf@lemviggf.dk
END:VEVENT
BEGIN:VEVENT
DTSTART;TZID=Europe/Copenhagen:20241114T163000
DTEND;TZID=Europe/Copenhagen:20241114T180000
DTSTAMP:20260422T203609
CREATED:20241001T112749Z
LAST-MODIFIED:20241001T112749Z
UID:6303-1731601800-1731607200@xn--klinkbyfllesside-1ob.dk
SUMMARY:LGF Fodbold U. 8 drenge
DESCRIPTION:
URL:https://xn--klinkbyfllesside-1ob.dk/event/lgf-fodbold-u-8-drenge-2/2024-11-14/
LOCATION:Hallen\, Nejrupvej 2\, 7620 Lemvig\, Lemvig\, 7620\, Danmark
ORGANIZER;CN="LGF":MAILTO:lgf@lemviggf.dk
END:VEVENT
BEGIN:VEVENT
DTSTART;TZID=Europe/Copenhagen:20241112T180000
DTEND;TZID=Europe/Copenhagen:20241112T193000
DTSTAMP:20260422T203609
CREATED:20240930T074626Z
LAST-MODIFIED:20240930T074626Z
UID:6392-1731434400-1731439800@xn--klinkbyfllesside-1ob.dk
SUMMARY:LGF Damer senior
DESCRIPTION:
URL:https://xn--klinkbyfllesside-1ob.dk/event/lgf-damer-senior/2024-11-12/
LOCATION:Hallen\, Nejrupvej 2\, 7620 Lemvig\, Lemvig\, 7620\, Danmark
ORGANIZER;CN="LGF":MAILTO:lgf@lemviggf.dk
END:VEVENT
BEGIN:VEVENT
DTSTART;TZID=Europe/Copenhagen:20241112T163000
DTEND;TZID=Europe/Copenhagen:20241112T180000
DTSTAMP:20260422T203609
CREATED:20241001T112646Z
LAST-MODIFIED:20241001T112646Z
UID:6279-1731429000-1731434400@xn--klinkbyfllesside-1ob.dk
SUMMARY:LGF fodbold U. 8 drenge
DESCRIPTION:
URL:https://xn--klinkbyfllesside-1ob.dk/event/lgf-fodbold-u-8-drenge/2024-11-12/
LOCATION:Hallen\, Nejrupvej 2\, 7620 Lemvig\, Lemvig\, 7620\, Danmark
ORGANIZER;CN="LGF":MAILTO:lgf@lemviggf.dk
END:VEVENT
BEGIN:VEVENT
DTSTART;TZID=Europe/Copenhagen:20241111T163000
DTEND;TZID=Europe/Copenhagen:20241111T180000
DTSTAMP:20260422T203609
CREATED:20241001T112538Z
LAST-MODIFIED:20241001T112538Z
UID:6254-1731342600-1731348000@xn--klinkbyfllesside-1ob.dk
SUMMARY:LGF Fodbold U. 9 og 10 piger
DESCRIPTION:
URL:https://xn--klinkbyfllesside-1ob.dk/event/lgf-fodbold-u-9-og-10-piger/2024-11-11/
LOCATION:Hallen\, Nejrupvej 2\, 7620 Lemvig\, Lemvig\, 7620\, Danmark
ORGANIZER;CN="LGF":MAILTO:lgf@lemviggf.dk
END:VEVENT
BEGIN:VEVENT
DTSTART;TZID=Europe/Copenhagen:20241108T183000
DTEND;TZID=Europe/Copenhagen:20241108T200000
DTSTAMP:20260422T203609
CREATED:20240930T074739Z
LAST-MODIFIED:20240930T074739Z
UID:6199-1731090600-1731096000@xn--klinkbyfllesside-1ob.dk
SUMMARY:LGF Herre senior
DESCRIPTION:
URL:https://xn--klinkbyfllesside-1ob.dk/event/lgf-herre-senior-2/2024-11-08/
LOCATION:Hallen\, Nejrupvej 2\, 7620 Lemvig\, Lemvig\, 7620\, Danmark
ORGANIZER;CN="LGF":MAILTO:lgf@lemviggf.dk
END:VEVENT
BEGIN:VEVENT
DTSTART;TZID=Europe/Copenhagen:20241107T163000
DTEND;TZID=Europe/Copenhagen:20241107T180000
DTSTAMP:20260422T203609
CREATED:20241001T112749Z
LAST-MODIFIED:20241001T112749Z
UID:6302-1730997000-1731002400@xn--klinkbyfllesside-1ob.dk
SUMMARY:LGF Fodbold U. 8 drenge
DESCRIPTION:
URL:https://xn--klinkbyfllesside-1ob.dk/event/lgf-fodbold-u-8-drenge-2/2024-11-07/
LOCATION:Hallen\, Nejrupvej 2\, 7620 Lemvig\, Lemvig\, 7620\, Danmark
ORGANIZER;CN="LGF":MAILTO:lgf@lemviggf.dk
END:VEVENT
BEGIN:VEVENT
DTSTART;TZID=Europe/Copenhagen:20241105T180000
DTEND;TZID=Europe/Copenhagen:20241105T193000
DTSTAMP:20260422T203609
CREATED:20240930T074626Z
LAST-MODIFIED:20240930T074626Z
UID:6391-1730829600-1730835000@xn--klinkbyfllesside-1ob.dk
SUMMARY:LGF Damer senior
DESCRIPTION:
URL:https://xn--klinkbyfllesside-1ob.dk/event/lgf-damer-senior/2024-11-05/
LOCATION:Hallen\, Nejrupvej 2\, 7620 Lemvig\, Lemvig\, 7620\, Danmark
ORGANIZER;CN="LGF":MAILTO:lgf@lemviggf.dk
END:VEVENT
BEGIN:VEVENT
DTSTART;TZID=Europe/Copenhagen:20241105T163000
DTEND;TZID=Europe/Copenhagen:20241105T180000
DTSTAMP:20260422T203609
CREATED:20241001T112646Z
LAST-MODIFIED:20241001T112646Z
UID:6278-1730824200-1730829600@xn--klinkbyfllesside-1ob.dk
SUMMARY:LGF fodbold U. 8 drenge
DESCRIPTION:
URL:https://xn--klinkbyfllesside-1ob.dk/event/lgf-fodbold-u-8-drenge/2024-11-05/
LOCATION:Hallen\, Nejrupvej 2\, 7620 Lemvig\, Lemvig\, 7620\, Danmark
ORGANIZER;CN="LGF":MAILTO:lgf@lemviggf.dk
END:VEVENT
BEGIN:VEVENT
DTSTART;TZID=Europe/Copenhagen:20241104T163000
DTEND;TZID=Europe/Copenhagen:20241104T180000
DTSTAMP:20260422T203609
CREATED:20241001T112538Z
LAST-MODIFIED:20241001T112538Z
UID:6253-1730737800-1730743200@xn--klinkbyfllesside-1ob.dk
SUMMARY:LGF Fodbold U. 9 og 10 piger
DESCRIPTION:
URL:https://xn--klinkbyfllesside-1ob.dk/event/lgf-fodbold-u-9-og-10-piger/2024-11-04/
LOCATION:Hallen\, Nejrupvej 2\, 7620 Lemvig\, Lemvig\, 7620\, Danmark
ORGANIZER;CN="LGF":MAILTO:lgf@lemviggf.dk
END:VEVENT
BEGIN:VEVENT
DTSTART;TZID=Europe/Copenhagen:20241101T183000
DTEND;TZID=Europe/Copenhagen:20241101T200000
DTSTAMP:20260422T203609
CREATED:20240930T074739Z
LAST-MODIFIED:20240930T074739Z
UID:6198-1730485800-1730491200@xn--klinkbyfllesside-1ob.dk
SUMMARY:LGF Herre senior
DESCRIPTION:
URL:https://xn--klinkbyfllesside-1ob.dk/event/lgf-herre-senior-2/2024-11-01/
LOCATION:Hallen\, Nejrupvej 2\, 7620 Lemvig\, Lemvig\, 7620\, Danmark
ORGANIZER;CN="LGF":MAILTO:lgf@lemviggf.dk
END:VEVENT
BEGIN:VEVENT
DTSTART;TZID=Europe/Copenhagen:20241031T163000
DTEND;TZID=Europe/Copenhagen:20241031T180000
DTSTAMP:20260422T203609
CREATED:20241001T112749Z
LAST-MODIFIED:20241001T112749Z
UID:6301-1730392200-1730397600@xn--klinkbyfllesside-1ob.dk
SUMMARY:LGF Fodbold U. 8 drenge
DESCRIPTION:
URL:https://xn--klinkbyfllesside-1ob.dk/event/lgf-fodbold-u-8-drenge-2/2024-10-31/
LOCATION:Hallen\, Nejrupvej 2\, 7620 Lemvig\, Lemvig\, 7620\, Danmark
ORGANIZER;CN="LGF":MAILTO:lgf@lemviggf.dk
END:VEVENT
BEGIN:VEVENT
DTSTART;TZID=Europe/Copenhagen:20241029T180000
DTEND;TZID=Europe/Copenhagen:20241029T193000
DTSTAMP:20260422T203609
CREATED:20240930T074626Z
LAST-MODIFIED:20240930T074626Z
UID:6390-1730224800-1730230200@xn--klinkbyfllesside-1ob.dk
SUMMARY:LGF Damer senior
DESCRIPTION:
URL:https://xn--klinkbyfllesside-1ob.dk/event/lgf-damer-senior/2024-10-29/
LOCATION:Hallen\, Nejrupvej 2\, 7620 Lemvig\, Lemvig\, 7620\, Danmark
ORGANIZER;CN="LGF":MAILTO:lgf@lemviggf.dk
END:VEVENT
BEGIN:VEVENT
DTSTART;TZID=Europe/Copenhagen:20241029T163000
DTEND;TZID=Europe/Copenhagen:20241029T180000
DTSTAMP:20260422T203609
CREATED:20241001T112646Z
LAST-MODIFIED:20241001T112646Z
UID:6277-1730219400-1730224800@xn--klinkbyfllesside-1ob.dk
SUMMARY:LGF fodbold U. 8 drenge
DESCRIPTION:
URL:https://xn--klinkbyfllesside-1ob.dk/event/lgf-fodbold-u-8-drenge/2024-10-29/
LOCATION:Hallen\, Nejrupvej 2\, 7620 Lemvig\, Lemvig\, 7620\, Danmark
ORGANIZER;CN="LGF":MAILTO:lgf@lemviggf.dk
END:VEVENT
BEGIN:VEVENT
DTSTART;TZID=Europe/Copenhagen:20241028T163000
DTEND;TZID=Europe/Copenhagen:20241028T180000
DTSTAMP:20260422T203609
CREATED:20241001T112538Z
LAST-MODIFIED:20241001T112538Z
UID:6252-1730133000-1730138400@xn--klinkbyfllesside-1ob.dk
SUMMARY:LGF Fodbold U. 9 og 10 piger
DESCRIPTION:
URL:https://xn--klinkbyfllesside-1ob.dk/event/lgf-fodbold-u-9-og-10-piger/2024-10-28/
LOCATION:Hallen\, Nejrupvej 2\, 7620 Lemvig\, Lemvig\, 7620\, Danmark
ORGANIZER;CN="LGF":MAILTO:lgf@lemviggf.dk
END:VEVENT
BEGIN:VEVENT
DTSTART;TZID=Europe/Copenhagen:20241025T183000
DTEND;TZID=Europe/Copenhagen:20241025T200000
DTSTAMP:20260422T203609
CREATED:20240930T074739Z
LAST-MODIFIED:20240930T074739Z
UID:6196-1729881000-1729886400@xn--klinkbyfllesside-1ob.dk
SUMMARY:LGF Herre senior
DESCRIPTION:
URL:https://xn--klinkbyfllesside-1ob.dk/event/lgf-herre-senior-2/2024-10-25/
LOCATION:Hallen\, Nejrupvej 2\, 7620 Lemvig\, Lemvig\, 7620\, Danmark
ORGANIZER;CN="LGF":MAILTO:lgf@lemviggf.dk
END:VEVENT
BEGIN:VEVENT
DTSTART;TZID=Europe/Copenhagen:20241024T163000
DTEND;TZID=Europe/Copenhagen:20241024T180000
DTSTAMP:20260422T203609
CREATED:20241001T112749Z
LAST-MODIFIED:20241001T112749Z
UID:6299-1729787400-1729792800@xn--klinkbyfllesside-1ob.dk
SUMMARY:LGF Fodbold U. 8 drenge
DESCRIPTION:
URL:https://xn--klinkbyfllesside-1ob.dk/event/lgf-fodbold-u-8-drenge-2/2024-10-24/
LOCATION:Hallen\, Nejrupvej 2\, 7620 Lemvig\, Lemvig\, 7620\, Danmark
ORGANIZER;CN="LGF":MAILTO:lgf@lemviggf.dk
END:VEVENT
BEGIN:VEVENT
DTSTART;TZID=Europe/Copenhagen:20241022T180000
DTEND;TZID=Europe/Copenhagen:20241022T193000
DTSTAMP:20260422T203609
CREATED:20240930T074626Z
LAST-MODIFIED:20241022T051425Z
UID:6171-1729620000-1729625400@xn--klinkbyfllesside-1ob.dk
SUMMARY:LGF Damer senior
DESCRIPTION:
URL:https://xn--klinkbyfllesside-1ob.dk/event/lgf-damer-senior/2024-10-22/
LOCATION:Hallen\, Nejrupvej 2\, 7620 Lemvig\, Lemvig\, 7620\, Danmark
ORGANIZER;CN="LGF":MAILTO:lgf@lemviggf.dk
END:VEVENT
BEGIN:VEVENT
DTSTART;TZID=Europe/Copenhagen:20241022T163000
DTEND;TZID=Europe/Copenhagen:20241022T180000
DTSTAMP:20260422T203609
CREATED:20241001T112646Z
LAST-MODIFIED:20241001T112646Z
UID:6275-1729614600-1729620000@xn--klinkbyfllesside-1ob.dk
SUMMARY:LGF fodbold U. 8 drenge
DESCRIPTION:
URL:https://xn--klinkbyfllesside-1ob.dk/event/lgf-fodbold-u-8-drenge/2024-10-22/
LOCATION:Hallen\, Nejrupvej 2\, 7620 Lemvig\, Lemvig\, 7620\, Danmark
ORGANIZER;CN="LGF":MAILTO:lgf@lemviggf.dk
END:VEVENT
BEGIN:VEVENT
DTSTART;TZID=Europe/Copenhagen:20241021T163000
DTEND;TZID=Europe/Copenhagen:20241021T180000
DTSTAMP:20260422T203609
CREATED:20241001T112538Z
LAST-MODIFIED:20241001T112538Z
UID:6250-1729528200-1729533600@xn--klinkbyfllesside-1ob.dk
SUMMARY:LGF Fodbold U. 9 og 10 piger
DESCRIPTION:
URL:https://xn--klinkbyfllesside-1ob.dk/event/lgf-fodbold-u-9-og-10-piger/2024-10-21/
LOCATION:Hallen\, Nejrupvej 2\, 7620 Lemvig\, Lemvig\, 7620\, Danmark
ORGANIZER;CN="LGF":MAILTO:lgf@lemviggf.dk
END:VEVENT
BEGIN:VEVENT
DTSTART;TZID=Europe/Copenhagen:20231114T160000
DTEND;TZID=Europe/Copenhagen:20231114T170000
DTSTAMP:20260422T203609
CREATED:20231113T081827Z
LAST-MODIFIED:20231113T081838Z
UID:4623-1699977600-1699981200@xn--klinkbyfllesside-1ob.dk
SUMMARY:Fodbold U. 8-9 piger LGF
DESCRIPTION:
URL:https://xn--klinkbyfllesside-1ob.dk/event/fodbold-u-8-9-piger-lgf/2023-11-14/
LOCATION:Hallen\, Nejrupvej 2\, 7620 Lemvig\, Lemvig\, 7620\, Danmark
ORGANIZER;CN="LGF":MAILTO:lgf@lemviggf.dk
END:VEVENT
BEGIN:VEVENT
DTSTART;TZID=Europe/Copenhagen:20231027T190000
DTEND;TZID=Europe/Copenhagen:20231027T210000
DTSTAMP:20260422T203609
CREATED:20230815T103607Z
LAST-MODIFIED:20230815T103607Z
UID:3607-1698433200-1698440400@xn--klinkbyfllesside-1ob.dk
SUMMARY:LGF herre senior
DESCRIPTION:
URL:https://xn--klinkbyfllesside-1ob.dk/event/lgf-herre-senior/2023-10-27/
LOCATION:Hallen\, Nejrupvej 2\, 7620 Lemvig\, Lemvig\, 7620\, Danmark
ORGANIZER;CN="LGF":MAILTO:lgf@lemviggf.dk
END:VEVENT
BEGIN:VEVENT
DTSTART;TZID=Europe/Copenhagen:20231026T160000
DTEND;TZID=Europe/Copenhagen:20231026T173000
DTSTAMP:20260422T203609
CREATED:20230930T151413Z
LAST-MODIFIED:20230930T151457Z
UID:4264-1698336000-1698341400@xn--klinkbyfllesside-1ob.dk
SUMMARY:Fodbold U.12 piger LGF
DESCRIPTION:
URL:https://xn--klinkbyfllesside-1ob.dk/event/fodbold-u-12-piger-lgf/2023-10-26/
LOCATION:Hallen\, Nejrupvej 2\, 7620 Lemvig\, Lemvig\, 7620\, Danmark
ORGANIZER;CN="LGF":MAILTO:lgf@lemviggf.dk
END:VEVENT
BEGIN:VEVENT
DTSTART;TZID=Europe/Copenhagen:20231025T180000
DTEND;TZID=Europe/Copenhagen:20231025T190000
DTSTAMP:20260422T203609
CREATED:20231023T102416Z
LAST-MODIFIED:20231023T103024Z
UID:4409-1698256800-1698260400@xn--klinkbyfllesside-1ob.dk
SUMMARY:Fodbold U.15 piger LGF
DESCRIPTION:
URL:https://xn--klinkbyfllesside-1ob.dk/event/fodbold-lgf-damer-senior/2023-10-25/
LOCATION:Hallen\, Nejrupvej 2\, 7620 Lemvig\, Lemvig\, 7620\, Danmark
ORGANIZER;CN="LGF":MAILTO:lgf@lemviggf.dk
END:VEVENT
BEGIN:VEVENT
DTSTART;TZID=Europe/Copenhagen:20231025T180000
DTEND;TZID=Europe/Copenhagen:20231025T190000
DTSTAMP:20260422T203609
CREATED:20230930T151223Z
LAST-MODIFIED:20230930T151223Z
UID:4240-1698256800-1698260400@xn--klinkbyfllesside-1ob.dk
SUMMARY:Fodbold U.15 piger LGF
DESCRIPTION:
URL:https://xn--klinkbyfllesside-1ob.dk/event/fodbold-u-15-piger-lgf/2023-10-25/
LOCATION:Hallen\, Nejrupvej 2\, 7620 Lemvig\, Lemvig\, 7620\, Danmark
ORGANIZER;CN="LGF":MAILTO:lgf@lemviggf.dk
END:VEVENT
BEGIN:VEVENT
DTSTART;TZID=Europe/Copenhagen:20231025T153000
DTEND;TZID=Europe/Copenhagen:20231025T164500
DTSTAMP:20260422T203609
CREATED:20230930T151038Z
LAST-MODIFIED:20230930T151038Z
UID:4216-1698247800-1698252300@xn--klinkbyfllesside-1ob.dk
SUMMARY:Fodbold U.13 piger LGF
DESCRIPTION:
URL:https://xn--klinkbyfllesside-1ob.dk/event/fodbold-u-13-piger-lgf/2023-10-25/
LOCATION:Hallen\, Nejrupvej 2\, 7620 Lemvig\, Lemvig\, 7620\, Danmark
ORGANIZER;CN="LGF":MAILTO:lgf@lemviggf.dk
END:VEVENT
BEGIN:VEVENT
DTSTART;TZID=Europe/Copenhagen:20231024T183000
DTEND;TZID=Europe/Copenhagen:20231024T200000
DTSTAMP:20260422T203609
CREATED:20230815T103712Z
LAST-MODIFIED:20230815T103712Z
UID:3628-1698172200-1698177600@xn--klinkbyfllesside-1ob.dk
SUMMARY:LGF Dame senior
DESCRIPTION:
URL:https://xn--klinkbyfllesside-1ob.dk/event/lgf-dame-senior/2023-10-24/
LOCATION:Hallen\, Nejrupvej 2\, 7620 Lemvig\, Lemvig\, 7620\, Danmark
ORGANIZER;CN="LGF":MAILTO:lgf@lemviggf.dk
END:VEVENT
BEGIN:VEVENT
DTSTART;TZID=Europe/Copenhagen:20231024T170000
DTEND;TZID=Europe/Copenhagen:20231024T183000
DTSTAMP:20260422T203609
CREATED:20230930T150855Z
LAST-MODIFIED:20230930T150855Z
UID:4192-1698166800-1698172200@xn--klinkbyfllesside-1ob.dk
SUMMARY:Fodbold U.12 drenge LGF
DESCRIPTION:
URL:https://xn--klinkbyfllesside-1ob.dk/event/fodbold-u-12-drenge-lgf/2023-10-24/
LOCATION:Hallen\, Nejrupvej 2\, 7620 Lemvig\, Lemvig\, 7620\, Danmark
ORGANIZER;CN="LGF":MAILTO:lgf@lemviggf.dk
END:VEVENT
BEGIN:VEVENT
DTSTART;TZID=Europe/Copenhagen:20231023T170000
DTEND;TZID=Europe/Copenhagen:20231023T183000
DTSTAMP:20260422T203609
CREATED:20231023T102248Z
LAST-MODIFIED:20231023T102248Z
UID:4388-1698080400-1698085800@xn--klinkbyfllesside-1ob.dk
SUMMARY:Fodbold U.12 drenge LGF
DESCRIPTION:
URL:https://xn--klinkbyfllesside-1ob.dk/event/fodbold-u-12-drenge-lgf-2/2023-10-23/
LOCATION:Hallen\, Nejrupvej 2\, 7620 Lemvig\, Lemvig\, 7620\, Danmark
ORGANIZER;CN="LGF":MAILTO:lgf@lemviggf.dk
END:VEVENT
END:VCALENDAR