BEGIN:VCALENDAR
VERSION:2.0
PRODID:-//Klinkby Alt i Et Huset - ECPv5.16.3.1//NONSGML v1.0//EN
CALSCALE:GREGORIAN
METHOD:PUBLISH
X-ORIGINAL-URL:https://xn--klinkbyfllesside-1ob.dk
X-WR-CALDESC:Begivenheder for Klinkby Alt i Et Huset
REFRESH-INTERVAL;VALUE=DURATION:PT1H
X-Robots-Tag:noindex
X-PUBLISHED-TTL:PT1H
BEGIN:VTIMEZONE
TZID:Europe/Copenhagen
BEGIN:DAYLIGHT
TZOFFSETFROM:+0100
TZOFFSETTO:+0200
TZNAME:CEST
DTSTART:20240331T010000
END:DAYLIGHT
BEGIN:STANDARD
TZOFFSETFROM:+0200
TZOFFSETTO:+0100
TZNAME:CET
DTSTART:20241027T010000
END:STANDARD
BEGIN:DAYLIGHT
TZOFFSETFROM:+0100
TZOFFSETTO:+0200
TZNAME:CEST
DTSTART:20250330T010000
END:DAYLIGHT
BEGIN:STANDARD
TZOFFSETFROM:+0200
TZOFFSETTO:+0100
TZNAME:CET
DTSTART:20251026T010000
END:STANDARD
END:VTIMEZONE
BEGIN:VEVENT
DTSTART;TZID=Europe/Copenhagen:20250210T163000
DTEND;TZID=Europe/Copenhagen:20250210T180000
DTSTAMP:20260420T092034
CREATED:20241001T112538Z
LAST-MODIFIED:20241001T112538Z
UID:6267-1739205000-1739210400@xn--klinkbyfllesside-1ob.dk
SUMMARY:LGF Fodbold U. 9 og 10 piger
DESCRIPTION:
URL:https://xn--klinkbyfllesside-1ob.dk/event/lgf-fodbold-u-9-og-10-piger/2025-02-10/
LOCATION:Hallen\, Nejrupvej 2\, 7620 Lemvig\, Lemvig\, 7620\, Danmark
ORGANIZER;CN="LGF":MAILTO:lgf@lemviggf.dk
END:VEVENT
BEGIN:VEVENT
DTSTART;TZID=Europe/Copenhagen:20250207T183000
DTEND;TZID=Europe/Copenhagen:20250207T200000
DTSTAMP:20260420T092034
CREATED:20240930T074739Z
LAST-MODIFIED:20240930T074739Z
UID:6212-1738953000-1738958400@xn--klinkbyfllesside-1ob.dk
SUMMARY:LGF Herre senior
DESCRIPTION:
URL:https://xn--klinkbyfllesside-1ob.dk/event/lgf-herre-senior-2/2025-02-07/
LOCATION:Hallen\, Nejrupvej 2\, 7620 Lemvig\, Lemvig\, 7620\, Danmark
ORGANIZER;CN="LGF":MAILTO:lgf@lemviggf.dk
END:VEVENT
BEGIN:VEVENT
DTSTART;TZID=Europe/Copenhagen:20250206T163000
DTEND;TZID=Europe/Copenhagen:20250206T180000
DTSTAMP:20260420T092034
CREATED:20241001T112749Z
LAST-MODIFIED:20241001T112749Z
UID:6315-1738859400-1738864800@xn--klinkbyfllesside-1ob.dk
SUMMARY:LGF Fodbold U. 8 drenge
DESCRIPTION:
URL:https://xn--klinkbyfllesside-1ob.dk/event/lgf-fodbold-u-8-drenge-2/2025-02-06/
LOCATION:Hallen\, Nejrupvej 2\, 7620 Lemvig\, Lemvig\, 7620\, Danmark
ORGANIZER;CN="LGF":MAILTO:lgf@lemviggf.dk
END:VEVENT
BEGIN:VEVENT
DTSTART;TZID=Europe/Copenhagen:20250204T180000
DTEND;TZID=Europe/Copenhagen:20250204T193000
DTSTAMP:20260420T092034
CREATED:20240930T074626Z
LAST-MODIFIED:20240930T074626Z
UID:6404-1738692000-1738697400@xn--klinkbyfllesside-1ob.dk
SUMMARY:LGF Damer senior
DESCRIPTION:
URL:https://xn--klinkbyfllesside-1ob.dk/event/lgf-damer-senior/2025-02-04/
LOCATION:Hallen\, Nejrupvej 2\, 7620 Lemvig\, Lemvig\, 7620\, Danmark
ORGANIZER;CN="LGF":MAILTO:lgf@lemviggf.dk
END:VEVENT
BEGIN:VEVENT
DTSTART;TZID=Europe/Copenhagen:20250204T163000
DTEND;TZID=Europe/Copenhagen:20250204T180000
DTSTAMP:20260420T092034
CREATED:20241001T112646Z
LAST-MODIFIED:20241001T112646Z
UID:6291-1738686600-1738692000@xn--klinkbyfllesside-1ob.dk
SUMMARY:LGF fodbold U. 8 drenge
DESCRIPTION:
URL:https://xn--klinkbyfllesside-1ob.dk/event/lgf-fodbold-u-8-drenge/2025-02-04/
LOCATION:Hallen\, Nejrupvej 2\, 7620 Lemvig\, Lemvig\, 7620\, Danmark
ORGANIZER;CN="LGF":MAILTO:lgf@lemviggf.dk
END:VEVENT
BEGIN:VEVENT
DTSTART;TZID=Europe/Copenhagen:20250203T163000
DTEND;TZID=Europe/Copenhagen:20250203T180000
DTSTAMP:20260420T092034
CREATED:20241001T112538Z
LAST-MODIFIED:20241001T112538Z
UID:6266-1738600200-1738605600@xn--klinkbyfllesside-1ob.dk
SUMMARY:LGF Fodbold U. 9 og 10 piger
DESCRIPTION:
URL:https://xn--klinkbyfllesside-1ob.dk/event/lgf-fodbold-u-9-og-10-piger/2025-02-03/
LOCATION:Hallen\, Nejrupvej 2\, 7620 Lemvig\, Lemvig\, 7620\, Danmark
ORGANIZER;CN="LGF":MAILTO:lgf@lemviggf.dk
END:VEVENT
BEGIN:VEVENT
DTSTART;TZID=Europe/Copenhagen:20250131T183000
DTEND;TZID=Europe/Copenhagen:20250131T200000
DTSTAMP:20260420T092034
CREATED:20240930T074739Z
LAST-MODIFIED:20240930T074739Z
UID:6211-1738348200-1738353600@xn--klinkbyfllesside-1ob.dk
SUMMARY:LGF Herre senior
DESCRIPTION:
URL:https://xn--klinkbyfllesside-1ob.dk/event/lgf-herre-senior-2/2025-01-31/
LOCATION:Hallen\, Nejrupvej 2\, 7620 Lemvig\, Lemvig\, 7620\, Danmark
ORGANIZER;CN="LGF":MAILTO:lgf@lemviggf.dk
END:VEVENT
BEGIN:VEVENT
DTSTART;TZID=Europe/Copenhagen:20250130T163000
DTEND;TZID=Europe/Copenhagen:20250130T180000
DTSTAMP:20260420T092034
CREATED:20241001T112749Z
LAST-MODIFIED:20241001T112749Z
UID:6314-1738254600-1738260000@xn--klinkbyfllesside-1ob.dk
SUMMARY:LGF Fodbold U. 8 drenge
DESCRIPTION:
URL:https://xn--klinkbyfllesside-1ob.dk/event/lgf-fodbold-u-8-drenge-2/2025-01-30/
LOCATION:Hallen\, Nejrupvej 2\, 7620 Lemvig\, Lemvig\, 7620\, Danmark
ORGANIZER;CN="LGF":MAILTO:lgf@lemviggf.dk
END:VEVENT
BEGIN:VEVENT
DTSTART;TZID=Europe/Copenhagen:20250128T180000
DTEND;TZID=Europe/Copenhagen:20250128T193000
DTSTAMP:20260420T092034
CREATED:20240930T074626Z
LAST-MODIFIED:20240930T074626Z
UID:6403-1738087200-1738092600@xn--klinkbyfllesside-1ob.dk
SUMMARY:LGF Damer senior
DESCRIPTION:
URL:https://xn--klinkbyfllesside-1ob.dk/event/lgf-damer-senior/2025-01-28/
LOCATION:Hallen\, Nejrupvej 2\, 7620 Lemvig\, Lemvig\, 7620\, Danmark
ORGANIZER;CN="LGF":MAILTO:lgf@lemviggf.dk
END:VEVENT
BEGIN:VEVENT
DTSTART;TZID=Europe/Copenhagen:20250128T163000
DTEND;TZID=Europe/Copenhagen:20250128T180000
DTSTAMP:20260420T092034
CREATED:20241001T112646Z
LAST-MODIFIED:20241001T112646Z
UID:6290-1738081800-1738087200@xn--klinkbyfllesside-1ob.dk
SUMMARY:LGF fodbold U. 8 drenge
DESCRIPTION:
URL:https://xn--klinkbyfllesside-1ob.dk/event/lgf-fodbold-u-8-drenge/2025-01-28/
LOCATION:Hallen\, Nejrupvej 2\, 7620 Lemvig\, Lemvig\, 7620\, Danmark
ORGANIZER;CN="LGF":MAILTO:lgf@lemviggf.dk
END:VEVENT
BEGIN:VEVENT
DTSTART;TZID=Europe/Copenhagen:20250127T163000
DTEND;TZID=Europe/Copenhagen:20250127T180000
DTSTAMP:20260420T092034
CREATED:20241001T112538Z
LAST-MODIFIED:20241001T112538Z
UID:6265-1737995400-1738000800@xn--klinkbyfllesside-1ob.dk
SUMMARY:LGF Fodbold U. 9 og 10 piger
DESCRIPTION:
URL:https://xn--klinkbyfllesside-1ob.dk/event/lgf-fodbold-u-9-og-10-piger/2025-01-27/
LOCATION:Hallen\, Nejrupvej 2\, 7620 Lemvig\, Lemvig\, 7620\, Danmark
ORGANIZER;CN="LGF":MAILTO:lgf@lemviggf.dk
END:VEVENT
BEGIN:VEVENT
DTSTART;TZID=Europe/Copenhagen:20250124T183000
DTEND;TZID=Europe/Copenhagen:20250124T200000
DTSTAMP:20260420T092034
CREATED:20240930T074739Z
LAST-MODIFIED:20240930T074739Z
UID:6210-1737743400-1737748800@xn--klinkbyfllesside-1ob.dk
SUMMARY:LGF Herre senior
DESCRIPTION:
URL:https://xn--klinkbyfllesside-1ob.dk/event/lgf-herre-senior-2/2025-01-24/
LOCATION:Hallen\, Nejrupvej 2\, 7620 Lemvig\, Lemvig\, 7620\, Danmark
ORGANIZER;CN="LGF":MAILTO:lgf@lemviggf.dk
END:VEVENT
BEGIN:VEVENT
DTSTART;TZID=Europe/Copenhagen:20250123T163000
DTEND;TZID=Europe/Copenhagen:20250123T180000
DTSTAMP:20260420T092034
CREATED:20241001T112749Z
LAST-MODIFIED:20241001T112749Z
UID:6313-1737649800-1737655200@xn--klinkbyfllesside-1ob.dk
SUMMARY:LGF Fodbold U. 8 drenge
DESCRIPTION:
URL:https://xn--klinkbyfllesside-1ob.dk/event/lgf-fodbold-u-8-drenge-2/2025-01-23/
LOCATION:Hallen\, Nejrupvej 2\, 7620 Lemvig\, Lemvig\, 7620\, Danmark
ORGANIZER;CN="LGF":MAILTO:lgf@lemviggf.dk
END:VEVENT
BEGIN:VEVENT
DTSTART;TZID=Europe/Copenhagen:20250121T180000
DTEND;TZID=Europe/Copenhagen:20250121T193000
DTSTAMP:20260420T092034
CREATED:20240930T074626Z
LAST-MODIFIED:20240930T074626Z
UID:6402-1737482400-1737487800@xn--klinkbyfllesside-1ob.dk
SUMMARY:LGF Damer senior
DESCRIPTION:
URL:https://xn--klinkbyfllesside-1ob.dk/event/lgf-damer-senior/2025-01-21/
LOCATION:Hallen\, Nejrupvej 2\, 7620 Lemvig\, Lemvig\, 7620\, Danmark
ORGANIZER;CN="LGF":MAILTO:lgf@lemviggf.dk
END:VEVENT
BEGIN:VEVENT
DTSTART;TZID=Europe/Copenhagen:20250121T163000
DTEND;TZID=Europe/Copenhagen:20250121T180000
DTSTAMP:20260420T092034
CREATED:20241001T112646Z
LAST-MODIFIED:20241001T112646Z
UID:6289-1737477000-1737482400@xn--klinkbyfllesside-1ob.dk
SUMMARY:LGF fodbold U. 8 drenge
DESCRIPTION:
URL:https://xn--klinkbyfllesside-1ob.dk/event/lgf-fodbold-u-8-drenge/2025-01-21/
LOCATION:Hallen\, Nejrupvej 2\, 7620 Lemvig\, Lemvig\, 7620\, Danmark
ORGANIZER;CN="LGF":MAILTO:lgf@lemviggf.dk
END:VEVENT
BEGIN:VEVENT
DTSTART;TZID=Europe/Copenhagen:20250120T163000
DTEND;TZID=Europe/Copenhagen:20250120T180000
DTSTAMP:20260420T092034
CREATED:20241001T112538Z
LAST-MODIFIED:20241001T112538Z
UID:6264-1737390600-1737396000@xn--klinkbyfllesside-1ob.dk
SUMMARY:LGF Fodbold U. 9 og 10 piger
DESCRIPTION:
URL:https://xn--klinkbyfllesside-1ob.dk/event/lgf-fodbold-u-9-og-10-piger/2025-01-20/
LOCATION:Hallen\, Nejrupvej 2\, 7620 Lemvig\, Lemvig\, 7620\, Danmark
ORGANIZER;CN="LGF":MAILTO:lgf@lemviggf.dk
END:VEVENT
BEGIN:VEVENT
DTSTART;TZID=Europe/Copenhagen:20250117T183000
DTEND;TZID=Europe/Copenhagen:20250117T200000
DTSTAMP:20260420T092034
CREATED:20240930T074739Z
LAST-MODIFIED:20240930T074739Z
UID:6209-1737138600-1737144000@xn--klinkbyfllesside-1ob.dk
SUMMARY:LGF Herre senior
DESCRIPTION:
URL:https://xn--klinkbyfllesside-1ob.dk/event/lgf-herre-senior-2/2025-01-17/
LOCATION:Hallen\, Nejrupvej 2\, 7620 Lemvig\, Lemvig\, 7620\, Danmark
ORGANIZER;CN="LGF":MAILTO:lgf@lemviggf.dk
END:VEVENT
BEGIN:VEVENT
DTSTART;TZID=Europe/Copenhagen:20250116T163000
DTEND;TZID=Europe/Copenhagen:20250116T180000
DTSTAMP:20260420T092034
CREATED:20241001T112749Z
LAST-MODIFIED:20241001T112749Z
UID:6312-1737045000-1737050400@xn--klinkbyfllesside-1ob.dk
SUMMARY:LGF Fodbold U. 8 drenge
DESCRIPTION:
URL:https://xn--klinkbyfllesside-1ob.dk/event/lgf-fodbold-u-8-drenge-2/2025-01-16/
LOCATION:Hallen\, Nejrupvej 2\, 7620 Lemvig\, Lemvig\, 7620\, Danmark
ORGANIZER;CN="LGF":MAILTO:lgf@lemviggf.dk
END:VEVENT
BEGIN:VEVENT
DTSTART;TZID=Europe/Copenhagen:20250114T180000
DTEND;TZID=Europe/Copenhagen:20250114T193000
DTSTAMP:20260420T092034
CREATED:20240930T074626Z
LAST-MODIFIED:20240930T074626Z
UID:6401-1736877600-1736883000@xn--klinkbyfllesside-1ob.dk
SUMMARY:LGF Damer senior
DESCRIPTION:
URL:https://xn--klinkbyfllesside-1ob.dk/event/lgf-damer-senior/2025-01-14/
LOCATION:Hallen\, Nejrupvej 2\, 7620 Lemvig\, Lemvig\, 7620\, Danmark
ORGANIZER;CN="LGF":MAILTO:lgf@lemviggf.dk
END:VEVENT
BEGIN:VEVENT
DTSTART;TZID=Europe/Copenhagen:20250114T163000
DTEND;TZID=Europe/Copenhagen:20250114T180000
DTSTAMP:20260420T092034
CREATED:20241001T112646Z
LAST-MODIFIED:20241001T112646Z
UID:6288-1736872200-1736877600@xn--klinkbyfllesside-1ob.dk
SUMMARY:LGF fodbold U. 8 drenge
DESCRIPTION:
URL:https://xn--klinkbyfllesside-1ob.dk/event/lgf-fodbold-u-8-drenge/2025-01-14/
LOCATION:Hallen\, Nejrupvej 2\, 7620 Lemvig\, Lemvig\, 7620\, Danmark
ORGANIZER;CN="LGF":MAILTO:lgf@lemviggf.dk
END:VEVENT
BEGIN:VEVENT
DTSTART;TZID=Europe/Copenhagen:20250113T163000
DTEND;TZID=Europe/Copenhagen:20250113T180000
DTSTAMP:20260420T092034
CREATED:20241001T112538Z
LAST-MODIFIED:20241001T112538Z
UID:6263-1736785800-1736791200@xn--klinkbyfllesside-1ob.dk
SUMMARY:LGF Fodbold U. 9 og 10 piger
DESCRIPTION:
URL:https://xn--klinkbyfllesside-1ob.dk/event/lgf-fodbold-u-9-og-10-piger/2025-01-13/
LOCATION:Hallen\, Nejrupvej 2\, 7620 Lemvig\, Lemvig\, 7620\, Danmark
ORGANIZER;CN="LGF":MAILTO:lgf@lemviggf.dk
END:VEVENT
BEGIN:VEVENT
DTSTART;TZID=Europe/Copenhagen:20250110T183000
DTEND;TZID=Europe/Copenhagen:20250110T200000
DTSTAMP:20260420T092034
CREATED:20240930T074739Z
LAST-MODIFIED:20240930T074739Z
UID:6208-1736533800-1736539200@xn--klinkbyfllesside-1ob.dk
SUMMARY:LGF Herre senior
DESCRIPTION:
URL:https://xn--klinkbyfllesside-1ob.dk/event/lgf-herre-senior-2/2025-01-10/
LOCATION:Hallen\, Nejrupvej 2\, 7620 Lemvig\, Lemvig\, 7620\, Danmark
ORGANIZER;CN="LGF":MAILTO:lgf@lemviggf.dk
END:VEVENT
BEGIN:VEVENT
DTSTART;TZID=Europe/Copenhagen:20250109T163000
DTEND;TZID=Europe/Copenhagen:20250109T180000
DTSTAMP:20260420T092034
CREATED:20241001T112749Z
LAST-MODIFIED:20241001T112749Z
UID:6311-1736440200-1736445600@xn--klinkbyfllesside-1ob.dk
SUMMARY:LGF Fodbold U. 8 drenge
DESCRIPTION:
URL:https://xn--klinkbyfllesside-1ob.dk/event/lgf-fodbold-u-8-drenge-2/2025-01-09/
LOCATION:Hallen\, Nejrupvej 2\, 7620 Lemvig\, Lemvig\, 7620\, Danmark
ORGANIZER;CN="LGF":MAILTO:lgf@lemviggf.dk
END:VEVENT
BEGIN:VEVENT
DTSTART;TZID=Europe/Copenhagen:20250107T180000
DTEND;TZID=Europe/Copenhagen:20250107T193000
DTSTAMP:20260420T092034
CREATED:20240930T074626Z
LAST-MODIFIED:20240930T074626Z
UID:6400-1736272800-1736278200@xn--klinkbyfllesside-1ob.dk
SUMMARY:LGF Damer senior
DESCRIPTION:
URL:https://xn--klinkbyfllesside-1ob.dk/event/lgf-damer-senior/2025-01-07/
LOCATION:Hallen\, Nejrupvej 2\, 7620 Lemvig\, Lemvig\, 7620\, Danmark
ORGANIZER;CN="LGF":MAILTO:lgf@lemviggf.dk
END:VEVENT
BEGIN:VEVENT
DTSTART;TZID=Europe/Copenhagen:20250107T163000
DTEND;TZID=Europe/Copenhagen:20250107T180000
DTSTAMP:20260420T092034
CREATED:20241001T112646Z
LAST-MODIFIED:20241001T112646Z
UID:6287-1736267400-1736272800@xn--klinkbyfllesside-1ob.dk
SUMMARY:LGF fodbold U. 8 drenge
DESCRIPTION:
URL:https://xn--klinkbyfllesside-1ob.dk/event/lgf-fodbold-u-8-drenge/2025-01-07/
LOCATION:Hallen\, Nejrupvej 2\, 7620 Lemvig\, Lemvig\, 7620\, Danmark
ORGANIZER;CN="LGF":MAILTO:lgf@lemviggf.dk
END:VEVENT
BEGIN:VEVENT
DTSTART;TZID=Europe/Copenhagen:20250106T163000
DTEND;TZID=Europe/Copenhagen:20250106T180000
DTSTAMP:20260420T092034
CREATED:20241001T112538Z
LAST-MODIFIED:20241001T112538Z
UID:6262-1736181000-1736186400@xn--klinkbyfllesside-1ob.dk
SUMMARY:LGF Fodbold U. 9 og 10 piger
DESCRIPTION:
URL:https://xn--klinkbyfllesside-1ob.dk/event/lgf-fodbold-u-9-og-10-piger/2025-01-06/
LOCATION:Hallen\, Nejrupvej 2\, 7620 Lemvig\, Lemvig\, 7620\, Danmark
ORGANIZER;CN="LGF":MAILTO:lgf@lemviggf.dk
END:VEVENT
BEGIN:VEVENT
DTSTART;TZID=Europe/Copenhagen:20250103T183000
DTEND;TZID=Europe/Copenhagen:20250103T200000
DTSTAMP:20260420T092034
CREATED:20240930T074739Z
LAST-MODIFIED:20240930T074739Z
UID:6207-1735929000-1735934400@xn--klinkbyfllesside-1ob.dk
SUMMARY:LGF Herre senior
DESCRIPTION:
URL:https://xn--klinkbyfllesside-1ob.dk/event/lgf-herre-senior-2/2025-01-03/
LOCATION:Hallen\, Nejrupvej 2\, 7620 Lemvig\, Lemvig\, 7620\, Danmark
ORGANIZER;CN="LGF":MAILTO:lgf@lemviggf.dk
END:VEVENT
BEGIN:VEVENT
DTSTART;TZID=Europe/Copenhagen:20250102T163000
DTEND;TZID=Europe/Copenhagen:20250102T180000
DTSTAMP:20260420T092034
CREATED:20241001T112749Z
LAST-MODIFIED:20241001T112749Z
UID:6310-1735835400-1735840800@xn--klinkbyfllesside-1ob.dk
SUMMARY:LGF Fodbold U. 8 drenge
DESCRIPTION:
URL:https://xn--klinkbyfllesside-1ob.dk/event/lgf-fodbold-u-8-drenge-2/2025-01-02/
LOCATION:Hallen\, Nejrupvej 2\, 7620 Lemvig\, Lemvig\, 7620\, Danmark
ORGANIZER;CN="LGF":MAILTO:lgf@lemviggf.dk
END:VEVENT
BEGIN:VEVENT
DTSTART;TZID=Europe/Copenhagen:20241231T180000
DTEND;TZID=Europe/Copenhagen:20241231T193000
DTSTAMP:20260420T092034
CREATED:20240930T074626Z
LAST-MODIFIED:20240930T074626Z
UID:6399-1735668000-1735673400@xn--klinkbyfllesside-1ob.dk
SUMMARY:LGF Damer senior
DESCRIPTION:
URL:https://xn--klinkbyfllesside-1ob.dk/event/lgf-damer-senior/2024-12-31/
LOCATION:Hallen\, Nejrupvej 2\, 7620 Lemvig\, Lemvig\, 7620\, Danmark
ORGANIZER;CN="LGF":MAILTO:lgf@lemviggf.dk
END:VEVENT
BEGIN:VEVENT
DTSTART;TZID=Europe/Copenhagen:20241231T163000
DTEND;TZID=Europe/Copenhagen:20241231T180000
DTSTAMP:20260420T092034
CREATED:20241001T112646Z
LAST-MODIFIED:20241001T112646Z
UID:6286-1735662600-1735668000@xn--klinkbyfllesside-1ob.dk
SUMMARY:LGF fodbold U. 8 drenge
DESCRIPTION:
URL:https://xn--klinkbyfllesside-1ob.dk/event/lgf-fodbold-u-8-drenge/2024-12-31/
LOCATION:Hallen\, Nejrupvej 2\, 7620 Lemvig\, Lemvig\, 7620\, Danmark
ORGANIZER;CN="LGF":MAILTO:lgf@lemviggf.dk
END:VEVENT
END:VCALENDAR