BEGIN:VCALENDAR
VERSION:2.0
PRODID:-//Klinkby Alt i Et Huset - ECPv5.16.3.1//NONSGML v1.0//EN
CALSCALE:GREGORIAN
METHOD:PUBLISH
X-WR-CALNAME:Klinkby Alt i Et Huset
X-ORIGINAL-URL:https://xn--klinkbyfllesside-1ob.dk
X-WR-CALDESC:Begivenheder for Klinkby Alt i Et Huset
REFRESH-INTERVAL;VALUE=DURATION:PT1H
X-Robots-Tag:noindex
X-PUBLISHED-TTL:PT1H
BEGIN:VTIMEZONE
TZID:Europe/Copenhagen
BEGIN:DAYLIGHT
TZOFFSETFROM:+0100
TZOFFSETTO:+0200
TZNAME:CEST
DTSTART:20250330T010000
END:DAYLIGHT
BEGIN:STANDARD
TZOFFSETFROM:+0200
TZOFFSETTO:+0100
TZNAME:CET
DTSTART:20251026T010000
END:STANDARD
END:VTIMEZONE
BEGIN:VEVENT
DTSTART;TZID=Europe/Copenhagen:20250324T163000
DTEND;TZID=Europe/Copenhagen:20250324T180000
DTSTAMP:20260420T042737
CREATED:20241001T112538Z
LAST-MODIFIED:20241001T112538Z
UID:6273-1742833800-1742839200@xn--klinkbyfllesside-1ob.dk
SUMMARY:LGF Fodbold U. 9 og 10 piger
DESCRIPTION:
URL:https://xn--klinkbyfllesside-1ob.dk/event/lgf-fodbold-u-9-og-10-piger/2025-03-24/
LOCATION:Hallen\, Nejrupvej 2\, 7620 Lemvig\, Lemvig\, 7620\, Danmark
ORGANIZER;CN="LGF":MAILTO:lgf@lemviggf.dk
END:VEVENT
BEGIN:VEVENT
DTSTART;TZID=Europe/Copenhagen:20250321T183000
DTEND;TZID=Europe/Copenhagen:20250321T200000
DTSTAMP:20260420T042737
CREATED:20240930T074739Z
LAST-MODIFIED:20240930T074739Z
UID:6218-1742581800-1742587200@xn--klinkbyfllesside-1ob.dk
SUMMARY:LGF Herre senior
DESCRIPTION:
URL:https://xn--klinkbyfllesside-1ob.dk/event/lgf-herre-senior-2/2025-03-21/
LOCATION:Hallen\, Nejrupvej 2\, 7620 Lemvig\, Lemvig\, 7620\, Danmark
ORGANIZER;CN="LGF":MAILTO:lgf@lemviggf.dk
END:VEVENT
BEGIN:VEVENT
DTSTART;TZID=Europe/Copenhagen:20250320T163000
DTEND;TZID=Europe/Copenhagen:20250320T180000
DTSTAMP:20260420T042737
CREATED:20241001T112749Z
LAST-MODIFIED:20241001T112749Z
UID:6321-1742488200-1742493600@xn--klinkbyfllesside-1ob.dk
SUMMARY:LGF Fodbold U. 8 drenge
DESCRIPTION:
URL:https://xn--klinkbyfllesside-1ob.dk/event/lgf-fodbold-u-8-drenge-2/2025-03-20/
LOCATION:Hallen\, Nejrupvej 2\, 7620 Lemvig\, Lemvig\, 7620\, Danmark
ORGANIZER;CN="LGF":MAILTO:lgf@lemviggf.dk
END:VEVENT
BEGIN:VEVENT
DTSTART;TZID=Europe/Copenhagen:20250318T180000
DTEND;TZID=Europe/Copenhagen:20250318T193000
DTSTAMP:20260420T042737
CREATED:20240930T074626Z
LAST-MODIFIED:20240930T074626Z
UID:6410-1742320800-1742326200@xn--klinkbyfllesside-1ob.dk
SUMMARY:LGF Damer senior
DESCRIPTION:
URL:https://xn--klinkbyfllesside-1ob.dk/event/lgf-damer-senior/2025-03-18/
LOCATION:Hallen\, Nejrupvej 2\, 7620 Lemvig\, Lemvig\, 7620\, Danmark
ORGANIZER;CN="LGF":MAILTO:lgf@lemviggf.dk
END:VEVENT
BEGIN:VEVENT
DTSTART;TZID=Europe/Copenhagen:20250318T163000
DTEND;TZID=Europe/Copenhagen:20250318T180000
DTSTAMP:20260420T042737
CREATED:20241001T112646Z
LAST-MODIFIED:20241001T112646Z
UID:6297-1742315400-1742320800@xn--klinkbyfllesside-1ob.dk
SUMMARY:LGF fodbold U. 8 drenge
DESCRIPTION:
URL:https://xn--klinkbyfllesside-1ob.dk/event/lgf-fodbold-u-8-drenge/2025-03-18/
LOCATION:Hallen\, Nejrupvej 2\, 7620 Lemvig\, Lemvig\, 7620\, Danmark
ORGANIZER;CN="LGF":MAILTO:lgf@lemviggf.dk
END:VEVENT
BEGIN:VEVENT
DTSTART;TZID=Europe/Copenhagen:20250317T163000
DTEND;TZID=Europe/Copenhagen:20250317T180000
DTSTAMP:20260420T042737
CREATED:20241001T112538Z
LAST-MODIFIED:20241001T112538Z
UID:6272-1742229000-1742234400@xn--klinkbyfllesside-1ob.dk
SUMMARY:LGF Fodbold U. 9 og 10 piger
DESCRIPTION:
URL:https://xn--klinkbyfllesside-1ob.dk/event/lgf-fodbold-u-9-og-10-piger/2025-03-17/
LOCATION:Hallen\, Nejrupvej 2\, 7620 Lemvig\, Lemvig\, 7620\, Danmark
ORGANIZER;CN="LGF":MAILTO:lgf@lemviggf.dk
END:VEVENT
BEGIN:VEVENT
DTSTART;TZID=Europe/Copenhagen:20250314T183000
DTEND;TZID=Europe/Copenhagen:20250314T200000
DTSTAMP:20260420T042737
CREATED:20240930T074739Z
LAST-MODIFIED:20240930T074739Z
UID:6217-1741977000-1741982400@xn--klinkbyfllesside-1ob.dk
SUMMARY:LGF Herre senior
DESCRIPTION:
URL:https://xn--klinkbyfllesside-1ob.dk/event/lgf-herre-senior-2/2025-03-14/
LOCATION:Hallen\, Nejrupvej 2\, 7620 Lemvig\, Lemvig\, 7620\, Danmark
ORGANIZER;CN="LGF":MAILTO:lgf@lemviggf.dk
END:VEVENT
BEGIN:VEVENT
DTSTART;TZID=Europe/Copenhagen:20250313T163000
DTEND;TZID=Europe/Copenhagen:20250313T180000
DTSTAMP:20260420T042737
CREATED:20241001T112749Z
LAST-MODIFIED:20241001T112749Z
UID:6320-1741883400-1741888800@xn--klinkbyfllesside-1ob.dk
SUMMARY:LGF Fodbold U. 8 drenge
DESCRIPTION:
URL:https://xn--klinkbyfllesside-1ob.dk/event/lgf-fodbold-u-8-drenge-2/2025-03-13/
LOCATION:Hallen\, Nejrupvej 2\, 7620 Lemvig\, Lemvig\, 7620\, Danmark
ORGANIZER;CN="LGF":MAILTO:lgf@lemviggf.dk
END:VEVENT
BEGIN:VEVENT
DTSTART;TZID=Europe/Copenhagen:20250311T180000
DTEND;TZID=Europe/Copenhagen:20250311T193000
DTSTAMP:20260420T042737
CREATED:20240930T074626Z
LAST-MODIFIED:20240930T074626Z
UID:6409-1741716000-1741721400@xn--klinkbyfllesside-1ob.dk
SUMMARY:LGF Damer senior
DESCRIPTION:
URL:https://xn--klinkbyfllesside-1ob.dk/event/lgf-damer-senior/2025-03-11/
LOCATION:Hallen\, Nejrupvej 2\, 7620 Lemvig\, Lemvig\, 7620\, Danmark
ORGANIZER;CN="LGF":MAILTO:lgf@lemviggf.dk
END:VEVENT
BEGIN:VEVENT
DTSTART;TZID=Europe/Copenhagen:20250311T163000
DTEND;TZID=Europe/Copenhagen:20250311T180000
DTSTAMP:20260420T042737
CREATED:20241001T112646Z
LAST-MODIFIED:20241001T112646Z
UID:6296-1741710600-1741716000@xn--klinkbyfllesside-1ob.dk
SUMMARY:LGF fodbold U. 8 drenge
DESCRIPTION:
URL:https://xn--klinkbyfllesside-1ob.dk/event/lgf-fodbold-u-8-drenge/2025-03-11/
LOCATION:Hallen\, Nejrupvej 2\, 7620 Lemvig\, Lemvig\, 7620\, Danmark
ORGANIZER;CN="LGF":MAILTO:lgf@lemviggf.dk
END:VEVENT
BEGIN:VEVENT
DTSTART;TZID=Europe/Copenhagen:20250310T163000
DTEND;TZID=Europe/Copenhagen:20250310T180000
DTSTAMP:20260420T042737
CREATED:20241001T112538Z
LAST-MODIFIED:20241001T112538Z
UID:6271-1741624200-1741629600@xn--klinkbyfllesside-1ob.dk
SUMMARY:LGF Fodbold U. 9 og 10 piger
DESCRIPTION:
URL:https://xn--klinkbyfllesside-1ob.dk/event/lgf-fodbold-u-9-og-10-piger/2025-03-10/
LOCATION:Hallen\, Nejrupvej 2\, 7620 Lemvig\, Lemvig\, 7620\, Danmark
ORGANIZER;CN="LGF":MAILTO:lgf@lemviggf.dk
END:VEVENT
BEGIN:VEVENT
DTSTART;TZID=Europe/Copenhagen:20250307T183000
DTEND;TZID=Europe/Copenhagen:20250307T200000
DTSTAMP:20260420T042737
CREATED:20240930T074739Z
LAST-MODIFIED:20240930T074739Z
UID:6216-1741372200-1741377600@xn--klinkbyfllesside-1ob.dk
SUMMARY:LGF Herre senior
DESCRIPTION:
URL:https://xn--klinkbyfllesside-1ob.dk/event/lgf-herre-senior-2/2025-03-07/
LOCATION:Hallen\, Nejrupvej 2\, 7620 Lemvig\, Lemvig\, 7620\, Danmark
ORGANIZER;CN="LGF":MAILTO:lgf@lemviggf.dk
END:VEVENT
BEGIN:VEVENT
DTSTART;TZID=Europe/Copenhagen:20250306T163000
DTEND;TZID=Europe/Copenhagen:20250306T180000
DTSTAMP:20260420T042737
CREATED:20241001T112749Z
LAST-MODIFIED:20241001T112749Z
UID:6319-1741278600-1741284000@xn--klinkbyfllesside-1ob.dk
SUMMARY:LGF Fodbold U. 8 drenge
DESCRIPTION:
URL:https://xn--klinkbyfllesside-1ob.dk/event/lgf-fodbold-u-8-drenge-2/2025-03-06/
LOCATION:Hallen\, Nejrupvej 2\, 7620 Lemvig\, Lemvig\, 7620\, Danmark
ORGANIZER;CN="LGF":MAILTO:lgf@lemviggf.dk
END:VEVENT
BEGIN:VEVENT
DTSTART;TZID=Europe/Copenhagen:20250304T180000
DTEND;TZID=Europe/Copenhagen:20250304T193000
DTSTAMP:20260420T042737
CREATED:20240930T074626Z
LAST-MODIFIED:20240930T074626Z
UID:6408-1741111200-1741116600@xn--klinkbyfllesside-1ob.dk
SUMMARY:LGF Damer senior
DESCRIPTION:
URL:https://xn--klinkbyfllesside-1ob.dk/event/lgf-damer-senior/2025-03-04/
LOCATION:Hallen\, Nejrupvej 2\, 7620 Lemvig\, Lemvig\, 7620\, Danmark
ORGANIZER;CN="LGF":MAILTO:lgf@lemviggf.dk
END:VEVENT
BEGIN:VEVENT
DTSTART;TZID=Europe/Copenhagen:20250304T163000
DTEND;TZID=Europe/Copenhagen:20250304T180000
DTSTAMP:20260420T042737
CREATED:20241001T112646Z
LAST-MODIFIED:20241001T112646Z
UID:6295-1741105800-1741111200@xn--klinkbyfllesside-1ob.dk
SUMMARY:LGF fodbold U. 8 drenge
DESCRIPTION:
URL:https://xn--klinkbyfllesside-1ob.dk/event/lgf-fodbold-u-8-drenge/2025-03-04/
LOCATION:Hallen\, Nejrupvej 2\, 7620 Lemvig\, Lemvig\, 7620\, Danmark
ORGANIZER;CN="LGF":MAILTO:lgf@lemviggf.dk
END:VEVENT
BEGIN:VEVENT
DTSTART;TZID=Europe/Copenhagen:20250303T163000
DTEND;TZID=Europe/Copenhagen:20250303T180000
DTSTAMP:20260420T042737
CREATED:20241001T112538Z
LAST-MODIFIED:20241001T112538Z
UID:6270-1741019400-1741024800@xn--klinkbyfllesside-1ob.dk
SUMMARY:LGF Fodbold U. 9 og 10 piger
DESCRIPTION:
URL:https://xn--klinkbyfllesside-1ob.dk/event/lgf-fodbold-u-9-og-10-piger/2025-03-03/
LOCATION:Hallen\, Nejrupvej 2\, 7620 Lemvig\, Lemvig\, 7620\, Danmark
ORGANIZER;CN="LGF":MAILTO:lgf@lemviggf.dk
END:VEVENT
BEGIN:VEVENT
DTSTART;TZID=Europe/Copenhagen:20250228T183000
DTEND;TZID=Europe/Copenhagen:20250228T200000
DTSTAMP:20260420T042737
CREATED:20240930T074739Z
LAST-MODIFIED:20240930T074739Z
UID:6215-1740767400-1740772800@xn--klinkbyfllesside-1ob.dk
SUMMARY:LGF Herre senior
DESCRIPTION:
URL:https://xn--klinkbyfllesside-1ob.dk/event/lgf-herre-senior-2/2025-02-28/
LOCATION:Hallen\, Nejrupvej 2\, 7620 Lemvig\, Lemvig\, 7620\, Danmark
ORGANIZER;CN="LGF":MAILTO:lgf@lemviggf.dk
END:VEVENT
BEGIN:VEVENT
DTSTART;TZID=Europe/Copenhagen:20250227T163000
DTEND;TZID=Europe/Copenhagen:20250227T180000
DTSTAMP:20260420T042737
CREATED:20241001T112749Z
LAST-MODIFIED:20241001T112749Z
UID:6318-1740673800-1740679200@xn--klinkbyfllesside-1ob.dk
SUMMARY:LGF Fodbold U. 8 drenge
DESCRIPTION:
URL:https://xn--klinkbyfllesside-1ob.dk/event/lgf-fodbold-u-8-drenge-2/2025-02-27/
LOCATION:Hallen\, Nejrupvej 2\, 7620 Lemvig\, Lemvig\, 7620\, Danmark
ORGANIZER;CN="LGF":MAILTO:lgf@lemviggf.dk
END:VEVENT
BEGIN:VEVENT
DTSTART;TZID=Europe/Copenhagen:20250225T180000
DTEND;TZID=Europe/Copenhagen:20250225T193000
DTSTAMP:20260420T042737
CREATED:20240930T074626Z
LAST-MODIFIED:20240930T074626Z
UID:6407-1740506400-1740511800@xn--klinkbyfllesside-1ob.dk
SUMMARY:LGF Damer senior
DESCRIPTION:
URL:https://xn--klinkbyfllesside-1ob.dk/event/lgf-damer-senior/2025-02-25/
LOCATION:Hallen\, Nejrupvej 2\, 7620 Lemvig\, Lemvig\, 7620\, Danmark
ORGANIZER;CN="LGF":MAILTO:lgf@lemviggf.dk
END:VEVENT
BEGIN:VEVENT
DTSTART;TZID=Europe/Copenhagen:20250225T163000
DTEND;TZID=Europe/Copenhagen:20250225T180000
DTSTAMP:20260420T042737
CREATED:20241001T112646Z
LAST-MODIFIED:20241001T112646Z
UID:6294-1740501000-1740506400@xn--klinkbyfllesside-1ob.dk
SUMMARY:LGF fodbold U. 8 drenge
DESCRIPTION:
URL:https://xn--klinkbyfllesside-1ob.dk/event/lgf-fodbold-u-8-drenge/2025-02-25/
LOCATION:Hallen\, Nejrupvej 2\, 7620 Lemvig\, Lemvig\, 7620\, Danmark
ORGANIZER;CN="LGF":MAILTO:lgf@lemviggf.dk
END:VEVENT
BEGIN:VEVENT
DTSTART;TZID=Europe/Copenhagen:20250224T163000
DTEND;TZID=Europe/Copenhagen:20250224T180000
DTSTAMP:20260420T042737
CREATED:20241001T112538Z
LAST-MODIFIED:20241001T112538Z
UID:6269-1740414600-1740420000@xn--klinkbyfllesside-1ob.dk
SUMMARY:LGF Fodbold U. 9 og 10 piger
DESCRIPTION:
URL:https://xn--klinkbyfllesside-1ob.dk/event/lgf-fodbold-u-9-og-10-piger/2025-02-24/
LOCATION:Hallen\, Nejrupvej 2\, 7620 Lemvig\, Lemvig\, 7620\, Danmark
ORGANIZER;CN="LGF":MAILTO:lgf@lemviggf.dk
END:VEVENT
BEGIN:VEVENT
DTSTART;TZID=Europe/Copenhagen:20250221T183000
DTEND;TZID=Europe/Copenhagen:20250221T200000
DTSTAMP:20260420T042737
CREATED:20240930T074739Z
LAST-MODIFIED:20240930T074739Z
UID:6214-1740162600-1740168000@xn--klinkbyfllesside-1ob.dk
SUMMARY:LGF Herre senior
DESCRIPTION:
URL:https://xn--klinkbyfllesside-1ob.dk/event/lgf-herre-senior-2/2025-02-21/
LOCATION:Hallen\, Nejrupvej 2\, 7620 Lemvig\, Lemvig\, 7620\, Danmark
ORGANIZER;CN="LGF":MAILTO:lgf@lemviggf.dk
END:VEVENT
BEGIN:VEVENT
DTSTART;TZID=Europe/Copenhagen:20250220T163000
DTEND;TZID=Europe/Copenhagen:20250220T180000
DTSTAMP:20260420T042737
CREATED:20241001T112749Z
LAST-MODIFIED:20241001T112749Z
UID:6317-1740069000-1740074400@xn--klinkbyfllesside-1ob.dk
SUMMARY:LGF Fodbold U. 8 drenge
DESCRIPTION:
URL:https://xn--klinkbyfllesside-1ob.dk/event/lgf-fodbold-u-8-drenge-2/2025-02-20/
LOCATION:Hallen\, Nejrupvej 2\, 7620 Lemvig\, Lemvig\, 7620\, Danmark
ORGANIZER;CN="LGF":MAILTO:lgf@lemviggf.dk
END:VEVENT
BEGIN:VEVENT
DTSTART;TZID=Europe/Copenhagen:20250218T180000
DTEND;TZID=Europe/Copenhagen:20250218T193000
DTSTAMP:20260420T042737
CREATED:20240930T074626Z
LAST-MODIFIED:20240930T074626Z
UID:6406-1739901600-1739907000@xn--klinkbyfllesside-1ob.dk
SUMMARY:LGF Damer senior
DESCRIPTION:
URL:https://xn--klinkbyfllesside-1ob.dk/event/lgf-damer-senior/2025-02-18/
LOCATION:Hallen\, Nejrupvej 2\, 7620 Lemvig\, Lemvig\, 7620\, Danmark
ORGANIZER;CN="LGF":MAILTO:lgf@lemviggf.dk
END:VEVENT
BEGIN:VEVENT
DTSTART;TZID=Europe/Copenhagen:20250218T163000
DTEND;TZID=Europe/Copenhagen:20250218T180000
DTSTAMP:20260420T042737
CREATED:20241001T112646Z
LAST-MODIFIED:20241001T112646Z
UID:6293-1739896200-1739901600@xn--klinkbyfllesside-1ob.dk
SUMMARY:LGF fodbold U. 8 drenge
DESCRIPTION:
URL:https://xn--klinkbyfllesside-1ob.dk/event/lgf-fodbold-u-8-drenge/2025-02-18/
LOCATION:Hallen\, Nejrupvej 2\, 7620 Lemvig\, Lemvig\, 7620\, Danmark
ORGANIZER;CN="LGF":MAILTO:lgf@lemviggf.dk
END:VEVENT
BEGIN:VEVENT
DTSTART;TZID=Europe/Copenhagen:20250217T163000
DTEND;TZID=Europe/Copenhagen:20250217T180000
DTSTAMP:20260420T042737
CREATED:20241001T112538Z
LAST-MODIFIED:20241001T112538Z
UID:6268-1739809800-1739815200@xn--klinkbyfllesside-1ob.dk
SUMMARY:LGF Fodbold U. 9 og 10 piger
DESCRIPTION:
URL:https://xn--klinkbyfllesside-1ob.dk/event/lgf-fodbold-u-9-og-10-piger/2025-02-17/
LOCATION:Hallen\, Nejrupvej 2\, 7620 Lemvig\, Lemvig\, 7620\, Danmark
ORGANIZER;CN="LGF":MAILTO:lgf@lemviggf.dk
END:VEVENT
BEGIN:VEVENT
DTSTART;TZID=Europe/Copenhagen:20250214T183000
DTEND;TZID=Europe/Copenhagen:20250214T200000
DTSTAMP:20260420T042737
CREATED:20240930T074739Z
LAST-MODIFIED:20240930T074739Z
UID:6213-1739557800-1739563200@xn--klinkbyfllesside-1ob.dk
SUMMARY:LGF Herre senior
DESCRIPTION:
URL:https://xn--klinkbyfllesside-1ob.dk/event/lgf-herre-senior-2/2025-02-14/
LOCATION:Hallen\, Nejrupvej 2\, 7620 Lemvig\, Lemvig\, 7620\, Danmark
ORGANIZER;CN="LGF":MAILTO:lgf@lemviggf.dk
END:VEVENT
BEGIN:VEVENT
DTSTART;TZID=Europe/Copenhagen:20250213T163000
DTEND;TZID=Europe/Copenhagen:20250213T180000
DTSTAMP:20260420T042737
CREATED:20241001T112749Z
LAST-MODIFIED:20241001T112749Z
UID:6316-1739464200-1739469600@xn--klinkbyfllesside-1ob.dk
SUMMARY:LGF Fodbold U. 8 drenge
DESCRIPTION:
URL:https://xn--klinkbyfllesside-1ob.dk/event/lgf-fodbold-u-8-drenge-2/2025-02-13/
LOCATION:Hallen\, Nejrupvej 2\, 7620 Lemvig\, Lemvig\, 7620\, Danmark
ORGANIZER;CN="LGF":MAILTO:lgf@lemviggf.dk
END:VEVENT
BEGIN:VEVENT
DTSTART;TZID=Europe/Copenhagen:20250211T180000
DTEND;TZID=Europe/Copenhagen:20250211T193000
DTSTAMP:20260420T042737
CREATED:20240930T074626Z
LAST-MODIFIED:20240930T074626Z
UID:6405-1739296800-1739302200@xn--klinkbyfllesside-1ob.dk
SUMMARY:LGF Damer senior
DESCRIPTION:
URL:https://xn--klinkbyfllesside-1ob.dk/event/lgf-damer-senior/2025-02-11/
LOCATION:Hallen\, Nejrupvej 2\, 7620 Lemvig\, Lemvig\, 7620\, Danmark
ORGANIZER;CN="LGF":MAILTO:lgf@lemviggf.dk
END:VEVENT
BEGIN:VEVENT
DTSTART;TZID=Europe/Copenhagen:20250211T163000
DTEND;TZID=Europe/Copenhagen:20250211T180000
DTSTAMP:20260420T042737
CREATED:20241001T112646Z
LAST-MODIFIED:20241001T112646Z
UID:6292-1739291400-1739296800@xn--klinkbyfllesside-1ob.dk
SUMMARY:LGF fodbold U. 8 drenge
DESCRIPTION:
URL:https://xn--klinkbyfllesside-1ob.dk/event/lgf-fodbold-u-8-drenge/2025-02-11/
LOCATION:Hallen\, Nejrupvej 2\, 7620 Lemvig\, Lemvig\, 7620\, Danmark
ORGANIZER;CN="LGF":MAILTO:lgf@lemviggf.dk
END:VEVENT
END:VCALENDAR